BEGIN:VCALENDAR
PRODID:-//WikiCFP//liuqun 1.0//EN
VERSION:2.0
CALSCALE:GREGORIAN
BEGIN:VEVENT
DTSTAMP:20260424T230107Z
DTSTART;VALUE=DATE:20170904
DTEND;VALUE=DATE:20170906
SUMMARY:MLP 2017
DESCRIPTION:The First Workshop on Multi-Language Processing in a Globalis
 ing World
URL:http://www.wikicfp.com/cfp/servlet/event.showcfp?eventid=64550&copyow
 nerid=99679
UID:cfp669362-E@wikicfp.com
END:VEVENT
BEGIN:VEVENT
DTSTAMP:20260424T230107Z
DTSTART;VALUE=DATE:20170630
SUMMARY:MLP 2017 Deadline
DESCRIPTION:The First Workshop on Multi-Language Processing in a Globalis
 ing World
URL:http://www.wikicfp.com/cfp/servlet/event.showcfp?eventid=64550&copyow
 nerid=99679
UID:cfp669362-D@wikicfp.com
END:VEVENT
BEGIN:VEVENT
DTSTAMP:20260424T230107Z
DTSTART;VALUE=DATE:20170720
SUMMARY:MLP 2017 Notification Due
DESCRIPTION:The First Workshop on Multi-Language Processing in a Globalis
 ing World
URL:http://www.wikicfp.com/cfp/servlet/event.showcfp?eventid=64550&copyow
 nerid=99679
UID:cfp669362-N@wikicfp.com
END:VEVENT
BEGIN:VEVENT
DTSTAMP:20260424T230107Z
DTSTART;VALUE=DATE:20170805
SUMMARY:MLP 2017 Final Version Due
DESCRIPTION:The First Workshop on Multi-Language Processing in a Globalis
 ing World
URL:http://www.wikicfp.com/cfp/servlet/event.showcfp?eventid=64550&copyow
 nerid=99679
UID:cfp669362-N@wikicfp.com
END:VEVENT
END:VCALENDAR
