BEGIN:VCALENDAR
PRODID:-//WikiCFP//2ndggong 1.0//EN
VERSION:2.0
CALSCALE:GREGORIAN
BEGIN:VEVENT
DTSTAMP:20260421T153109Z
DTSTART;VALUE=DATE:20181130
DTEND;VALUE=DATE:20181204
SUMMARY:TAAI 2018
DESCRIPTION:The 2018 Conference on Technologies and Applications of Artif
 icial Intelligence
URL:http://www.wikicfp.com/cfp/servlet/event.showcfp?eventid=78440&copyow
 nerid=99653
UID:cfp742501-E@wikicfp.com
END:VEVENT
BEGIN:VEVENT
DTSTAMP:20260421T153109Z
DTSTART;VALUE=DATE:20180920
SUMMARY:TAAI 2018 Deadline
DESCRIPTION:The 2018 Conference on Technologies and Applications of Artif
 icial Intelligence
URL:http://www.wikicfp.com/cfp/servlet/event.showcfp?eventid=78440&copyow
 nerid=99653
UID:cfp742501-D@wikicfp.com
END:VEVENT
BEGIN:VEVENT
DTSTAMP:20260421T153109Z
DTSTART;VALUE=DATE:20181007
SUMMARY:TAAI 2018 Notification Due
DESCRIPTION:The 2018 Conference on Technologies and Applications of Artif
 icial Intelligence
URL:http://www.wikicfp.com/cfp/servlet/event.showcfp?eventid=78440&copyow
 nerid=99653
UID:cfp742501-N@wikicfp.com
END:VEVENT
BEGIN:VEVENT
DTSTAMP:20260421T153109Z
DTSTART;VALUE=DATE:20181020
SUMMARY:TAAI 2018 Final Version Due
DESCRIPTION:The 2018 Conference on Technologies and Applications of Artif
 icial Intelligence
URL:http://www.wikicfp.com/cfp/servlet/event.showcfp?eventid=78440&copyow
 nerid=99653
UID:cfp742501-N@wikicfp.com
END:VEVENT
BEGIN:VEVENT
DTSTAMP:20260421T153109Z
DTSTART;VALUE=DATE:20190310
DTEND;VALUE=DATE:20190315
SUMMARY:CHIIR 2019
DESCRIPTION:ACM SIGIR Conference on Human Computer Interaction and Retrie
 val
URL:http://www.wikicfp.com/cfp/servlet/event.showcfp?eventid=78360&copyow
 nerid=99653
UID:cfp742513-E@wikicfp.com
END:VEVENT
BEGIN:VEVENT
DTSTAMP:20260421T153109Z
DTSTART;VALUE=DATE:20180924
SUMMARY:CHIIR 2019 Deadline
DESCRIPTION:ACM SIGIR Conference on Human Computer Interaction and Retrie
 val
URL:http://www.wikicfp.com/cfp/servlet/event.showcfp?eventid=78360&copyow
 nerid=99653
UID:cfp742513-D@wikicfp.com
END:VEVENT
BEGIN:VEVENT
DTSTAMP:20260421T153109Z
DTSTART;VALUE=DATE:20181109
SUMMARY:CHIIR 2019 Notification Due
DESCRIPTION:ACM SIGIR Conference on Human Computer Interaction and Retrie
 val
URL:http://www.wikicfp.com/cfp/servlet/event.showcfp?eventid=78360&copyow
 nerid=99653
UID:cfp742513-N@wikicfp.com
END:VEVENT
BEGIN:VEVENT
DTSTAMP:20260421T153109Z
DTSTART;VALUE=DATE:20181130
SUMMARY:CHIIR 2019 Final Version Due
DESCRIPTION:ACM SIGIR Conference on Human Computer Interaction and Retrie
 val
URL:http://www.wikicfp.com/cfp/servlet/event.showcfp?eventid=78360&copyow
 nerid=99653
UID:cfp742513-N@wikicfp.com
END:VEVENT
BEGIN:VEVENT
DTSTAMP:20260421T153109Z
DTSTART;VALUE=DATE:20190311
DTEND;VALUE=DATE:20190315
SUMMARY:HRI 2019
DESCRIPTION:14th Annual Conference on Human-Robot Interaction
URL:http://www.wikicfp.com/cfp/servlet/event.showcfp?eventid=74263&copyow
 nerid=99653
UID:cfp742511-E@wikicfp.com
END:VEVENT
BEGIN:VEVENT
DTSTAMP:20260421T153109Z
DTSTART;VALUE=DATE:20181001
SUMMARY:HRI 2019 Deadline
DESCRIPTION:14th Annual Conference on Human-Robot Interaction
URL:http://www.wikicfp.com/cfp/servlet/event.showcfp?eventid=74263&copyow
 nerid=99653
UID:cfp742511-D@wikicfp.com
END:VEVENT
BEGIN:VEVENT
DTSTAMP:20260421T153109Z
DTSTART;VALUE=DATE:20181121
SUMMARY:HRI 2019 Notification Due
DESCRIPTION:14th Annual Conference on Human-Robot Interaction
URL:http://www.wikicfp.com/cfp/servlet/event.showcfp?eventid=74263&copyow
 nerid=99653
UID:cfp742511-N@wikicfp.com
END:VEVENT
BEGIN:VEVENT
DTSTAMP:20260421T153109Z
DTSTART;VALUE=DATE:20190107
SUMMARY:HRI 2019 Final Version Due
DESCRIPTION:14th Annual Conference on Human-Robot Interaction
URL:http://www.wikicfp.com/cfp/servlet/event.showcfp?eventid=74263&copyow
 nerid=99653
UID:cfp742511-N@wikicfp.com
END:VEVENT
BEGIN:VEVENT
DTSTAMP:20260421T153109Z
DTSTART;VALUE=DATE:20190225
DTEND;VALUE=DATE:20190228
SUMMARY:HUCAPP 2019
DESCRIPTION:3rd International Conference on Human Computer Interaction Th
 eory and Applications
URL:http://www.wikicfp.com/cfp/servlet/event.showcfp?eventid=77848&copyow
 nerid=99653
UID:cfp742512-E@wikicfp.com
END:VEVENT
BEGIN:VEVENT
DTSTAMP:20260421T153109Z
DTSTART;VALUE=DATE:20181001
SUMMARY:HUCAPP 2019 Deadline
DESCRIPTION:3rd International Conference on Human Computer Interaction Th
 eory and Applications
URL:http://www.wikicfp.com/cfp/servlet/event.showcfp?eventid=77848&copyow
 nerid=99653
UID:cfp742512-D@wikicfp.com
END:VEVENT
BEGIN:VEVENT
DTSTAMP:20260421T153109Z
DTSTART;VALUE=DATE:20181129
SUMMARY:HUCAPP 2019 Notification Due
DESCRIPTION:3rd International Conference on Human Computer Interaction Th
 eory and Applications
URL:http://www.wikicfp.com/cfp/servlet/event.showcfp?eventid=77848&copyow
 nerid=99653
UID:cfp742512-N@wikicfp.com
END:VEVENT
BEGIN:VEVENT
DTSTAMP:20260421T153109Z
DTSTART;VALUE=DATE:20181213
SUMMARY:HUCAPP 2019 Final Version Due
DESCRIPTION:3rd International Conference on Human Computer Interaction Th
 eory and Applications
URL:http://www.wikicfp.com/cfp/servlet/event.showcfp?eventid=77848&copyow
 nerid=99653
UID:cfp742512-N@wikicfp.com
END:VEVENT
BEGIN:VEVENT
DTSTAMP:20260421T153109Z
DTSTART;VALUE=DATE:20190529
DTEND;VALUE=DATE:20190601
SUMMARY:ICSE SEET 2019
DESCRIPTION:ICSE Software Engineering Education and Training 2019
URL:http://www.wikicfp.com/cfp/servlet/event.showcfp?eventid=79222&copyow
 nerid=99653
UID:cfp742616-E@wikicfp.com
END:VEVENT
BEGIN:VEVENT
DTSTAMP:20260421T153109Z
DTSTART;VALUE=DATE:20181001
SUMMARY:ICSE SEET 2019 Deadline
DESCRIPTION:ICSE Software Engineering Education and Training 2019
URL:http://www.wikicfp.com/cfp/servlet/event.showcfp?eventid=79222&copyow
 nerid=99653
UID:cfp742616-D@wikicfp.com
END:VEVENT
BEGIN:VEVENT
DTSTAMP:20260421T153109Z
DTSTART;VALUE=DATE:20181217
SUMMARY:ICSE SEET 2019 Notification Due
DESCRIPTION:ICSE Software Engineering Education and Training 2019
URL:http://www.wikicfp.com/cfp/servlet/event.showcfp?eventid=79222&copyow
 nerid=99653
UID:cfp742616-N@wikicfp.com
END:VEVENT
BEGIN:VEVENT
DTSTAMP:20260421T153109Z
DTSTART;VALUE=DATE:20190215
SUMMARY:ICSE SEET 2019 Final Version Due
DESCRIPTION:ICSE Software Engineering Education and Training 2019
URL:http://www.wikicfp.com/cfp/servlet/event.showcfp?eventid=79222&copyow
 nerid=99653
UID:cfp742616-N@wikicfp.com
END:VEVENT
BEGIN:VEVENT
DTSTAMP:20260421T153109Z
DTSTART;VALUE=DATE:20190416
DTEND;VALUE=DATE:20190419
SUMMARY:AISTATS 2019
DESCRIPTION:The 22nd International Conference on  Artificial Intelligence
  and Statistics
URL:http://www.wikicfp.com/cfp/servlet/event.showcfp?eventid=78518&copyow
 nerid=99653
UID:cfp742619-E@wikicfp.com
END:VEVENT
BEGIN:VEVENT
DTSTAMP:20260421T153109Z
DTSTART;VALUE=DATE:20181004
SUMMARY:AISTATS 2019 Deadline
DESCRIPTION:The 22nd International Conference on  Artificial Intelligence
  and Statistics
URL:http://www.wikicfp.com/cfp/servlet/event.showcfp?eventid=78518&copyow
 nerid=99653
UID:cfp742619-D@wikicfp.com
END:VEVENT
BEGIN:VEVENT
DTSTAMP:20260421T153109Z
DTSTART;VALUE=DATE:20181224
SUMMARY:AISTATS 2019 Notification Due
DESCRIPTION:The 22nd International Conference on  Artificial Intelligence
  and Statistics
URL:http://www.wikicfp.com/cfp/servlet/event.showcfp?eventid=78518&copyow
 nerid=99653
UID:cfp742619-N@wikicfp.com
END:VEVENT
BEGIN:VEVENT
DTSTAMP:20260421T153109Z
DTSTART;VALUE=DATE:20190316
SUMMARY:AISTATS 2019 Final Version Due
DESCRIPTION:The 22nd International Conference on  Artificial Intelligence
  and Statistics
URL:http://www.wikicfp.com/cfp/servlet/event.showcfp?eventid=78518&copyow
 nerid=99653
UID:cfp742619-N@wikicfp.com
END:VEVENT
BEGIN:VEVENT
DTSTAMP:20260421T153109Z
DTSTART;VALUE=DATE:20190502
DTEND;VALUE=DATE:20190505
SUMMARY:CSEDU 2019
DESCRIPTION:11th International Conference on Computer Supported Education
 
URL:http://www.wikicfp.com/cfp/servlet/event.showcfp?eventid=79275&copyow
 nerid=99653
UID:cfp742506-E@wikicfp.com
END:VEVENT
BEGIN:VEVENT
DTSTAMP:20260421T153109Z
DTSTART;VALUE=DATE:20181210
SUMMARY:CSEDU 2019 Deadline
DESCRIPTION:11th International Conference on Computer Supported Education
 
URL:http://www.wikicfp.com/cfp/servlet/event.showcfp?eventid=79275&copyow
 nerid=99653
UID:cfp742506-D@wikicfp.com
END:VEVENT
BEGIN:VEVENT
DTSTAMP:20260421T153109Z
DTSTART;VALUE=DATE:20190207
SUMMARY:CSEDU 2019 Notification Due
DESCRIPTION:11th International Conference on Computer Supported Education
 
URL:http://www.wikicfp.com/cfp/servlet/event.showcfp?eventid=79275&copyow
 nerid=99653
UID:cfp742506-N@wikicfp.com
END:VEVENT
BEGIN:VEVENT
DTSTAMP:20260421T153109Z
DTSTART;VALUE=DATE:20190221
SUMMARY:CSEDU 2019 Final Version Due
DESCRIPTION:11th International Conference on Computer Supported Education
 
URL:http://www.wikicfp.com/cfp/servlet/event.showcfp?eventid=79275&copyow
 nerid=99653
UID:cfp742506-N@wikicfp.com
END:VEVENT
BEGIN:VEVENT
DTSTAMP:20260421T153109Z
DTSTART;VALUE=DATE:20190330
DTEND;VALUE=DATE:20190402
SUMMARY:ACM--ICBDE--Ei Compendex and Scopus 2019
DESCRIPTION:ACM--2019 2nd International Conference on Big Data and Educat
 ion (ICBDE 2019)--Ei Compendex and Scopus
URL:http://www.wikicfp.com/cfp/servlet/event.showcfp?eventid=77515&copyow
 nerid=99653
UID:cfp742505-E@wikicfp.com
END:VEVENT
BEGIN:VEVENT
DTSTAMP:20260421T153109Z
DTSTART;VALUE=DATE:20190131
SUMMARY:ACM--ICBDE--Ei Compendex and Scopus 2019 Deadline
DESCRIPTION:ACM--2019 2nd International Conference on Big Data and Educat
 ion (ICBDE 2019)--Ei Compendex and Scopus
URL:http://www.wikicfp.com/cfp/servlet/event.showcfp?eventid=77515&copyow
 nerid=99653
UID:cfp742505-D@wikicfp.com
END:VEVENT
BEGIN:VEVENT
DTSTAMP:20260421T153109Z
DTSTART;VALUE=DATE:20221223
DTEND;VALUE=DATE:20221225
SUMMARY:AIAA  2022
DESCRIPTION:12th International Conference on Artificial Intelligence\, So
 ft Computing and Applications
URL:http://www.wikicfp.com/cfp/servlet/event.showcfp?eventid=76317&copyow
 nerid=99653
UID:cfp742500-E@wikicfp.com
END:VEVENT
BEGIN:VEVENT
DTSTAMP:20260421T153109Z
DTSTART;VALUE=DATE:20221203
SUMMARY:AIAA  2022 Deadline
DESCRIPTION:12th International Conference on Artificial Intelligence\, So
 ft Computing and Applications
URL:http://www.wikicfp.com/cfp/servlet/event.showcfp?eventid=76317&copyow
 nerid=99653
UID:cfp742500-D@wikicfp.com
END:VEVENT
BEGIN:VEVENT
DTSTAMP:20260421T153109Z
DTSTART;VALUE=DATE:20221216
SUMMARY:AIAA  2022 Notification Due
DESCRIPTION:12th International Conference on Artificial Intelligence\, So
 ft Computing and Applications
URL:http://www.wikicfp.com/cfp/servlet/event.showcfp?eventid=76317&copyow
 nerid=99653
UID:cfp742500-N@wikicfp.com
END:VEVENT
BEGIN:VEVENT
DTSTAMP:20260421T153109Z
DTSTART;VALUE=DATE:20221219
SUMMARY:AIAA  2022 Final Version Due
DESCRIPTION:12th International Conference on Artificial Intelligence\, So
 ft Computing and Applications
URL:http://www.wikicfp.com/cfp/servlet/event.showcfp?eventid=76317&copyow
 nerid=99653
UID:cfp742500-N@wikicfp.com
END:VEVENT
END:VCALENDAR
