BEGIN:VCALENDAR
PRODID:-//WikiCFP//good92489 1.0//EN
VERSION:2.0
CALSCALE:GREGORIAN
BEGIN:VEVENT
DTSTAMP:20260424T192212Z
DTSTART;VALUE=DATE:20170612
DTEND;VALUE=DATE:20170615
SUMMARY:ICCS 2017
DESCRIPTION:International Conference on Computational Science
URL:http://www.wikicfp.com/cfp/servlet/event.showcfp?eventid=59892&copyow
 nerid=99379
UID:cfp666947-E@wikicfp.com
END:VEVENT
BEGIN:VEVENT
DTSTAMP:20260424T192212Z
DTSTART;VALUE=DATE:20170131
SUMMARY:ICCS 2017 Deadline
DESCRIPTION:International Conference on Computational Science
URL:http://www.wikicfp.com/cfp/servlet/event.showcfp?eventid=59892&copyow
 nerid=99379
UID:cfp666947-D@wikicfp.com
END:VEVENT
BEGIN:VEVENT
DTSTAMP:20260424T192212Z
DTSTART;VALUE=DATE:20170310
SUMMARY:ICCS 2017 Notification Due
DESCRIPTION:International Conference on Computational Science
URL:http://www.wikicfp.com/cfp/servlet/event.showcfp?eventid=59892&copyow
 nerid=99379
UID:cfp666947-N@wikicfp.com
END:VEVENT
BEGIN:VEVENT
DTSTAMP:20260424T192212Z
DTSTART;VALUE=DATE:20170331
SUMMARY:ICCS 2017 Final Version Due
DESCRIPTION:International Conference on Computational Science
URL:http://www.wikicfp.com/cfp/servlet/event.showcfp?eventid=59892&copyow
 nerid=99379
UID:cfp666947-N@wikicfp.com
END:VEVENT
BEGIN:VEVENT
DTSTAMP:20260424T192212Z
DTSTART;VALUE=DATE:20170602
DTEND;VALUE=DATE:20170603
SUMMARY:ParSocial 2017
DESCRIPTION:The Second IEEE Workshop on Parallel and Distributed Processi
 ng for Computational Social Systems in conjunction with IPDPS 2017
URL:http://www.wikicfp.com/cfp/servlet/event.showcfp?eventid=59216&copyow
 nerid=99379
UID:cfp666946-E@wikicfp.com
END:VEVENT
BEGIN:VEVENT
DTSTAMP:20260424T192212Z
DTSTART;VALUE=DATE:20170201
SUMMARY:ParSocial 2017 Deadline
DESCRIPTION:The Second IEEE Workshop on Parallel and Distributed Processi
 ng for Computational Social Systems in conjunction with IPDPS 2017
URL:http://www.wikicfp.com/cfp/servlet/event.showcfp?eventid=59216&copyow
 nerid=99379
UID:cfp666946-D@wikicfp.com
END:VEVENT
BEGIN:VEVENT
DTSTAMP:20260424T192212Z
DTSTART;VALUE=DATE:20170227
SUMMARY:ParSocial 2017 Notification Due
DESCRIPTION:The Second IEEE Workshop on Parallel and Distributed Processi
 ng for Computational Social Systems in conjunction with IPDPS 2017
URL:http://www.wikicfp.com/cfp/servlet/event.showcfp?eventid=59216&copyow
 nerid=99379
UID:cfp666946-N@wikicfp.com
END:VEVENT
BEGIN:VEVENT
DTSTAMP:20260424T192212Z
DTSTART;VALUE=DATE:20170313
SUMMARY:ParSocial 2017 Final Version Due
DESCRIPTION:The Second IEEE Workshop on Parallel and Distributed Processi
 ng for Computational Social Systems in conjunction with IPDPS 2017
URL:http://www.wikicfp.com/cfp/servlet/event.showcfp?eventid=59216&copyow
 nerid=99379
UID:cfp666946-N@wikicfp.com
END:VEVENT
BEGIN:VEVENT
DTSTAMP:20260424T192212Z
DTSTART;VALUE=DATE:20170621
DTEND;VALUE=DATE:20170624
SUMMARY:SCIA@PAAMS 2017
DESCRIPTION:Workshop on Smart Cities and Intelligent Agents (SCIA)
URL:http://www.wikicfp.com/cfp/servlet/event.showcfp?eventid=60392&copyow
 nerid=99379
UID:cfp666944-E@wikicfp.com
END:VEVENT
BEGIN:VEVENT
DTSTAMP:20260424T192212Z
DTSTART;VALUE=DATE:20170206
SUMMARY:SCIA@PAAMS 2017 Deadline
DESCRIPTION:Workshop on Smart Cities and Intelligent Agents (SCIA)
URL:http://www.wikicfp.com/cfp/servlet/event.showcfp?eventid=60392&copyow
 nerid=99379
UID:cfp666944-D@wikicfp.com
END:VEVENT
BEGIN:VEVENT
DTSTAMP:20260424T192212Z
DTSTART;VALUE=DATE:20170313
SUMMARY:SCIA@PAAMS 2017 Notification Due
DESCRIPTION:Workshop on Smart Cities and Intelligent Agents (SCIA)
URL:http://www.wikicfp.com/cfp/servlet/event.showcfp?eventid=60392&copyow
 nerid=99379
UID:cfp666944-N@wikicfp.com
END:VEVENT
BEGIN:VEVENT
DTSTAMP:20260424T192212Z
DTSTART;VALUE=DATE:20170327
SUMMARY:SCIA@PAAMS 2017 Final Version Due
DESCRIPTION:Workshop on Smart Cities and Intelligent Agents (SCIA)
URL:http://www.wikicfp.com/cfp/servlet/event.showcfp?eventid=60392&copyow
 nerid=99379
UID:cfp666944-N@wikicfp.com
END:VEVENT
BEGIN:VEVENT
DTSTAMP:20260424T192212Z
DTSTART;VALUE=DATE:20170626
DTEND;VALUE=DATE:20170630
SUMMARY:ISMIS 2017
DESCRIPTION:23rd International Symposium on Methodologies for Intelligent
  Systems
URL:http://www.wikicfp.com/cfp/servlet/event.showcfp?eventid=56233&copyow
 nerid=99379
UID:cfp666943-E@wikicfp.com
END:VEVENT
BEGIN:VEVENT
DTSTAMP:20260424T192212Z
DTSTART;VALUE=DATE:20170209
SUMMARY:ISMIS 2017 Deadline
DESCRIPTION:23rd International Symposium on Methodologies for Intelligent
  Systems
URL:http://www.wikicfp.com/cfp/servlet/event.showcfp?eventid=56233&copyow
 nerid=99379
UID:cfp666943-D@wikicfp.com
END:VEVENT
BEGIN:VEVENT
DTSTAMP:20260424T192212Z
DTSTART;VALUE=DATE:20170321
SUMMARY:ISMIS 2017 Notification Due
DESCRIPTION:23rd International Symposium on Methodologies for Intelligent
  Systems
URL:http://www.wikicfp.com/cfp/servlet/event.showcfp?eventid=56233&copyow
 nerid=99379
UID:cfp666943-N@wikicfp.com
END:VEVENT
BEGIN:VEVENT
DTSTAMP:20260424T192212Z
DTSTART;VALUE=DATE:20170601
DTEND;VALUE=DATE:20170604
SUMMARY:ICACNI 2017
DESCRIPTION:5th International Conference on Advanced Computing\, Networki
 ng\, and Informatics (proceedings by Springer)
URL:http://www.wikicfp.com/cfp/servlet/event.showcfp?eventid=60652&copyow
 nerid=99379
UID:cfp666942-E@wikicfp.com
END:VEVENT
BEGIN:VEVENT
DTSTAMP:20260424T192212Z
DTSTART;VALUE=DATE:20170215
SUMMARY:ICACNI 2017 Deadline
DESCRIPTION:5th International Conference on Advanced Computing\, Networki
 ng\, and Informatics (proceedings by Springer)
URL:http://www.wikicfp.com/cfp/servlet/event.showcfp?eventid=60652&copyow
 nerid=99379
UID:cfp666942-D@wikicfp.com
END:VEVENT
BEGIN:VEVENT
DTSTAMP:20260424T192212Z
DTSTART;VALUE=DATE:20170326
SUMMARY:ICACNI 2017 Notification Due
DESCRIPTION:5th International Conference on Advanced Computing\, Networki
 ng\, and Informatics (proceedings by Springer)
URL:http://www.wikicfp.com/cfp/servlet/event.showcfp?eventid=60652&copyow
 nerid=99379
UID:cfp666942-N@wikicfp.com
END:VEVENT
BEGIN:VEVENT
DTSTAMP:20260424T192212Z
DTSTART;VALUE=DATE:20170621
DTEND;VALUE=DATE:20170624
SUMMARY:FCST 2017
DESCRIPTION:The 11th International Conference on Frontier of Computer Sci
 ence and Technology
URL:http://www.wikicfp.com/cfp/servlet/event.showcfp?eventid=59048&copyow
 nerid=99379
UID:cfp666938-E@wikicfp.com
END:VEVENT
BEGIN:VEVENT
DTSTAMP:20260424T192212Z
DTSTART;VALUE=DATE:20170223
SUMMARY:FCST 2017 Deadline
DESCRIPTION:The 11th International Conference on Frontier of Computer Sci
 ence and Technology
URL:http://www.wikicfp.com/cfp/servlet/event.showcfp?eventid=59048&copyow
 nerid=99379
UID:cfp666938-D@wikicfp.com
END:VEVENT
BEGIN:VEVENT
DTSTAMP:20260424T192212Z
DTSTART;VALUE=DATE:20170422
SUMMARY:FCST 2017 Notification Due
DESCRIPTION:The 11th International Conference on Frontier of Computer Sci
 ence and Technology
URL:http://www.wikicfp.com/cfp/servlet/event.showcfp?eventid=59048&copyow
 nerid=99379
UID:cfp666938-N@wikicfp.com
END:VEVENT
BEGIN:VEVENT
DTSTAMP:20260424T192212Z
DTSTART;VALUE=DATE:20170515
SUMMARY:FCST 2017 Final Version Due
DESCRIPTION:The 11th International Conference on Frontier of Computer Sci
 ence and Technology
URL:http://www.wikicfp.com/cfp/servlet/event.showcfp?eventid=59048&copyow
 nerid=99379
UID:cfp666938-N@wikicfp.com
END:VEVENT
BEGIN:VEVENT
DTSTAMP:20260424T192212Z
DTSTART;VALUE=DATE:20170606
DTEND;VALUE=DATE:20170610
SUMMARY:IoTAAL 2017
DESCRIPTION:3rd IEEE International Workshop on Internet of Things for Act
 ive and Assisted Living (IoTAAL)
URL:http://www.wikicfp.com/cfp/servlet/event.showcfp?eventid=59769&copyow
 nerid=99379
UID:cfp666939-E@wikicfp.com
END:VEVENT
BEGIN:VEVENT
DTSTAMP:20260424T192212Z
DTSTART;VALUE=DATE:20170228
SUMMARY:IoTAAL 2017 Deadline
DESCRIPTION:3rd IEEE International Workshop on Internet of Things for Act
 ive and Assisted Living (IoTAAL)
URL:http://www.wikicfp.com/cfp/servlet/event.showcfp?eventid=59769&copyow
 nerid=99379
UID:cfp666939-D@wikicfp.com
END:VEVENT
BEGIN:VEVENT
DTSTAMP:20260424T192212Z
DTSTART;VALUE=DATE:20170331
SUMMARY:IoTAAL 2017 Notification Due
DESCRIPTION:3rd IEEE International Workshop on Internet of Things for Act
 ive and Assisted Living (IoTAAL)
URL:http://www.wikicfp.com/cfp/servlet/event.showcfp?eventid=59769&copyow
 nerid=99379
UID:cfp666939-N@wikicfp.com
END:VEVENT
BEGIN:VEVENT
DTSTAMP:20260424T192212Z
DTSTART;VALUE=DATE:20170430
SUMMARY:IoTAAL 2017 Final Version Due
DESCRIPTION:3rd IEEE International Workshop on Internet of Things for Act
 ive and Assisted Living (IoTAAL)
URL:http://www.wikicfp.com/cfp/servlet/event.showcfp?eventid=59769&copyow
 nerid=99379
UID:cfp666939-N@wikicfp.com
END:VEVENT
BEGIN:VEVENT
DTSTAMP:20260424T192212Z
DTSTART;VALUE=DATE:20170614
DTEND;VALUE=DATE:20170617
SUMMARY:Smart-CT 2017
DESCRIPTION:2nd International Conference on Smart Cities
URL:http://www.wikicfp.com/cfp/servlet/event.showcfp?eventid=59820&copyow
 nerid=99379
UID:cfp666940-E@wikicfp.com
END:VEVENT
BEGIN:VEVENT
DTSTAMP:20260424T192212Z
DTSTART;VALUE=DATE:20170301
SUMMARY:Smart-CT 2017 Deadline
DESCRIPTION:2nd International Conference on Smart Cities
URL:http://www.wikicfp.com/cfp/servlet/event.showcfp?eventid=59820&copyow
 nerid=99379
UID:cfp666940-D@wikicfp.com
END:VEVENT
BEGIN:VEVENT
DTSTAMP:20260424T192212Z
DTSTART;VALUE=DATE:20170321
SUMMARY:Smart-CT 2017 Notification Due
DESCRIPTION:2nd International Conference on Smart Cities
URL:http://www.wikicfp.com/cfp/servlet/event.showcfp?eventid=59820&copyow
 nerid=99379
UID:cfp666940-N@wikicfp.com
END:VEVENT
BEGIN:VEVENT
DTSTAMP:20260424T192212Z
DTSTART;VALUE=DATE:20170406
SUMMARY:Smart-CT 2017 Final Version Due
DESCRIPTION:2nd International Conference on Smart Cities
URL:http://www.wikicfp.com/cfp/servlet/event.showcfp?eventid=59820&copyow
 nerid=99379
UID:cfp666940-N@wikicfp.com
END:VEVENT
BEGIN:VEVENT
DTSTAMP:20260424T192212Z
DTSTART;VALUE=DATE:20170626
DTEND;VALUE=DATE:20170628
SUMMARY:MoSEBIn 2017
DESCRIPTION: International Workshop on Modeling and Software Engineering 
 in Business and Industry
URL:http://www.wikicfp.com/cfp/servlet/event.showcfp?eventid=62675&copyow
 nerid=99379
UID:cfp666905-E@wikicfp.com
END:VEVENT
BEGIN:VEVENT
DTSTAMP:20260424T192212Z
DTSTART;VALUE=DATE:20170328
SUMMARY:MoSEBIn 2017 Abstract Due
DESCRIPTION: International Workshop on Modeling and Software Engineering 
 in Business and Industry
URL:http://www.wikicfp.com/cfp/servlet/event.showcfp?eventid=62675&copyow
 nerid=99379
UID:cfp666905-A@wikicfp.com
END:VEVENT
BEGIN:VEVENT
DTSTAMP:20260424T192212Z
DTSTART;VALUE=DATE:20170406
SUMMARY:MoSEBIn 2017 Deadline
DESCRIPTION: International Workshop on Modeling and Software Engineering 
 in Business and Industry
URL:http://www.wikicfp.com/cfp/servlet/event.showcfp?eventid=62675&copyow
 nerid=99379
UID:cfp666905-D@wikicfp.com
END:VEVENT
BEGIN:VEVENT
DTSTAMP:20260424T192212Z
DTSTART;VALUE=DATE:20170505
SUMMARY:MoSEBIn 2017 Notification Due
DESCRIPTION: International Workshop on Modeling and Software Engineering 
 in Business and Industry
URL:http://www.wikicfp.com/cfp/servlet/event.showcfp?eventid=62675&copyow
 nerid=99379
UID:cfp666905-N@wikicfp.com
END:VEVENT
BEGIN:VEVENT
DTSTAMP:20260424T192212Z
DTSTART;VALUE=DATE:20170512
SUMMARY:MoSEBIn 2017 Final Version Due
DESCRIPTION: International Workshop on Modeling and Software Engineering 
 in Business and Industry
URL:http://www.wikicfp.com/cfp/servlet/event.showcfp?eventid=62675&copyow
 nerid=99379
UID:cfp666905-N@wikicfp.com
END:VEVENT
BEGIN:VEVENT
DTSTAMP:20260424T192212Z
DTSTART;VALUE=DATE:20170602
DTEND;VALUE=DATE:20170605
SUMMARY:IEEE-ICDDM 2017
DESCRIPTION:IEEE--2017 6th International Workshops on Database and Data M
 ining (ICDDM 2017)--Ei Compendex
URL:http://www.wikicfp.com/cfp/servlet/event.showcfp?eventid=57501&copyow
 nerid=99379
UID:cfp666904-E@wikicfp.com
END:VEVENT
BEGIN:VEVENT
DTSTAMP:20260424T192212Z
DTSTART;VALUE=DATE:20170410
SUMMARY:IEEE-ICDDM 2017 Deadline
DESCRIPTION:IEEE--2017 6th International Workshops on Database and Data M
 ining (ICDDM 2017)--Ei Compendex
URL:http://www.wikicfp.com/cfp/servlet/event.showcfp?eventid=57501&copyow
 nerid=99379
UID:cfp666904-D@wikicfp.com
END:VEVENT
BEGIN:VEVENT
DTSTAMP:20260424T192212Z
DTSTART;VALUE=DATE:20170621
DTEND;VALUE=DATE:20170625
SUMMARY:WISA 2017
DESCRIPTION:9th Workshop on Intelligent Systems and Applications
URL:http://www.wikicfp.com/cfp/servlet/event.showcfp?eventid=62565&copyow
 nerid=99379
UID:cfp666903-E@wikicfp.com
END:VEVENT
BEGIN:VEVENT
DTSTAMP:20260424T192212Z
DTSTART;VALUE=DATE:20170415
SUMMARY:WISA 2017 Deadline
DESCRIPTION:9th Workshop on Intelligent Systems and Applications
URL:http://www.wikicfp.com/cfp/servlet/event.showcfp?eventid=62565&copyow
 nerid=99379
UID:cfp666903-D@wikicfp.com
END:VEVENT
BEGIN:VEVENT
DTSTAMP:20260424T192212Z
DTSTART;VALUE=DATE:20170430
SUMMARY:WISA 2017 Notification Due
DESCRIPTION:9th Workshop on Intelligent Systems and Applications
URL:http://www.wikicfp.com/cfp/servlet/event.showcfp?eventid=62565&copyow
 nerid=99379
UID:cfp666903-N@wikicfp.com
END:VEVENT
BEGIN:VEVENT
DTSTAMP:20260424T192212Z
DTSTART;VALUE=DATE:20170508
SUMMARY:WISA 2017 Final Version Due
DESCRIPTION:9th Workshop on Intelligent Systems and Applications
URL:http://www.wikicfp.com/cfp/servlet/event.showcfp?eventid=62565&copyow
 nerid=99379
UID:cfp666903-N@wikicfp.com
END:VEVENT
BEGIN:VEVENT
DTSTAMP:20260424T192212Z
DTSTART;VALUE=DATE:20170622
DTEND;VALUE=DATE:20170624
SUMMARY:ICAR 2017
DESCRIPTION:International Conference on Applied Research in Computer Scie
 nce and Engineering
URL:http://www.wikicfp.com/cfp/servlet/event.showcfp?eventid=62856&copyow
 nerid=99379
UID:cfp666902-E@wikicfp.com
END:VEVENT
BEGIN:VEVENT
DTSTAMP:20260424T192212Z
DTSTART;VALUE=DATE:20170515
SUMMARY:ICAR 2017 Deadline
DESCRIPTION:International Conference on Applied Research in Computer Scie
 nce and Engineering
URL:http://www.wikicfp.com/cfp/servlet/event.showcfp?eventid=62856&copyow
 nerid=99379
UID:cfp666902-D@wikicfp.com
END:VEVENT
BEGIN:VEVENT
DTSTAMP:20260424T192212Z
DTSTART;VALUE=DATE:20170522
SUMMARY:ICAR 2017 Notification Due
DESCRIPTION:International Conference on Applied Research in Computer Scie
 nce and Engineering
URL:http://www.wikicfp.com/cfp/servlet/event.showcfp?eventid=62856&copyow
 nerid=99379
UID:cfp666902-N@wikicfp.com
END:VEVENT
BEGIN:VEVENT
DTSTAMP:20260424T192212Z
DTSTART;VALUE=DATE:20170530
SUMMARY:ICAR 2017 Final Version Due
DESCRIPTION:International Conference on Applied Research in Computer Scie
 nce and Engineering
URL:http://www.wikicfp.com/cfp/servlet/event.showcfp?eventid=62856&copyow
 nerid=99379
UID:cfp666902-N@wikicfp.com
END:VEVENT
BEGIN:VEVENT
DTSTAMP:20260424T192212Z
DTSTART;VALUE=DATE:20191130
DTEND;VALUE=DATE:20191202
SUMMARY:VLSIA 2019
DESCRIPTION:5th International Conference on VLSI and Applications
URL:http://www.wikicfp.com/cfp/servlet/event.showcfp?eventid=63616&copyow
 nerid=99379
UID:cfp666901-E@wikicfp.com
END:VEVENT
BEGIN:VEVENT
DTSTAMP:20260424T192212Z
DTSTART;VALUE=DATE:20191103
SUMMARY:VLSIA 2019 Deadline
DESCRIPTION:5th International Conference on VLSI and Applications
URL:http://www.wikicfp.com/cfp/servlet/event.showcfp?eventid=63616&copyow
 nerid=99379
UID:cfp666901-D@wikicfp.com
END:VEVENT
BEGIN:VEVENT
DTSTAMP:20260424T192212Z
DTSTART;VALUE=DATE:20191113
SUMMARY:VLSIA 2019 Notification Due
DESCRIPTION:5th International Conference on VLSI and Applications
URL:http://www.wikicfp.com/cfp/servlet/event.showcfp?eventid=63616&copyow
 nerid=99379
UID:cfp666901-N@wikicfp.com
END:VEVENT
BEGIN:VEVENT
DTSTAMP:20260424T192212Z
DTSTART;VALUE=DATE:20191118
SUMMARY:VLSIA 2019 Final Version Due
DESCRIPTION:5th International Conference on VLSI and Applications
URL:http://www.wikicfp.com/cfp/servlet/event.showcfp?eventid=63616&copyow
 nerid=99379
UID:cfp666901-N@wikicfp.com
END:VEVENT
BEGIN:VEVENT
DTSTAMP:20260424T192212Z
DTSTART;VALUE=DATE:20260505
SUMMARY:IEIJ 2026 Deadline
DESCRIPTION:Informatics Engineering\, an International Journal
URL:http://www.wikicfp.com/cfp/servlet/event.showcfp?eventid=62110&copyow
 nerid=99379
UID:cfp666900-D@wikicfp.com
END:VEVENT
BEGIN:VEVENT
DTSTAMP:20260424T192212Z
DTSTART;VALUE=DATE:20260605
SUMMARY:IEIJ 2026 Notification Due
DESCRIPTION:Informatics Engineering\, an International Journal
URL:http://www.wikicfp.com/cfp/servlet/event.showcfp?eventid=62110&copyow
 nerid=99379
UID:cfp666900-N@wikicfp.com
END:VEVENT
BEGIN:VEVENT
DTSTAMP:20260424T192212Z
DTSTART;VALUE=DATE:20260612
SUMMARY:IEIJ 2026 Final Version Due
DESCRIPTION:Informatics Engineering\, an International Journal
URL:http://www.wikicfp.com/cfp/servlet/event.showcfp?eventid=62110&copyow
 nerid=99379
UID:cfp666900-N@wikicfp.com
END:VEVENT
END:VCALENDAR
