BEGIN:VCALENDAR
PRODID:-//WikiCFP//omasutani 1.0//EN
VERSION:2.0
CALSCALE:GREGORIAN
BEGIN:VEVENT
DTSTAMP:20260422T032751Z
DTSTART;VALUE=DATE:20170514
DTEND;VALUE=DATE:20170520
SUMMARY:SIGMOD 2017
DESCRIPTION:2017 ACM SIGMOD Conference
URL:http://www.wikicfp.com/cfp/servlet/event.showcfp?eventid=53445&copyow
 nerid=99254
UID:cfp666520-E@wikicfp.com
END:VEVENT
BEGIN:VEVENT
DTSTAMP:20260422T032751Z
DTSTART;VALUE=DATE:20160715
SUMMARY:SIGMOD 2017 Abstract Due
DESCRIPTION:2017 ACM SIGMOD Conference
URL:http://www.wikicfp.com/cfp/servlet/event.showcfp?eventid=53445&copyow
 nerid=99254
UID:cfp666520-A@wikicfp.com
END:VEVENT
BEGIN:VEVENT
DTSTAMP:20260422T032751Z
DTSTART;VALUE=DATE:20160722
SUMMARY:SIGMOD 2017 Deadline
DESCRIPTION:2017 ACM SIGMOD Conference
URL:http://www.wikicfp.com/cfp/servlet/event.showcfp?eventid=53445&copyow
 nerid=99254
UID:cfp666520-D@wikicfp.com
END:VEVENT
BEGIN:VEVENT
DTSTAMP:20260422T032751Z
DTSTART;VALUE=DATE:20160928
SUMMARY:SIGMOD 2017 Notification Due
DESCRIPTION:2017 ACM SIGMOD Conference
URL:http://www.wikicfp.com/cfp/servlet/event.showcfp?eventid=53445&copyow
 nerid=99254
UID:cfp666520-N@wikicfp.com
END:VEVENT
BEGIN:VEVENT
DTSTAMP:20260422T032751Z
DTSTART;VALUE=DATE:20170201
SUMMARY:SIGMOD 2017 Final Version Due
DESCRIPTION:2017 ACM SIGMOD Conference
URL:http://www.wikicfp.com/cfp/servlet/event.showcfp?eventid=53445&copyow
 nerid=99254
UID:cfp666520-N@wikicfp.com
END:VEVENT
BEGIN:VEVENT
DTSTAMP:20260422T032751Z
DTSTART;VALUE=DATE:20170204
DTEND;VALUE=DATE:20170210
SUMMARY:AAAI 2017
DESCRIPTION:The Thirty-First AAAI Conference on Artificial Intelligence (
 AAAI-17)
URL:http://www.wikicfp.com/cfp/servlet/event.showcfp?eventid=54779&copyow
 nerid=99254
UID:cfp666513-E@wikicfp.com
END:VEVENT
BEGIN:VEVENT
DTSTAMP:20260422T032751Z
DTSTART;VALUE=DATE:20160909
SUMMARY:AAAI 2017 Abstract Due
DESCRIPTION:The Thirty-First AAAI Conference on Artificial Intelligence (
 AAAI-17)
URL:http://www.wikicfp.com/cfp/servlet/event.showcfp?eventid=54779&copyow
 nerid=99254
UID:cfp666513-A@wikicfp.com
END:VEVENT
BEGIN:VEVENT
DTSTAMP:20260422T032751Z
DTSTART;VALUE=DATE:20160914
SUMMARY:AAAI 2017 Deadline
DESCRIPTION:The Thirty-First AAAI Conference on Artificial Intelligence (
 AAAI-17)
URL:http://www.wikicfp.com/cfp/servlet/event.showcfp?eventid=54779&copyow
 nerid=99254
UID:cfp666513-D@wikicfp.com
END:VEVENT
BEGIN:VEVENT
DTSTAMP:20260422T032751Z
DTSTART;VALUE=DATE:20161111
SUMMARY:AAAI 2017 Notification Due
DESCRIPTION:The Thirty-First AAAI Conference on Artificial Intelligence (
 AAAI-17)
URL:http://www.wikicfp.com/cfp/servlet/event.showcfp?eventid=54779&copyow
 nerid=99254
UID:cfp666513-N@wikicfp.com
END:VEVENT
BEGIN:VEVENT
DTSTAMP:20260422T032751Z
DTSTART;VALUE=DATE:20161128
SUMMARY:AAAI 2017 Final Version Due
DESCRIPTION:The Thirty-First AAAI Conference on Artificial Intelligence (
 AAAI-17)
URL:http://www.wikicfp.com/cfp/servlet/event.showcfp?eventid=54779&copyow
 nerid=99254
UID:cfp666513-N@wikicfp.com
END:VEVENT
BEGIN:VEVENT
DTSTAMP:20260422T032751Z
DTSTART;VALUE=DATE:20170508
DTEND;VALUE=DATE:20170513
SUMMARY:AAMAS 2017
DESCRIPTION:International Conference on Autonomous Agents and Multiagent 
 Systems 
URL:http://www.wikicfp.com/cfp/servlet/event.showcfp?eventid=55923&copyow
 nerid=99254
UID:cfp666518-E@wikicfp.com
END:VEVENT
BEGIN:VEVENT
DTSTAMP:20260422T032751Z
DTSTART;VALUE=DATE:20161111
SUMMARY:AAMAS 2017 Abstract Due
DESCRIPTION:International Conference on Autonomous Agents and Multiagent 
 Systems 
URL:http://www.wikicfp.com/cfp/servlet/event.showcfp?eventid=55923&copyow
 nerid=99254
UID:cfp666518-A@wikicfp.com
END:VEVENT
BEGIN:VEVENT
DTSTAMP:20260422T032751Z
DTSTART;VALUE=DATE:20161115
SUMMARY:AAMAS 2017 Deadline
DESCRIPTION:International Conference on Autonomous Agents and Multiagent 
 Systems 
URL:http://www.wikicfp.com/cfp/servlet/event.showcfp?eventid=55923&copyow
 nerid=99254
UID:cfp666518-D@wikicfp.com
END:VEVENT
BEGIN:VEVENT
DTSTAMP:20260422T032751Z
DTSTART;VALUE=DATE:20170124
SUMMARY:AAMAS 2017 Notification Due
DESCRIPTION:International Conference on Autonomous Agents and Multiagent 
 Systems 
URL:http://www.wikicfp.com/cfp/servlet/event.showcfp?eventid=55923&copyow
 nerid=99254
UID:cfp666518-N@wikicfp.com
END:VEVENT
BEGIN:VEVENT
DTSTAMP:20260422T032751Z
DTSTART;VALUE=DATE:20170807
DTEND;VALUE=DATE:20170812
SUMMARY:SIGIR 2017
DESCRIPTION:The 40th International ACM SIGIR Conference on Research and D
 evelopment in Information Retrieval
URL:http://www.wikicfp.com/cfp/servlet/event.showcfp?eventid=56497&copyow
 nerid=99254
UID:cfp666519-E@wikicfp.com
END:VEVENT
BEGIN:VEVENT
DTSTAMP:20260422T032751Z
DTSTART;VALUE=DATE:20170117
SUMMARY:SIGIR 2017 Abstract Due
DESCRIPTION:The 40th International ACM SIGIR Conference on Research and D
 evelopment in Information Retrieval
URL:http://www.wikicfp.com/cfp/servlet/event.showcfp?eventid=56497&copyow
 nerid=99254
UID:cfp666519-A@wikicfp.com
END:VEVENT
BEGIN:VEVENT
DTSTAMP:20260422T032751Z
DTSTART;VALUE=DATE:20170124
SUMMARY:SIGIR 2017 Deadline
DESCRIPTION:The 40th International ACM SIGIR Conference on Research and D
 evelopment in Information Retrieval
URL:http://www.wikicfp.com/cfp/servlet/event.showcfp?eventid=56497&copyow
 nerid=99254
UID:cfp666519-D@wikicfp.com
END:VEVENT
BEGIN:VEVENT
DTSTAMP:20260422T032751Z
DTSTART;VALUE=DATE:20170411
SUMMARY:SIGIR 2017 Notification Due
DESCRIPTION:The 40th International ACM SIGIR Conference on Research and D
 evelopment in Information Retrieval
URL:http://www.wikicfp.com/cfp/servlet/event.showcfp?eventid=56497&copyow
 nerid=99254
UID:cfp666519-N@wikicfp.com
END:VEVENT
BEGIN:VEVENT
DTSTAMP:20260422T032751Z
DTSTART;VALUE=DATE:20170620
DTEND;VALUE=DATE:20170623
SUMMARY:ICML 2017
DESCRIPTION: 34rd International Conference on Machine Learning
URL:http://www.wikicfp.com/cfp/servlet/event.showcfp?eventid=53557&copyow
 nerid=99254
UID:cfp666517-E@wikicfp.com
END:VEVENT
BEGIN:VEVENT
DTSTAMP:20260422T032751Z
DTSTART;VALUE=DATE:20170205
SUMMARY:ICML 2017 Deadline
DESCRIPTION: 34rd International Conference on Machine Learning
URL:http://www.wikicfp.com/cfp/servlet/event.showcfp?eventid=53557&copyow
 nerid=99254
UID:cfp666517-D@wikicfp.com
END:VEVENT
BEGIN:VEVENT
DTSTAMP:20260422T032751Z
DTSTART;VALUE=DATE:20170730
DTEND;VALUE=DATE:20170805
SUMMARY:ACL 2017
DESCRIPTION:The 55th annual meeting of the Association for Computational 
 Linguistics
URL:http://www.wikicfp.com/cfp/servlet/event.showcfp?eventid=57815&copyow
 nerid=99254
UID:cfp666516-E@wikicfp.com
END:VEVENT
BEGIN:VEVENT
DTSTAMP:20260422T032751Z
DTSTART;VALUE=DATE:20170206
SUMMARY:ACL 2017 Deadline
DESCRIPTION:The 55th annual meeting of the Association for Computational 
 Linguistics
URL:http://www.wikicfp.com/cfp/servlet/event.showcfp?eventid=57815&copyow
 nerid=99254
UID:cfp666516-D@wikicfp.com
END:VEVENT
BEGIN:VEVENT
DTSTAMP:20260422T032751Z
DTSTART;VALUE=DATE:20170330
SUMMARY:ACL 2017 Notification Due
DESCRIPTION:The 55th annual meeting of the Association for Computational 
 Linguistics
URL:http://www.wikicfp.com/cfp/servlet/event.showcfp?eventid=57815&copyow
 nerid=99254
UID:cfp666516-N@wikicfp.com
END:VEVENT
BEGIN:VEVENT
DTSTAMP:20260422T032751Z
DTSTART;VALUE=DATE:20170820
DTEND;VALUE=DATE:20170825
SUMMARY:INTERSPEECH 2017
DESCRIPTION:Conference of the International Speech Communication Associat
 ion
URL:http://www.wikicfp.com/cfp/servlet/event.showcfp?eventid=59982&copyow
 nerid=99254
UID:cfp666521-E@wikicfp.com
END:VEVENT
BEGIN:VEVENT
DTSTAMP:20260422T032751Z
DTSTART;VALUE=DATE:20170314
SUMMARY:INTERSPEECH 2017 Abstract Due
DESCRIPTION:Conference of the International Speech Communication Associat
 ion
URL:http://www.wikicfp.com/cfp/servlet/event.showcfp?eventid=59982&copyow
 nerid=99254
UID:cfp666521-A@wikicfp.com
END:VEVENT
BEGIN:VEVENT
DTSTAMP:20260422T032751Z
DTSTART;VALUE=DATE:20170321
SUMMARY:INTERSPEECH 2017 Deadline
DESCRIPTION:Conference of the International Speech Communication Associat
 ion
URL:http://www.wikicfp.com/cfp/servlet/event.showcfp?eventid=59982&copyow
 nerid=99254
UID:cfp666521-D@wikicfp.com
END:VEVENT
BEGIN:VEVENT
DTSTAMP:20260422T032751Z
DTSTART;VALUE=DATE:20170522
SUMMARY:INTERSPEECH 2017 Notification Due
DESCRIPTION:Conference of the International Speech Communication Associat
 ion
URL:http://www.wikicfp.com/cfp/servlet/event.showcfp?eventid=59982&copyow
 nerid=99254
UID:cfp666521-N@wikicfp.com
END:VEVENT
BEGIN:VEVENT
DTSTAMP:20260422T032751Z
DTSTART;VALUE=DATE:20170605
SUMMARY:INTERSPEECH 2017 Final Version Due
DESCRIPTION:Conference of the International Speech Communication Associat
 ion
URL:http://www.wikicfp.com/cfp/servlet/event.showcfp?eventid=59982&copyow
 nerid=99254
UID:cfp666521-N@wikicfp.com
END:VEVENT
BEGIN:VEVENT
DTSTAMP:20260422T032751Z
DTSTART;VALUE=DATE:20170907
DTEND;VALUE=DATE:20170912
SUMMARY:EMNLP 2017
DESCRIPTION:Conference on Empirical Methods in Natural Language Processin
 g
URL:http://www.wikicfp.com/cfp/servlet/event.showcfp?eventid=59419&copyow
 nerid=99254
UID:cfp666522-E@wikicfp.com
END:VEVENT
BEGIN:VEVENT
DTSTAMP:20260422T032751Z
DTSTART;VALUE=DATE:20170414
SUMMARY:EMNLP 2017 Deadline
DESCRIPTION:Conference on Empirical Methods in Natural Language Processin
 g
URL:http://www.wikicfp.com/cfp/servlet/event.showcfp?eventid=59419&copyow
 nerid=99254
UID:cfp666522-D@wikicfp.com
END:VEVENT
BEGIN:VEVENT
DTSTAMP:20260422T032751Z
DTSTART;VALUE=DATE:20170630
SUMMARY:EMNLP 2017 Notification Due
DESCRIPTION:Conference on Empirical Methods in Natural Language Processin
 g
URL:http://www.wikicfp.com/cfp/servlet/event.showcfp?eventid=59419&copyow
 nerid=99254
UID:cfp666522-N@wikicfp.com
END:VEVENT
BEGIN:VEVENT
DTSTAMP:20260422T032751Z
DTSTART;VALUE=DATE:20171204
DTEND;VALUE=DATE:20171210
SUMMARY:NIPS 2017
DESCRIPTION:The Thirty-first Annual Conference on Neural Information Proc
 essing Systems
URL:http://www.wikicfp.com/cfp/servlet/event.showcfp?eventid=56589&copyow
 nerid=99254
UID:cfp666515-E@wikicfp.com
END:VEVENT
BEGIN:VEVENT
DTSTAMP:20260422T032751Z
DTSTART;VALUE=DATE:20170519
SUMMARY:NIPS 2017 Deadline
DESCRIPTION:The Thirty-first Annual Conference on Neural Information Proc
 essing Systems
URL:http://www.wikicfp.com/cfp/servlet/event.showcfp?eventid=56589&copyow
 nerid=99254
UID:cfp666515-D@wikicfp.com
END:VEVENT
BEGIN:VEVENT
DTSTAMP:20260422T032751Z
DTSTART;VALUE=DATE:20180202
DTEND;VALUE=DATE:20180208
SUMMARY:AAAI 2018
DESCRIPTION:The Thirty-Second AAAI Conference on Artificial Intelligence
URL:http://www.wikicfp.com/cfp/servlet/event.showcfp?eventid=63229&copyow
 nerid=99254
UID:cfp666514-E@wikicfp.com
END:VEVENT
BEGIN:VEVENT
DTSTAMP:20260422T032751Z
DTSTART;VALUE=DATE:20170908
SUMMARY:AAAI 2018 Abstract Due
DESCRIPTION:The Thirty-Second AAAI Conference on Artificial Intelligence
URL:http://www.wikicfp.com/cfp/servlet/event.showcfp?eventid=63229&copyow
 nerid=99254
UID:cfp666514-A@wikicfp.com
END:VEVENT
BEGIN:VEVENT
DTSTAMP:20260422T032751Z
DTSTART;VALUE=DATE:20170911
SUMMARY:AAAI 2018 Deadline
DESCRIPTION:The Thirty-Second AAAI Conference on Artificial Intelligence
URL:http://www.wikicfp.com/cfp/servlet/event.showcfp?eventid=63229&copyow
 nerid=99254
UID:cfp666514-D@wikicfp.com
END:VEVENT
END:VCALENDAR
