BEGIN:VCALENDAR
PRODID:-//WikiCFP//rickyricardosp 1.0//EN
VERSION:2.0
CALSCALE:GREGORIAN
BEGIN:VEVENT
DTSTAMP:20260421T171254Z
DTSTART;VALUE=DATE:20161225
DTEND;VALUE=DATE:20161228
SUMMARY:ICFAS 2016
DESCRIPTION:2016 4th International Conference on Food and Agricultural Sc
 iences (ICFAS 2016)
URL:http://www.wikicfp.com/cfp/servlet/event.showcfp?eventid=54800&copyow
 nerid=99073
UID:cfp665743-E@wikicfp.com
END:VEVENT
BEGIN:VEVENT
DTSTAMP:20260421T171254Z
DTSTART;VALUE=DATE:20161025
SUMMARY:ICFAS 2016 Deadline
DESCRIPTION:2016 4th International Conference on Food and Agricultural Sc
 iences (ICFAS 2016)
URL:http://www.wikicfp.com/cfp/servlet/event.showcfp?eventid=54800&copyow
 nerid=99073
UID:cfp665743-D@wikicfp.com
END:VEVENT
BEGIN:VEVENT
DTSTAMP:20260421T171254Z
DTSTART;VALUE=DATE:20170313
DTEND;VALUE=DATE:20170318
SUMMARY:PerHealth 2017
DESCRIPTION:IEEE Percom Workshop on Percasive Health Technologies
URL:http://www.wikicfp.com/cfp/servlet/event.showcfp?eventid=58307&copyow
 nerid=99073
UID:cfp665748-E@wikicfp.com
END:VEVENT
BEGIN:VEVENT
DTSTAMP:20260421T171254Z
DTSTART;VALUE=DATE:20161111
SUMMARY:PerHealth 2017 Deadline
DESCRIPTION:IEEE Percom Workshop on Percasive Health Technologies
URL:http://www.wikicfp.com/cfp/servlet/event.showcfp?eventid=58307&copyow
 nerid=99073
UID:cfp665748-D@wikicfp.com
END:VEVENT
BEGIN:VEVENT
DTSTAMP:20260421T171254Z
DTSTART;VALUE=DATE:20161223
SUMMARY:PerHealth 2017 Notification Due
DESCRIPTION:IEEE Percom Workshop on Percasive Health Technologies
URL:http://www.wikicfp.com/cfp/servlet/event.showcfp?eventid=58307&copyow
 nerid=99073
UID:cfp665748-N@wikicfp.com
END:VEVENT
BEGIN:VEVENT
DTSTAMP:20260421T171254Z
DTSTART;VALUE=DATE:20170113
SUMMARY:PerHealth 2017 Final Version Due
DESCRIPTION:IEEE Percom Workshop on Percasive Health Technologies
URL:http://www.wikicfp.com/cfp/servlet/event.showcfp?eventid=58307&copyow
 nerid=99073
UID:cfp665748-N@wikicfp.com
END:VEVENT
BEGIN:VEVENT
DTSTAMP:20260421T171254Z
DTSTART;VALUE=DATE:20161125
SUMMARY:Scientific Advisory Committees 2017 Deadline
DESCRIPTION:Optimizing the Institutional Design of Scientific Advisory Co
 mmittees for Quality\, Salience\, and Legitimacy
URL:http://www.wikicfp.com/cfp/servlet/event.showcfp?eventid=57760&copyow
 nerid=99073
UID:cfp665747-D@wikicfp.com
END:VEVENT
BEGIN:VEVENT
DTSTAMP:20260421T171254Z
DTSTART;VALUE=DATE:20170428
DTEND;VALUE=DATE:20170430
SUMMARY:ICT4AWE 2017
DESCRIPTION:3rd International Conference on Information and Communication
  Technologies for Ageing Well and e-Health 
URL:http://www.wikicfp.com/cfp/servlet/event.showcfp?eventid=56375&copyow
 nerid=99073
UID:cfp665745-E@wikicfp.com
END:VEVENT
BEGIN:VEVENT
DTSTAMP:20260421T171254Z
DTSTART;VALUE=DATE:20161128
SUMMARY:ICT4AWE 2017 Deadline
DESCRIPTION:3rd International Conference on Information and Communication
  Technologies for Ageing Well and e-Health 
URL:http://www.wikicfp.com/cfp/servlet/event.showcfp?eventid=56375&copyow
 nerid=99073
UID:cfp665745-D@wikicfp.com
END:VEVENT
BEGIN:VEVENT
DTSTAMP:20260421T171254Z
DTSTART;VALUE=DATE:20170130
SUMMARY:ICT4AWE 2017 Notification Due
DESCRIPTION:3rd International Conference on Information and Communication
  Technologies for Ageing Well and e-Health 
URL:http://www.wikicfp.com/cfp/servlet/event.showcfp?eventid=56375&copyow
 nerid=99073
UID:cfp665745-N@wikicfp.com
END:VEVENT
BEGIN:VEVENT
DTSTAMP:20260421T171254Z
DTSTART;VALUE=DATE:20170213
SUMMARY:ICT4AWE 2017 Final Version Due
DESCRIPTION:3rd International Conference on Information and Communication
  Technologies for Ageing Well and e-Health 
URL:http://www.wikicfp.com/cfp/servlet/event.showcfp?eventid=56375&copyow
 nerid=99073
UID:cfp665745-N@wikicfp.com
END:VEVENT
BEGIN:VEVENT
DTSTAMP:20260421T171254Z
DTSTART;VALUE=DATE:20170225
DTEND;VALUE=DATE:20170228
SUMMARY:ICFES 2017
DESCRIPTION:2017 3rd International Conference on Food and Environmental S
 ciences (ICFES 2017) --EI Compendex and ISTP
URL:http://www.wikicfp.com/cfp/servlet/event.showcfp?eventid=55719&copyow
 nerid=99073
UID:cfp665744-E@wikicfp.com
END:VEVENT
BEGIN:VEVENT
DTSTAMP:20260421T171254Z
DTSTART;VALUE=DATE:20161220
SUMMARY:ICFES 2017 Deadline
DESCRIPTION:2017 3rd International Conference on Food and Environmental S
 ciences (ICFES 2017) --EI Compendex and ISTP
URL:http://www.wikicfp.com/cfp/servlet/event.showcfp?eventid=55719&copyow
 nerid=99073
UID:cfp665744-D@wikicfp.com
END:VEVENT
BEGIN:VEVENT
DTSTAMP:20260421T171254Z
DTSTART;VALUE=DATE:20170510
DTEND;VALUE=DATE:20170513
SUMMARY:ICNFS 2017
DESCRIPTION:2017 6th International Conference on Nutrition and Food Scien
 ces (ICNFS 2017)
URL:http://www.wikicfp.com/cfp/servlet/event.showcfp?eventid=58717&copyow
 nerid=99073
UID:cfp665749-E@wikicfp.com
END:VEVENT
BEGIN:VEVENT
DTSTAMP:20260421T171254Z
DTSTART;VALUE=DATE:20170220
SUMMARY:ICNFS 2017 Deadline
DESCRIPTION:2017 6th International Conference on Nutrition and Food Scien
 ces (ICNFS 2017)
URL:http://www.wikicfp.com/cfp/servlet/event.showcfp?eventid=58717&copyow
 nerid=99073
UID:cfp665749-D@wikicfp.com
END:VEVENT
BEGIN:VEVENT
DTSTAMP:20260421T171254Z
DTSTART;VALUE=DATE:20170724
DTEND;VALUE=DATE:20170726
SUMMARY:GHC 2017
DESCRIPTION:6th Annual Global Healthcare Conference (GHC 2017)
URL:http://www.wikicfp.com/cfp/servlet/event.showcfp?eventid=51725&copyow
 nerid=99073
UID:cfp665742-E@wikicfp.com
END:VEVENT
BEGIN:VEVENT
DTSTAMP:20260421T171254Z
DTSTART;VALUE=DATE:20170223
SUMMARY:GHC 2017 Deadline
DESCRIPTION:6th Annual Global Healthcare Conference (GHC 2017)
URL:http://www.wikicfp.com/cfp/servlet/event.showcfp?eventid=51725&copyow
 nerid=99073
UID:cfp665742-D@wikicfp.com
END:VEVENT
BEGIN:VEVENT
DTSTAMP:20260421T171254Z
DTSTART;VALUE=DATE:20170710
DTEND;VALUE=DATE:20170711
SUMMARY:MOBILEHEALTH 2017
DESCRIPTION:Seventh ACM International Workshop on Pervasive Wireless Heal
 thcare
URL:http://www.wikicfp.com/cfp/servlet/event.showcfp?eventid=61609&copyow
 nerid=99073
UID:cfp665757-E@wikicfp.com
END:VEVENT
BEGIN:VEVENT
DTSTAMP:20260421T171254Z
DTSTART;VALUE=DATE:20170228
SUMMARY:MOBILEHEALTH 2017 Deadline
DESCRIPTION:Seventh ACM International Workshop on Pervasive Wireless Heal
 thcare
URL:http://www.wikicfp.com/cfp/servlet/event.showcfp?eventid=61609&copyow
 nerid=99073
UID:cfp665757-D@wikicfp.com
END:VEVENT
BEGIN:VEVENT
DTSTAMP:20260421T171254Z
DTSTART;VALUE=DATE:20170331
SUMMARY:MOBILEHEALTH 2017 Notification Due
DESCRIPTION:Seventh ACM International Workshop on Pervasive Wireless Heal
 thcare
URL:http://www.wikicfp.com/cfp/servlet/event.showcfp?eventid=61609&copyow
 nerid=99073
UID:cfp665757-N@wikicfp.com
END:VEVENT
BEGIN:VEVENT
DTSTAMP:20260421T171254Z
DTSTART;VALUE=DATE:20170420
SUMMARY:MOBILEHEALTH 2017 Final Version Due
DESCRIPTION:Seventh ACM International Workshop on Pervasive Wireless Heal
 thcare
URL:http://www.wikicfp.com/cfp/servlet/event.showcfp?eventid=61609&copyow
 nerid=99073
UID:cfp665757-N@wikicfp.com
END:VEVENT
BEGIN:VEVENT
DTSTAMP:20260421T171254Z
DTSTART;VALUE=DATE:20170405
DTEND;VALUE=DATE:20170407
SUMMARY:UKSS 2017
DESCRIPTION:UK Systems Society Annual Conference 2017
URL:http://www.wikicfp.com/cfp/servlet/event.showcfp?eventid=60712&copyow
 nerid=99073
UID:cfp665755-E@wikicfp.com
END:VEVENT
BEGIN:VEVENT
DTSTAMP:20260421T171254Z
DTSTART;VALUE=DATE:20170131
SUMMARY:UKSS 2017 Abstract Due
DESCRIPTION:UK Systems Society Annual Conference 2017
URL:http://www.wikicfp.com/cfp/servlet/event.showcfp?eventid=60712&copyow
 nerid=99073
UID:cfp665755-A@wikicfp.com
END:VEVENT
BEGIN:VEVENT
DTSTAMP:20260421T171254Z
DTSTART;VALUE=DATE:20170306
SUMMARY:UKSS 2017 Deadline
DESCRIPTION:UK Systems Society Annual Conference 2017
URL:http://www.wikicfp.com/cfp/servlet/event.showcfp?eventid=60712&copyow
 nerid=99073
UID:cfp665755-D@wikicfp.com
END:VEVENT
BEGIN:VEVENT
DTSTAMP:20260421T171254Z
DTSTART;VALUE=DATE:20170214
SUMMARY:UKSS 2017 Notification Due
DESCRIPTION:UK Systems Society Annual Conference 2017
URL:http://www.wikicfp.com/cfp/servlet/event.showcfp?eventid=60712&copyow
 nerid=99073
UID:cfp665755-N@wikicfp.com
END:VEVENT
BEGIN:VEVENT
DTSTAMP:20260421T171254Z
DTSTART;VALUE=DATE:20170926
DTEND;VALUE=DATE:20170930
SUMMARY:ICUH 2017
DESCRIPTION:14th International Conference on Urban Health 
URL:http://www.wikicfp.com/cfp/servlet/event.showcfp?eventid=61840&copyow
 nerid=99073
UID:cfp665758-E@wikicfp.com
END:VEVENT
BEGIN:VEVENT
DTSTAMP:20260421T171254Z
DTSTART;VALUE=DATE:20170317
SUMMARY:ICUH 2017 Deadline
DESCRIPTION:14th International Conference on Urban Health 
URL:http://www.wikicfp.com/cfp/servlet/event.showcfp?eventid=61840&copyow
 nerid=99073
UID:cfp665758-D@wikicfp.com
END:VEVENT
BEGIN:VEVENT
DTSTAMP:20260421T171254Z
DTSTART;VALUE=DATE:20170712
DTEND;VALUE=DATE:20170715
SUMMARY:SpliTech 2017
DESCRIPTION:2nd International Multidisciplinary Conference on Computer an
 d Energy Science
URL:http://www.wikicfp.com/cfp/servlet/event.showcfp?eventid=60084&copyow
 nerid=99073
UID:cfp665754-E@wikicfp.com
END:VEVENT
BEGIN:VEVENT
DTSTAMP:20260421T171254Z
DTSTART;VALUE=DATE:20170401
SUMMARY:SpliTech 2017 Deadline
DESCRIPTION:2nd International Multidisciplinary Conference on Computer an
 d Energy Science
URL:http://www.wikicfp.com/cfp/servlet/event.showcfp?eventid=60084&copyow
 nerid=99073
UID:cfp665754-D@wikicfp.com
END:VEVENT
BEGIN:VEVENT
DTSTAMP:20260421T171254Z
DTSTART;VALUE=DATE:20170515
SUMMARY:SpliTech 2017 Notification Due
DESCRIPTION:2nd International Multidisciplinary Conference on Computer an
 d Energy Science
URL:http://www.wikicfp.com/cfp/servlet/event.showcfp?eventid=60084&copyow
 nerid=99073
UID:cfp665754-N@wikicfp.com
END:VEVENT
BEGIN:VEVENT
DTSTAMP:20260421T171254Z
DTSTART;VALUE=DATE:20170605
SUMMARY:SpliTech 2017 Final Version Due
DESCRIPTION:2nd International Multidisciplinary Conference on Computer an
 d Energy Science
URL:http://www.wikicfp.com/cfp/servlet/event.showcfp?eventid=60084&copyow
 nerid=99073
UID:cfp665754-N@wikicfp.com
END:VEVENT
BEGIN:VEVENT
DTSTAMP:20260421T171254Z
DTSTART;VALUE=DATE:20170520
DTEND;VALUE=DATE:20170523
SUMMARY:ICMHI-ACM-Ei 2017
DESCRIPTION:2017 1st International Conference on Medical and Health Infor
 matics (ICMHI 2017)--Ei Compendex and Scopus
URL:http://www.wikicfp.com/cfp/servlet/event.showcfp?eventid=59493&copyow
 nerid=99073
UID:cfp665752-E@wikicfp.com
END:VEVENT
BEGIN:VEVENT
DTSTAMP:20260421T171254Z
DTSTART;VALUE=DATE:20170410
SUMMARY:ICMHI-ACM-Ei 2017 Deadline
DESCRIPTION:2017 1st International Conference on Medical and Health Infor
 matics (ICMHI 2017)--Ei Compendex and Scopus
URL:http://www.wikicfp.com/cfp/servlet/event.showcfp?eventid=59493&copyow
 nerid=99073
UID:cfp665752-D@wikicfp.com
END:VEVENT
BEGIN:VEVENT
DTSTAMP:20260421T171254Z
DTSTART;VALUE=DATE:20170717
DTEND;VALUE=DATE:20170720
SUMMARY:CCH 2017
DESCRIPTION:Cloud Connected Health 
URL:http://www.wikicfp.com/cfp/servlet/event.showcfp?eventid=59658&copyow
 nerid=99073
UID:cfp665753-E@wikicfp.com
END:VEVENT
BEGIN:VEVENT
DTSTAMP:20260421T171254Z
DTSTART;VALUE=DATE:20170415
SUMMARY:CCH 2017 Deadline
DESCRIPTION:Cloud Connected Health 
URL:http://www.wikicfp.com/cfp/servlet/event.showcfp?eventid=59658&copyow
 nerid=99073
UID:cfp665753-D@wikicfp.com
END:VEVENT
BEGIN:VEVENT
DTSTAMP:20260421T171254Z
DTSTART;VALUE=DATE:20170430
SUMMARY:CCH 2017 Notification Due
DESCRIPTION:Cloud Connected Health 
URL:http://www.wikicfp.com/cfp/servlet/event.showcfp?eventid=59658&copyow
 nerid=99073
UID:cfp665753-N@wikicfp.com
END:VEVENT
BEGIN:VEVENT
DTSTAMP:20260421T171254Z
DTSTART;VALUE=DATE:20170510
SUMMARY:CCH 2017 Final Version Due
DESCRIPTION:Cloud Connected Health 
URL:http://www.wikicfp.com/cfp/servlet/event.showcfp?eventid=59658&copyow
 nerid=99073
UID:cfp665753-N@wikicfp.com
END:VEVENT
BEGIN:VEVENT
DTSTAMP:20260421T171254Z
DTSTART;VALUE=DATE:20171012
DTEND;VALUE=DATE:20171015
SUMMARY:EIS 2017
DESCRIPTION:SPECIAL SESSION on EHEALTH INFORMATION SYSTEMS
URL:http://www.wikicfp.com/cfp/servlet/event.showcfp?eventid=58985&copyow
 nerid=99073
UID:cfp665750-E@wikicfp.com
END:VEVENT
BEGIN:VEVENT
DTSTAMP:20260421T171254Z
DTSTART;VALUE=DATE:20170522
SUMMARY:EIS 2017 Deadline
DESCRIPTION:SPECIAL SESSION on EHEALTH INFORMATION SYSTEMS
URL:http://www.wikicfp.com/cfp/servlet/event.showcfp?eventid=58985&copyow
 nerid=99073
UID:cfp665750-D@wikicfp.com
END:VEVENT
BEGIN:VEVENT
DTSTAMP:20260421T171254Z
DTSTART;VALUE=DATE:20170605
SUMMARY:EIS 2017 Notification Due
DESCRIPTION:SPECIAL SESSION on EHEALTH INFORMATION SYSTEMS
URL:http://www.wikicfp.com/cfp/servlet/event.showcfp?eventid=58985&copyow
 nerid=99073
UID:cfp665750-N@wikicfp.com
END:VEVENT
BEGIN:VEVENT
DTSTAMP:20260421T171254Z
DTSTART;VALUE=DATE:20170616
SUMMARY:EIS 2017 Final Version Due
DESCRIPTION:SPECIAL SESSION on EHEALTH INFORMATION SYSTEMS
URL:http://www.wikicfp.com/cfp/servlet/event.showcfp?eventid=58985&copyow
 nerid=99073
UID:cfp665750-N@wikicfp.com
END:VEVENT
BEGIN:VEVENT
DTSTAMP:20260421T171254Z
DTSTART;VALUE=DATE:20171030
DTEND;VALUE=DATE:20171101
SUMMARY:icSPORTS 2017
DESCRIPTION:5th International Congress on Sport Sciences Research and Tec
 hnology Support
URL:http://www.wikicfp.com/cfp/servlet/event.showcfp?eventid=61070&copyow
 nerid=99073
UID:cfp665756-E@wikicfp.com
END:VEVENT
BEGIN:VEVENT
DTSTAMP:20260421T171254Z
DTSTART;VALUE=DATE:20170522
SUMMARY:icSPORTS 2017 Deadline
DESCRIPTION:5th International Congress on Sport Sciences Research and Tec
 hnology Support
URL:http://www.wikicfp.com/cfp/servlet/event.showcfp?eventid=61070&copyow
 nerid=99073
UID:cfp665756-D@wikicfp.com
END:VEVENT
BEGIN:VEVENT
DTSTAMP:20260421T171254Z
DTSTART;VALUE=DATE:20170724
SUMMARY:icSPORTS 2017 Notification Due
DESCRIPTION:5th International Congress on Sport Sciences Research and Tec
 hnology Support
URL:http://www.wikicfp.com/cfp/servlet/event.showcfp?eventid=61070&copyow
 nerid=99073
UID:cfp665756-N@wikicfp.com
END:VEVENT
BEGIN:VEVENT
DTSTAMP:20260421T171254Z
DTSTART;VALUE=DATE:20170901
SUMMARY:icSPORTS 2017 Final Version Due
DESCRIPTION:5th International Congress on Sport Sciences Research and Tec
 hnology Support
URL:http://www.wikicfp.com/cfp/servlet/event.showcfp?eventid=61070&copyow
 nerid=99073
UID:cfp665756-N@wikicfp.com
END:VEVENT
BEGIN:VEVENT
DTSTAMP:20260421T171254Z
DTSTART;VALUE=DATE:20170301
DTEND;VALUE=DATE:20170531
SUMMARY:Health Tomorrow 2017
DESCRIPTION:CFP: Taking Back Health: HTII\, Vol. 5 (2017)
URL:http://www.wikicfp.com/cfp/servlet/event.showcfp?eventid=63091&copyow
 nerid=99073
UID:cfp665759-E@wikicfp.com
END:VEVENT
BEGIN:VEVENT
DTSTAMP:20260421T171254Z
DTSTART;VALUE=DATE:20170530
SUMMARY:Health Tomorrow 2017 Deadline
DESCRIPTION:CFP: Taking Back Health: HTII\, Vol. 5 (2017)
URL:http://www.wikicfp.com/cfp/servlet/event.showcfp?eventid=63091&copyow
 nerid=99073
UID:cfp665759-D@wikicfp.com
END:VEVENT
BEGIN:VEVENT
DTSTAMP:20260421T171254Z
DTSTART;VALUE=DATE:20171012
DTEND;VALUE=DATE:20171016
SUMMARY:HEALTHCOM 2017
DESCRIPTION:19th IEEE International Conference on  e-Health Networking\, 
 Application & Services (HEALTHCOM 2017)
URL:http://www.wikicfp.com/cfp/servlet/event.showcfp?eventid=63331&copyow
 nerid=99073
UID:cfp665760-E@wikicfp.com
END:VEVENT
BEGIN:VEVENT
DTSTAMP:20260421T171254Z
DTSTART;VALUE=DATE:20170601
SUMMARY:HEALTHCOM 2017 Deadline
DESCRIPTION:19th IEEE International Conference on  e-Health Networking\, 
 Application & Services (HEALTHCOM 2017)
URL:http://www.wikicfp.com/cfp/servlet/event.showcfp?eventid=63331&copyow
 nerid=99073
UID:cfp665760-D@wikicfp.com
END:VEVENT
BEGIN:VEVENT
DTSTAMP:20260421T171254Z
DTSTART;VALUE=DATE:20170715
SUMMARY:HEALTHCOM 2017 Notification Due
DESCRIPTION:19th IEEE International Conference on  e-Health Networking\, 
 Application & Services (HEALTHCOM 2017)
URL:http://www.wikicfp.com/cfp/servlet/event.showcfp?eventid=63331&copyow
 nerid=99073
UID:cfp665760-N@wikicfp.com
END:VEVENT
BEGIN:VEVENT
DTSTAMP:20260421T171254Z
DTSTART;VALUE=DATE:20170912
SUMMARY:HEALTHCOM 2017 Final Version Due
DESCRIPTION:19th IEEE International Conference on  e-Health Networking\, 
 Application & Services (HEALTHCOM 2017)
URL:http://www.wikicfp.com/cfp/servlet/event.showcfp?eventid=63331&copyow
 nerid=99073
UID:cfp665760-N@wikicfp.com
END:VEVENT
BEGIN:VEVENT
DTSTAMP:20260421T171254Z
DTSTART;VALUE=DATE:20170705
DTEND;VALUE=DATE:20170708
SUMMARY:PHC 2017
DESCRIPTION:4th Annual Public Health Conference
URL:http://www.wikicfp.com/cfp/servlet/event.showcfp?eventid=57683&copyow
 nerid=99073
UID:cfp665746-E@wikicfp.com
END:VEVENT
BEGIN:VEVENT
DTSTAMP:20260421T171254Z
DTSTART;VALUE=DATE:20170601
SUMMARY:PHC 2017 Abstract Due
DESCRIPTION:4th Annual Public Health Conference
URL:http://www.wikicfp.com/cfp/servlet/event.showcfp?eventid=57683&copyow
 nerid=99073
UID:cfp665746-A@wikicfp.com
END:VEVENT
BEGIN:VEVENT
DTSTAMP:20260421T171254Z
DTSTART;VALUE=DATE:20170615
SUMMARY:PHC 2017 Deadline
DESCRIPTION:4th Annual Public Health Conference
URL:http://www.wikicfp.com/cfp/servlet/event.showcfp?eventid=57683&copyow
 nerid=99073
UID:cfp665746-D@wikicfp.com
END:VEVENT
BEGIN:VEVENT
DTSTAMP:20260421T171254Z
DTSTART;VALUE=DATE:20170615
SUMMARY:PHC 2017 Final Version Due
DESCRIPTION:4th Annual Public Health Conference
URL:http://www.wikicfp.com/cfp/servlet/event.showcfp?eventid=57683&copyow
 nerid=99073
UID:cfp665746-N@wikicfp.com
END:VEVENT
BEGIN:VEVENT
DTSTAMP:20260421T171254Z
DTSTART;VALUE=DATE:20170923
DTEND;VALUE=DATE:20170926
SUMMARY:BFAL 2017
DESCRIPTION:International Conference on Brain Function Assessment in Lear
 ning
URL:http://www.wikicfp.com/cfp/servlet/event.showcfp?eventid=59220&copyow
 nerid=99073
UID:cfp665751-E@wikicfp.com
END:VEVENT
BEGIN:VEVENT
DTSTAMP:20260421T171254Z
DTSTART;VALUE=DATE:20170620
SUMMARY:BFAL 2017 Deadline
DESCRIPTION:International Conference on Brain Function Assessment in Lear
 ning
URL:http://www.wikicfp.com/cfp/servlet/event.showcfp?eventid=59220&copyow
 nerid=99073
UID:cfp665751-D@wikicfp.com
END:VEVENT
BEGIN:VEVENT
DTSTAMP:20260421T171254Z
DTSTART;VALUE=DATE:20170715
SUMMARY:BFAL 2017 Notification Due
DESCRIPTION:International Conference on Brain Function Assessment in Lear
 ning
URL:http://www.wikicfp.com/cfp/servlet/event.showcfp?eventid=59220&copyow
 nerid=99073
UID:cfp665751-N@wikicfp.com
END:VEVENT
BEGIN:VEVENT
DTSTAMP:20260421T171254Z
DTSTART;VALUE=DATE:20170730
SUMMARY:BFAL 2017 Final Version Due
DESCRIPTION:International Conference on Brain Function Assessment in Lear
 ning
URL:http://www.wikicfp.com/cfp/servlet/event.showcfp?eventid=59220&copyow
 nerid=99073
UID:cfp665751-N@wikicfp.com
END:VEVENT
BEGIN:VEVENT
DTSTAMP:20260421T171254Z
DTSTART;VALUE=DATE:20171012
DTEND;VALUE=DATE:20171016
SUMMARY:HEALTHCOM 2017
DESCRIPTION:CFW of 19th IEEE International Conference on e-Health Network
 ing\, Application & Services (IEEE HEALTHCOM 2017)
URL:http://www.wikicfp.com/cfp/servlet/event.showcfp?eventid=63332&copyow
 nerid=99073
UID:cfp665761-E@wikicfp.com
END:VEVENT
BEGIN:VEVENT
DTSTAMP:20260421T171254Z
DTSTART;VALUE=DATE:20170725
SUMMARY:HEALTHCOM 2017 Deadline
DESCRIPTION:CFW of 19th IEEE International Conference on e-Health Network
 ing\, Application & Services (IEEE HEALTHCOM 2017)
URL:http://www.wikicfp.com/cfp/servlet/event.showcfp?eventid=63332&copyow
 nerid=99073
UID:cfp665761-D@wikicfp.com
END:VEVENT
BEGIN:VEVENT
DTSTAMP:20260421T171254Z
DTSTART;VALUE=DATE:20170831
SUMMARY:HEALTHCOM 2017 Notification Due
DESCRIPTION:CFW of 19th IEEE International Conference on e-Health Network
 ing\, Application & Services (IEEE HEALTHCOM 2017)
URL:http://www.wikicfp.com/cfp/servlet/event.showcfp?eventid=63332&copyow
 nerid=99073
UID:cfp665761-N@wikicfp.com
END:VEVENT
BEGIN:VEVENT
DTSTAMP:20260421T171254Z
DTSTART;VALUE=DATE:20170912
SUMMARY:HEALTHCOM 2017 Final Version Due
DESCRIPTION:CFW of 19th IEEE International Conference on e-Health Network
 ing\, Application & Services (IEEE HEALTHCOM 2017)
URL:http://www.wikicfp.com/cfp/servlet/event.showcfp?eventid=63332&copyow
 nerid=99073
UID:cfp665761-N@wikicfp.com
END:VEVENT
END:VCALENDAR
