BEGIN:VCALENDAR
PRODID:-//WikiCFP//yongkang_wong 1.0//EN
VERSION:2.0
CALSCALE:GREGORIAN
BEGIN:VEVENT
DTSTAMP:20260419T192856Z
DTSTART;VALUE=DATE:20170721
DTEND;VALUE=DATE:20170722
SUMMARY:CVPRW 2017
DESCRIPTION:The 1st Workshop of Open Domain Action Recognition in conjuct
 ion with CVPR 2017
URL:http://www.wikicfp.com/cfp/servlet/event.showcfp?eventid=62069&copyow
 nerid=98900
UID:cfp664760-E@wikicfp.com
END:VEVENT
BEGIN:VEVENT
DTSTAMP:20260419T192856Z
DTSTART;VALUE=DATE:20170601
SUMMARY:CVPRW 2017 Deadline
DESCRIPTION:The 1st Workshop of Open Domain Action Recognition in conjuct
 ion with CVPR 2017
URL:http://www.wikicfp.com/cfp/servlet/event.showcfp?eventid=62069&copyow
 nerid=98900
UID:cfp664760-D@wikicfp.com
END:VEVENT
END:VCALENDAR
