BEGIN:VCALENDAR
PRODID:-//WikiCFP//lou 1.0//EN
VERSION:2.0
CALSCALE:GREGORIAN
BEGIN:VEVENT
DTSTAMP:20260422T110633Z
DTSTART;VALUE=DATE:20100920
DTEND;VALUE=DATE:20100924
SUMMARY:IHM 2010
DESCRIPTION:22nd French Conference on human Computer Interaction
URL:http://www.wikicfp.com/cfp/servlet/event.showcfp?eventid=8787&copyown
 erid=9878
UID:cfp74369-E@wikicfp.com
END:VEVENT
BEGIN:VEVENT
DTSTAMP:20260422T110633Z
DTSTART;VALUE=DATE:20100520
SUMMARY:IHM 2010 Deadline
DESCRIPTION:22nd French Conference on human Computer Interaction
URL:http://www.wikicfp.com/cfp/servlet/event.showcfp?eventid=8787&copyown
 erid=9878
UID:cfp74369-D@wikicfp.com
END:VEVENT
BEGIN:VEVENT
DTSTAMP:20260422T110633Z
DTSTART;VALUE=DATE:20100628
SUMMARY:IHM 2010 Notification Due
DESCRIPTION:22nd French Conference on human Computer Interaction
URL:http://www.wikicfp.com/cfp/servlet/event.showcfp?eventid=8787&copyown
 erid=9878
UID:cfp74369-N@wikicfp.com
END:VEVENT
BEGIN:VEVENT
DTSTAMP:20260422T110633Z
DTSTART;VALUE=DATE:20100716
SUMMARY:IHM 2010 Final Version Due
DESCRIPTION:22nd French Conference on human Computer Interaction
URL:http://www.wikicfp.com/cfp/servlet/event.showcfp?eventid=8787&copyown
 erid=9878
UID:cfp74369-N@wikicfp.com
END:VEVENT
END:VCALENDAR
