BEGIN:VCALENDAR
PRODID:-//WikiCFP//tvandera 1.0//EN
VERSION:2.0
CALSCALE:GREGORIAN
BEGIN:VEVENT
DTSTAMP:20260419T212104Z
DTSTART;VALUE=DATE:20200720
DTEND;VALUE=DATE:20200725
SUMMARY:HPCS 2020
DESCRIPTION:The 2020 International Conference on High Performance Computi
 ng & Simulation
URL:http://www.wikicfp.com/cfp/servlet/event.showcfp?eventid=96646&copyow
 nerid=9772
UID:cfp814687-E@wikicfp.com
END:VEVENT
BEGIN:VEVENT
DTSTAMP:20260419T212104Z
DTSTART;VALUE=DATE:20200621
DTEND;VALUE=DATE:20200626
SUMMARY:ISC HPC 2020
DESCRIPTION:ISC High Performance 2020
URL:http://www.wikicfp.com/cfp/servlet/event.showcfp?eventid=91891&copyow
 nerid=9772
UID:cfp814685-E@wikicfp.com
END:VEVENT
BEGIN:VEVENT
DTSTAMP:20260419T212104Z
DTSTART;VALUE=DATE:20191021
SUMMARY:ISC HPC 2020 Deadline
DESCRIPTION:ISC High Performance 2020
URL:http://www.wikicfp.com/cfp/servlet/event.showcfp?eventid=91891&copyow
 nerid=9772
UID:cfp814685-D@wikicfp.com
END:VEVENT
BEGIN:VEVENT
DTSTAMP:20260419T212104Z
DTSTART;VALUE=DATE:20200205
SUMMARY:ISC HPC 2020 Notification Due
DESCRIPTION:ISC High Performance 2020
URL:http://www.wikicfp.com/cfp/servlet/event.showcfp?eventid=91891&copyow
 nerid=9772
UID:cfp814685-N@wikicfp.com
END:VEVENT
BEGIN:VEVENT
DTSTAMP:20260419T212104Z
DTSTART;VALUE=DATE:20200510
SUMMARY:ISC HPC 2020 Final Version Due
DESCRIPTION:ISC High Performance 2020
URL:http://www.wikicfp.com/cfp/servlet/event.showcfp?eventid=91891&copyow
 nerid=9772
UID:cfp814685-N@wikicfp.com
END:VEVENT
BEGIN:VEVENT
DTSTAMP:20260419T212104Z
DTSTART;VALUE=DATE:20200603
DTEND;VALUE=DATE:20200606
SUMMARY:ICCS 2020
DESCRIPTION:International Conference on Computational Science
URL:http://www.wikicfp.com/cfp/servlet/event.showcfp?eventid=94962&copyow
 nerid=9772
UID:cfp814688-E@wikicfp.com
END:VEVENT
BEGIN:VEVENT
DTSTAMP:20260419T212104Z
DTSTART;VALUE=DATE:20191213
SUMMARY:ICCS 2020 Deadline
DESCRIPTION:International Conference on Computational Science
URL:http://www.wikicfp.com/cfp/servlet/event.showcfp?eventid=94962&copyow
 nerid=9772
UID:cfp814688-D@wikicfp.com
END:VEVENT
BEGIN:VEVENT
DTSTAMP:20260419T212104Z
DTSTART;VALUE=DATE:20200124
SUMMARY:ICCS 2020 Notification Due
DESCRIPTION:International Conference on Computational Science
URL:http://www.wikicfp.com/cfp/servlet/event.showcfp?eventid=94962&copyow
 nerid=9772
UID:cfp814688-N@wikicfp.com
END:VEVENT
BEGIN:VEVENT
DTSTAMP:20260419T212104Z
DTSTART;VALUE=DATE:20200228
SUMMARY:ICCS 2020 Final Version Due
DESCRIPTION:International Conference on Computational Science
URL:http://www.wikicfp.com/cfp/servlet/event.showcfp?eventid=94962&copyow
 nerid=9772
UID:cfp814688-N@wikicfp.com
END:VEVENT
BEGIN:VEVENT
DTSTAMP:20260419T212104Z
DTSTART;VALUE=DATE:20200629
DTEND;VALUE=DATE:20200702
SUMMARY:PASC 2020
DESCRIPTION:Platform for Advanced Scientific Computing (PASC) Conference
URL:http://www.wikicfp.com/cfp/servlet/event.showcfp?eventid=94820&copyow
 nerid=9772
UID:cfp814683-E@wikicfp.com
END:VEVENT
BEGIN:VEVENT
DTSTAMP:20260419T212104Z
DTSTART;VALUE=DATE:20191215
SUMMARY:PASC 2020 Deadline
DESCRIPTION:Platform for Advanced Scientific Computing (PASC) Conference
URL:http://www.wikicfp.com/cfp/servlet/event.showcfp?eventid=94820&copyow
 nerid=9772
UID:cfp814683-D@wikicfp.com
END:VEVENT
BEGIN:VEVENT
DTSTAMP:20260419T212104Z
DTSTART;VALUE=DATE:20200707
DTEND;VALUE=DATE:20200711
SUMMARY:ICDCS 2020
DESCRIPTION:International Conference on Distributed Computing Systems
URL:http://www.wikicfp.com/cfp/servlet/event.showcfp?eventid=93353&copyow
 nerid=9772
UID:cfp814689-E@wikicfp.com
END:VEVENT
BEGIN:VEVENT
DTSTAMP:20260419T212104Z
DTSTART;VALUE=DATE:20200106
SUMMARY:ICDCS 2020 Abstract Due
DESCRIPTION:International Conference on Distributed Computing Systems
URL:http://www.wikicfp.com/cfp/servlet/event.showcfp?eventid=93353&copyow
 nerid=9772
UID:cfp814689-A@wikicfp.com
END:VEVENT
BEGIN:VEVENT
DTSTAMP:20260419T212104Z
DTSTART;VALUE=DATE:20200113
SUMMARY:ICDCS 2020 Deadline
DESCRIPTION:International Conference on Distributed Computing Systems
URL:http://www.wikicfp.com/cfp/servlet/event.showcfp?eventid=93353&copyow
 nerid=9772
UID:cfp814689-D@wikicfp.com
END:VEVENT
BEGIN:VEVENT
DTSTAMP:20260419T212104Z
DTSTART;VALUE=DATE:20200314
SUMMARY:ICDCS 2020 Notification Due
DESCRIPTION:International Conference on Distributed Computing Systems
URL:http://www.wikicfp.com/cfp/servlet/event.showcfp?eventid=93353&copyow
 nerid=9772
UID:cfp814689-N@wikicfp.com
END:VEVENT
BEGIN:VEVENT
DTSTAMP:20260419T212104Z
DTSTART;VALUE=DATE:20200404
SUMMARY:ICDCS 2020 Final Version Due
DESCRIPTION:International Conference on Distributed Computing Systems
URL:http://www.wikicfp.com/cfp/servlet/event.showcfp?eventid=93353&copyow
 nerid=9772
UID:cfp814689-N@wikicfp.com
END:VEVENT
BEGIN:VEVENT
DTSTAMP:20260419T212104Z
DTSTART;VALUE=DATE:20200623
DTEND;VALUE=DATE:20200627
SUMMARY:HPDC 2020
DESCRIPTION:International Symposium on High-Performance Parallel and Dist
 ributed Computing
URL:http://www.wikicfp.com/cfp/servlet/event.showcfp?eventid=95645&copyow
 nerid=9772
UID:cfp814690-E@wikicfp.com
END:VEVENT
BEGIN:VEVENT
DTSTAMP:20260419T212104Z
DTSTART;VALUE=DATE:20200116
SUMMARY:HPDC 2020 Abstract Due
DESCRIPTION:International Symposium on High-Performance Parallel and Dist
 ributed Computing
URL:http://www.wikicfp.com/cfp/servlet/event.showcfp?eventid=95645&copyow
 nerid=9772
UID:cfp814690-A@wikicfp.com
END:VEVENT
BEGIN:VEVENT
DTSTAMP:20260419T212104Z
DTSTART;VALUE=DATE:20200123
SUMMARY:HPDC 2020 Deadline
DESCRIPTION:International Symposium on High-Performance Parallel and Dist
 ributed Computing
URL:http://www.wikicfp.com/cfp/servlet/event.showcfp?eventid=95645&copyow
 nerid=9772
UID:cfp814690-D@wikicfp.com
END:VEVENT
BEGIN:VEVENT
DTSTAMP:20260419T212104Z
DTSTART;VALUE=DATE:20200401
SUMMARY:HPDC 2020 Notification Due
DESCRIPTION:International Symposium on High-Performance Parallel and Dist
 ributed Computing
URL:http://www.wikicfp.com/cfp/servlet/event.showcfp?eventid=95645&copyow
 nerid=9772
UID:cfp814690-N@wikicfp.com
END:VEVENT
BEGIN:VEVENT
DTSTAMP:20260419T212104Z
DTSTART;VALUE=DATE:20200616
DTEND;VALUE=DATE:20200620
SUMMARY:DCAI 2020
DESCRIPTION:17th International Conference on Distributed Computing and Ar
 tificial Intelligence
URL:http://www.wikicfp.com/cfp/servlet/event.showcfp?eventid=96068&copyow
 nerid=9772
UID:cfp814682-E@wikicfp.com
END:VEVENT
BEGIN:VEVENT
DTSTAMP:20260419T212104Z
DTSTART;VALUE=DATE:20200131
SUMMARY:DCAI 2020 Deadline
DESCRIPTION:17th International Conference on Distributed Computing and Ar
 tificial Intelligence
URL:http://www.wikicfp.com/cfp/servlet/event.showcfp?eventid=96068&copyow
 nerid=9772
UID:cfp814682-D@wikicfp.com
END:VEVENT
BEGIN:VEVENT
DTSTAMP:20260419T212104Z
DTSTART;VALUE=DATE:20200309
SUMMARY:DCAI 2020 Notification Due
DESCRIPTION:17th International Conference on Distributed Computing and Ar
 tificial Intelligence
URL:http://www.wikicfp.com/cfp/servlet/event.showcfp?eventid=96068&copyow
 nerid=9772
UID:cfp814682-N@wikicfp.com
END:VEVENT
BEGIN:VEVENT
DTSTAMP:20260419T212104Z
DTSTART;VALUE=DATE:20200330
SUMMARY:DCAI 2020 Final Version Due
DESCRIPTION:17th International Conference on Distributed Computing and Ar
 tificial Intelligence
URL:http://www.wikicfp.com/cfp/servlet/event.showcfp?eventid=96068&copyow
 nerid=9772
UID:cfp814682-N@wikicfp.com
END:VEVENT
BEGIN:VEVENT
DTSTAMP:20260419T212104Z
DTSTART;VALUE=DATE:20200914
DTEND;VALUE=DATE:20200918
SUMMARY:CLUSTER 2020
DESCRIPTION:IEEE International Conference on Cluster Computing
URL:http://www.wikicfp.com/cfp/servlet/event.showcfp?eventid=96581&copyow
 nerid=9772
UID:cfp814958-E@wikicfp.com
END:VEVENT
BEGIN:VEVENT
DTSTAMP:20260419T212104Z
DTSTART;VALUE=DATE:20200503
SUMMARY:CLUSTER 2020 Abstract Due
DESCRIPTION:IEEE International Conference on Cluster Computing
URL:http://www.wikicfp.com/cfp/servlet/event.showcfp?eventid=96581&copyow
 nerid=9772
UID:cfp814958-A@wikicfp.com
END:VEVENT
BEGIN:VEVENT
DTSTAMP:20260419T212104Z
DTSTART;VALUE=DATE:20200510
SUMMARY:CLUSTER 2020 Deadline
DESCRIPTION:IEEE International Conference on Cluster Computing
URL:http://www.wikicfp.com/cfp/servlet/event.showcfp?eventid=96581&copyow
 nerid=9772
UID:cfp814958-D@wikicfp.com
END:VEVENT
BEGIN:VEVENT
DTSTAMP:20260419T212104Z
DTSTART;VALUE=DATE:20200706
SUMMARY:CLUSTER 2020 Notification Due
DESCRIPTION:IEEE International Conference on Cluster Computing
URL:http://www.wikicfp.com/cfp/servlet/event.showcfp?eventid=96581&copyow
 nerid=9772
UID:cfp814958-N@wikicfp.com
END:VEVENT
BEGIN:VEVENT
DTSTAMP:20260419T212104Z
DTSTART;VALUE=DATE:20200814
SUMMARY:CLUSTER 2020 Final Version Due
DESCRIPTION:IEEE International Conference on Cluster Computing
URL:http://www.wikicfp.com/cfp/servlet/event.showcfp?eventid=96581&copyow
 nerid=9772
UID:cfp814958-N@wikicfp.com
END:VEVENT
END:VCALENDAR
