BEGIN:VCALENDAR
PRODID:-//WikiCFP//najihapp 1.0//EN
VERSION:2.0
CALSCALE:GREGORIAN
BEGIN:VEVENT
DTSTAMP:20260423T081912Z
DTSTART;VALUE=DATE:20170907
DTEND;VALUE=DATE:20170910
SUMMARY:GLoCALL 2017
DESCRIPTION:The Globalization and Localization in Computer-Assisted Langu
 age Learning (GLoCALL) Conference 2017
URL:http://www.wikicfp.com/cfp/servlet/event.showcfp?eventid=62242&copyow
 nerid=97055
UID:cfp654570-E@wikicfp.com
END:VEVENT
BEGIN:VEVENT
DTSTAMP:20260423T081912Z
DTSTART;VALUE=DATE:20170415
SUMMARY:GLoCALL 2017 Deadline
DESCRIPTION:The Globalization and Localization in Computer-Assisted Langu
 age Learning (GLoCALL) Conference 2017
URL:http://www.wikicfp.com/cfp/servlet/event.showcfp?eventid=62242&copyow
 nerid=97055
UID:cfp654570-D@wikicfp.com
END:VEVENT
BEGIN:VEVENT
DTSTAMP:20260423T081912Z
DTSTART;VALUE=DATE:20170515
SUMMARY:GLoCALL 2017 Notification Due
DESCRIPTION:The Globalization and Localization in Computer-Assisted Langu
 age Learning (GLoCALL) Conference 2017
URL:http://www.wikicfp.com/cfp/servlet/event.showcfp?eventid=62242&copyow
 nerid=97055
UID:cfp654570-N@wikicfp.com
END:VEVENT
BEGIN:VEVENT
DTSTAMP:20260423T081912Z
DTSTART;VALUE=DATE:20180816
DTEND;VALUE=DATE:20180819
SUMMARY:GLoCALL 2018
DESCRIPTION:The Globalization and Localization in Computer-Assisted Langu
 age Learning (GLoCALL) Conference 2018
URL:http://www.wikicfp.com/cfp/servlet/event.showcfp?eventid=74885&copyow
 nerid=97055
UID:cfp719657-E@wikicfp.com
END:VEVENT
BEGIN:VEVENT
DTSTAMP:20260423T081912Z
DTSTART;VALUE=DATE:20180415
SUMMARY:GLoCALL 2018 Deadline
DESCRIPTION:The Globalization and Localization in Computer-Assisted Langu
 age Learning (GLoCALL) Conference 2018
URL:http://www.wikicfp.com/cfp/servlet/event.showcfp?eventid=74885&copyow
 nerid=97055
UID:cfp719657-D@wikicfp.com
END:VEVENT
BEGIN:VEVENT
DTSTAMP:20260423T081912Z
DTSTART;VALUE=DATE:20200806
DTEND;VALUE=DATE:20200809
SUMMARY:GLoCALL 2020
DESCRIPTION:The Globalization and Localization in Computer-Assisted Langu
 age Learning
URL:http://www.wikicfp.com/cfp/servlet/event.showcfp?eventid=100611&copyo
 wnerid=97055
UID:cfp829709-E@wikicfp.com
END:VEVENT
BEGIN:VEVENT
DTSTAMP:20260423T081912Z
DTSTART;VALUE=DATE:20200331
SUMMARY:GLoCALL 2020 Deadline
DESCRIPTION:The Globalization and Localization in Computer-Assisted Langu
 age Learning
URL:http://www.wikicfp.com/cfp/servlet/event.showcfp?eventid=100611&copyo
 wnerid=97055
UID:cfp829709-D@wikicfp.com
END:VEVENT
BEGIN:VEVENT
DTSTAMP:20260423T081912Z
DTSTART;VALUE=DATE:20211217
DTEND;VALUE=DATE:20211219
SUMMARY:GLoCALL 2021
DESCRIPTION:The Globalization and Localization in Computer-Assisted Langu
 age Learning (GLoCALL) Conference 2021
URL:http://www.wikicfp.com/cfp/servlet/event.showcfp?eventid=137311&copyo
 wnerid=97055
UID:cfp892343-E@wikicfp.com
END:VEVENT
BEGIN:VEVENT
DTSTAMP:20260423T081912Z
DTSTART;VALUE=DATE:20210831
SUMMARY:GLoCALL 2021 Abstract Due
DESCRIPTION:The Globalization and Localization in Computer-Assisted Langu
 age Learning (GLoCALL) Conference 2021
URL:http://www.wikicfp.com/cfp/servlet/event.showcfp?eventid=137311&copyo
 wnerid=97055
UID:cfp892343-A@wikicfp.com
END:VEVENT
BEGIN:VEVENT
DTSTAMP:20260423T081912Z
DTSTART;VALUE=DATE:20211015
SUMMARY:GLoCALL 2021 Deadline
DESCRIPTION:The Globalization and Localization in Computer-Assisted Langu
 age Learning (GLoCALL) Conference 2021
URL:http://www.wikicfp.com/cfp/servlet/event.showcfp?eventid=137311&copyo
 wnerid=97055
UID:cfp892343-D@wikicfp.com
END:VEVENT
BEGIN:VEVENT
DTSTAMP:20260423T081912Z
DTSTART;VALUE=DATE:20210930
SUMMARY:GLoCALL 2021 Notification Due
DESCRIPTION:The Globalization and Localization in Computer-Assisted Langu
 age Learning (GLoCALL) Conference 2021
URL:http://www.wikicfp.com/cfp/servlet/event.showcfp?eventid=137311&copyo
 wnerid=97055
UID:cfp892343-N@wikicfp.com
END:VEVENT
BEGIN:VEVENT
DTSTAMP:20260423T081912Z
DTSTART;VALUE=DATE:20211016
SUMMARY:GLoCALL 2021 Final Version Due
DESCRIPTION:The Globalization and Localization in Computer-Assisted Langu
 age Learning (GLoCALL) Conference 2021
URL:http://www.wikicfp.com/cfp/servlet/event.showcfp?eventid=137311&copyo
 wnerid=97055
UID:cfp892343-N@wikicfp.com
END:VEVENT
BEGIN:VEVENT
DTSTAMP:20260423T081912Z
DTSTART;VALUE=DATE:20240822
DTEND;VALUE=DATE:20240825
SUMMARY:GLoCALL  2024
DESCRIPTION:The Globalization and Localization in Computer-Assisted Langu
 age Learning (GLoCALL) 2024
URL:http://www.wikicfp.com/cfp/servlet/event.showcfp?eventid=179564&copyo
 wnerid=97055
UID:cfp988643-E@wikicfp.com
END:VEVENT
BEGIN:VEVENT
DTSTAMP:20260423T081912Z
DTSTART;VALUE=DATE:20240330
SUMMARY:GLoCALL  2024 Deadline
DESCRIPTION:The Globalization and Localization in Computer-Assisted Langu
 age Learning (GLoCALL) 2024
URL:http://www.wikicfp.com/cfp/servlet/event.showcfp?eventid=179564&copyo
 wnerid=97055
UID:cfp988643-D@wikicfp.com
END:VEVENT
END:VCALENDAR
