BEGIN:VCALENDAR
PRODID:-//WikiCFP//Reetika13 1.0//EN
VERSION:2.0
CALSCALE:GREGORIAN
BEGIN:VEVENT
DTSTAMP:20260423T143358Z
DTSTART;VALUE=DATE:20170714
DTEND;VALUE=DATE:20170716
SUMMARY:ICCIDE 2017
DESCRIPTION:International Conference on Computational Intelligence & Data
  Engineering
URL:http://www.wikicfp.com/cfp/servlet/event.showcfp?eventid=60144&copyow
 nerid=97008
UID:cfp654111-E@wikicfp.com
END:VEVENT
BEGIN:VEVENT
DTSTAMP:20260423T143358Z
DTSTART;VALUE=DATE:20170315
SUMMARY:ICCIDE 2017 Deadline
DESCRIPTION:International Conference on Computational Intelligence & Data
  Engineering
URL:http://www.wikicfp.com/cfp/servlet/event.showcfp?eventid=60144&copyow
 nerid=97008
UID:cfp654111-D@wikicfp.com
END:VEVENT
BEGIN:VEVENT
DTSTAMP:20260423T143358Z
DTSTART;VALUE=DATE:20170415
SUMMARY:ICCIDE 2017 Notification Due
DESCRIPTION:International Conference on Computational Intelligence & Data
  Engineering
URL:http://www.wikicfp.com/cfp/servlet/event.showcfp?eventid=60144&copyow
 nerid=97008
UID:cfp654111-N@wikicfp.com
END:VEVENT
BEGIN:VEVENT
DTSTAMP:20260423T143358Z
DTSTART;VALUE=DATE:20170501
SUMMARY:ICCIDE 2017 Final Version Due
DESCRIPTION:International Conference on Computational Intelligence & Data
  Engineering
URL:http://www.wikicfp.com/cfp/servlet/event.showcfp?eventid=60144&copyow
 nerid=97008
UID:cfp654111-N@wikicfp.com
END:VEVENT
BEGIN:VEVENT
DTSTAMP:20260423T143358Z
DTSTART;VALUE=DATE:20170525
DTEND;VALUE=DATE:20170528
SUMMARY:DMCIT 2017
DESCRIPTION:ACM-2017 International Conference on Data Mining\, Communicat
 ions and  Information Technology(DMCIT 2017)--EI
URL:http://www.wikicfp.com/cfp/servlet/event.showcfp?eventid=58182&copyow
 nerid=97008
UID:cfp654110-E@wikicfp.com
END:VEVENT
BEGIN:VEVENT
DTSTAMP:20260423T143358Z
DTSTART;VALUE=DATE:20170410
SUMMARY:DMCIT 2017 Deadline
DESCRIPTION:ACM-2017 International Conference on Data Mining\, Communicat
 ions and  Information Technology(DMCIT 2017)--EI
URL:http://www.wikicfp.com/cfp/servlet/event.showcfp?eventid=58182&copyow
 nerid=97008
UID:cfp654110-D@wikicfp.com
END:VEVENT
END:VCALENDAR
