BEGIN:VCALENDAR
PRODID:-//WikiCFP//mdawson 1.0//EN
VERSION:2.0
CALSCALE:GREGORIAN
BEGIN:VEVENT
DTSTAMP:20260419T183948Z
DTSTART;VALUE=DATE:20170206
DTEND;VALUE=DATE:20170210
SUMMARY:IAAI 2017
DESCRIPTION:Innovative Applications of Artificial Intelligence
URL:http://www.wikicfp.com/cfp/servlet/event.showcfp?eventid=60866&copyow
 nerid=96883
UID:cfp653457-E@wikicfp.com
END:VEVENT
BEGIN:VEVENT
DTSTAMP:20260419T183948Z
DTSTART;VALUE=DATE:20160912
SUMMARY:IAAI 2017 Deadline
DESCRIPTION:Innovative Applications of Artificial Intelligence
URL:http://www.wikicfp.com/cfp/servlet/event.showcfp?eventid=60866&copyow
 nerid=96883
UID:cfp653457-D@wikicfp.com
END:VEVENT
BEGIN:VEVENT
DTSTAMP:20260419T183948Z
DTSTART;VALUE=DATE:20161128
SUMMARY:IAAI 2017 Final Version Due
DESCRIPTION:Innovative Applications of Artificial Intelligence
URL:http://www.wikicfp.com/cfp/servlet/event.showcfp?eventid=60866&copyow
 nerid=96883
UID:cfp653457-N@wikicfp.com
END:VEVENT
BEGIN:VEVENT
DTSTAMP:20260419T183948Z
DTSTART;VALUE=DATE:20170703
DTEND;VALUE=DATE:20170708
SUMMARY:RABiD 2017
DESCRIPTION:Call for Papers for 1st International Workshop on Recent Adva
 nces in Biomedical Data Analysis
URL:http://www.wikicfp.com/cfp/servlet/event.showcfp?eventid=61112&copyow
 nerid=96883
UID:cfp653453-E@wikicfp.com
END:VEVENT
BEGIN:VEVENT
DTSTAMP:20260419T183948Z
DTSTART;VALUE=DATE:20170228
SUMMARY:RABiD 2017 Deadline
DESCRIPTION:Call for Papers for 1st International Workshop on Recent Adva
 nces in Biomedical Data Analysis
URL:http://www.wikicfp.com/cfp/servlet/event.showcfp?eventid=61112&copyow
 nerid=96883
UID:cfp653453-D@wikicfp.com
END:VEVENT
BEGIN:VEVENT
DTSTAMP:20260419T183948Z
DTSTART;VALUE=DATE:20170330
SUMMARY:RABiD 2017 Notification Due
DESCRIPTION:Call for Papers for 1st International Workshop on Recent Adva
 nces in Biomedical Data Analysis
URL:http://www.wikicfp.com/cfp/servlet/event.showcfp?eventid=61112&copyow
 nerid=96883
UID:cfp653453-N@wikicfp.com
END:VEVENT
BEGIN:VEVENT
DTSTAMP:20260419T183948Z
DTSTART;VALUE=DATE:20170415
SUMMARY:RABiD 2017 Final Version Due
DESCRIPTION:Call for Papers for 1st International Workshop on Recent Adva
 nces in Biomedical Data Analysis
URL:http://www.wikicfp.com/cfp/servlet/event.showcfp?eventid=61112&copyow
 nerid=96883
UID:cfp653453-N@wikicfp.com
END:VEVENT
BEGIN:VEVENT
DTSTAMP:20260419T183948Z
DTSTART;VALUE=DATE:20170301
SUMMARY:TBD 2017 Deadline
DESCRIPTION:IEEE Transactions on Big Data Special Issue on Biomedical Big
  Data: Understanding\, Learning and Applications
URL:http://www.wikicfp.com/cfp/servlet/event.showcfp?eventid=59328&copyow
 nerid=96883
UID:cfp653454-D@wikicfp.com
END:VEVENT
BEGIN:VEVENT
DTSTAMP:20260419T183948Z
DTSTART;VALUE=DATE:20170901
SUMMARY:TBD 2017 Notification Due
DESCRIPTION:IEEE Transactions on Big Data Special Issue on Biomedical Big
  Data: Understanding\, Learning and Applications
URL:http://www.wikicfp.com/cfp/servlet/event.showcfp?eventid=59328&copyow
 nerid=96883
UID:cfp653454-N@wikicfp.com
END:VEVENT
BEGIN:VEVENT
DTSTAMP:20260419T183948Z
DTSTART;VALUE=DATE:20171001
SUMMARY:TBD 2017 Final Version Due
DESCRIPTION:IEEE Transactions on Big Data Special Issue on Biomedical Big
  Data: Understanding\, Learning and Applications
URL:http://www.wikicfp.com/cfp/servlet/event.showcfp?eventid=59328&copyow
 nerid=96883
UID:cfp653454-N@wikicfp.com
END:VEVENT
BEGIN:VEVENT
DTSTAMP:20260419T183948Z
DTSTART;VALUE=DATE:20170703
DTEND;VALUE=DATE:20170708
SUMMARY:IJCRS 2017
DESCRIPTION:International Joint Conference on Rough Sets
URL:http://www.wikicfp.com/cfp/servlet/event.showcfp?eventid=61182&copyow
 nerid=96883
UID:cfp653459-E@wikicfp.com
END:VEVENT
BEGIN:VEVENT
DTSTAMP:20260419T183948Z
DTSTART;VALUE=DATE:20170315
SUMMARY:IJCRS 2017 Deadline
DESCRIPTION:International Joint Conference on Rough Sets
URL:http://www.wikicfp.com/cfp/servlet/event.showcfp?eventid=61182&copyow
 nerid=96883
UID:cfp653459-D@wikicfp.com
END:VEVENT
BEGIN:VEVENT
DTSTAMP:20260419T183948Z
DTSTART;VALUE=DATE:20170330
SUMMARY:IJCRS 2017 Notification Due
DESCRIPTION:International Joint Conference on Rough Sets
URL:http://www.wikicfp.com/cfp/servlet/event.showcfp?eventid=61182&copyow
 nerid=96883
UID:cfp653459-N@wikicfp.com
END:VEVENT
BEGIN:VEVENT
DTSTAMP:20260419T183948Z
DTSTART;VALUE=DATE:20170415
SUMMARY:IJCRS 2017 Final Version Due
DESCRIPTION:International Joint Conference on Rough Sets
URL:http://www.wikicfp.com/cfp/servlet/event.showcfp?eventid=61182&copyow
 nerid=96883
UID:cfp653459-N@wikicfp.com
END:VEVENT
BEGIN:VEVENT
DTSTAMP:20260419T183948Z
DTSTART;VALUE=DATE:20170911
DTEND;VALUE=DATE:20170915
SUMMARY:CLEF 2017
DESCRIPTION:Conference and Labs of the Evaluation Forum Information. Acce
 ss Evaluation meets Multilinguality\, Multimodality and Interaction
URL:http://www.wikicfp.com/cfp/servlet/event.showcfp?eventid=60629&copyow
 nerid=96883
UID:cfp653467-E@wikicfp.com
END:VEVENT
BEGIN:VEVENT
DTSTAMP:20260419T183948Z
DTSTART;VALUE=DATE:20170428
SUMMARY:CLEF 2017 Deadline
DESCRIPTION:Conference and Labs of the Evaluation Forum Information. Acce
 ss Evaluation meets Multilinguality\, Multimodality and Interaction
URL:http://www.wikicfp.com/cfp/servlet/event.showcfp?eventid=60629&copyow
 nerid=96883
UID:cfp653467-D@wikicfp.com
END:VEVENT
BEGIN:VEVENT
DTSTAMP:20260419T183948Z
DTSTART;VALUE=DATE:20170609
SUMMARY:CLEF 2017 Notification Due
DESCRIPTION:Conference and Labs of the Evaluation Forum Information. Acce
 ss Evaluation meets Multilinguality\, Multimodality and Interaction
URL:http://www.wikicfp.com/cfp/servlet/event.showcfp?eventid=60629&copyow
 nerid=96883
UID:cfp653467-N@wikicfp.com
END:VEVENT
BEGIN:VEVENT
DTSTAMP:20260419T183948Z
DTSTART;VALUE=DATE:20170623
SUMMARY:CLEF 2017 Final Version Due
DESCRIPTION:Conference and Labs of the Evaluation Forum Information. Acce
 ss Evaluation meets Multilinguality\, Multimodality and Interaction
URL:http://www.wikicfp.com/cfp/servlet/event.showcfp?eventid=60629&copyow
 nerid=96883
UID:cfp653467-N@wikicfp.com
END:VEVENT
BEGIN:VEVENT
DTSTAMP:20260419T183948Z
DTSTART;VALUE=DATE:20171118
DTEND;VALUE=DATE:20171122
SUMMARY:ICDM 2017
DESCRIPTION:IEEE International Conference on Data Mining 2017
URL:http://www.wikicfp.com/cfp/servlet/event.showcfp?eventid=60171&copyow
 nerid=96883
UID:cfp653456-E@wikicfp.com
END:VEVENT
BEGIN:VEVENT
DTSTAMP:20260419T183948Z
DTSTART;VALUE=DATE:20170605
SUMMARY:ICDM 2017 Deadline
DESCRIPTION:IEEE International Conference on Data Mining 2017
URL:http://www.wikicfp.com/cfp/servlet/event.showcfp?eventid=60171&copyow
 nerid=96883
UID:cfp653456-D@wikicfp.com
END:VEVENT
BEGIN:VEVENT
DTSTAMP:20260419T183948Z
DTSTART;VALUE=DATE:20170815
SUMMARY:ICDM 2017 Notification Due
DESCRIPTION:IEEE International Conference on Data Mining 2017
URL:http://www.wikicfp.com/cfp/servlet/event.showcfp?eventid=60171&copyow
 nerid=96883
UID:cfp653456-N@wikicfp.com
END:VEVENT
BEGIN:VEVENT
DTSTAMP:20260419T183948Z
DTSTART;VALUE=DATE:20170830
DTEND;VALUE=DATE:20170903
SUMMARY:AIAAT 2017
DESCRIPTION:2017 International Conference on Artificial Intelligence Appl
 ications and Technologies(AIAAT 2017)
URL:http://www.wikicfp.com/cfp/servlet/event.showcfp?eventid=61557&copyow
 nerid=96883
UID:cfp653452-E@wikicfp.com
END:VEVENT
BEGIN:VEVENT
DTSTAMP:20260419T183948Z
DTSTART;VALUE=DATE:20170630
SUMMARY:AIAAT 2017 Deadline
DESCRIPTION:2017 International Conference on Artificial Intelligence Appl
 ications and Technologies(AIAAT 2017)
URL:http://www.wikicfp.com/cfp/servlet/event.showcfp?eventid=61557&copyow
 nerid=96883
UID:cfp653452-D@wikicfp.com
END:VEVENT
BEGIN:VEVENT
DTSTAMP:20260419T183948Z
DTSTART;VALUE=DATE:20180428
DTEND;VALUE=DATE:20180430
SUMMARY:ITCON 2018
DESCRIPTION:4thÂ International Conference on Information Technology Conve
 rge Services
URL:http://www.wikicfp.com/cfp/servlet/event.showcfp?eventid=61816&copyow
 nerid=96883
UID:cfp653458-E@wikicfp.com
END:VEVENT
BEGIN:VEVENT
DTSTAMP:20260419T183948Z
DTSTART;VALUE=DATE:20180225
SUMMARY:ITCON 2018 Deadline
DESCRIPTION:4thÂ International Conference on Information Technology Conve
 rge Services
URL:http://www.wikicfp.com/cfp/servlet/event.showcfp?eventid=61816&copyow
 nerid=96883
UID:cfp653458-D@wikicfp.com
END:VEVENT
BEGIN:VEVENT
DTSTAMP:20260419T183948Z
DTSTART;VALUE=DATE:20180310
SUMMARY:ITCON 2018 Notification Due
DESCRIPTION:4thÂ International Conference on Information Technology Conve
 rge Services
URL:http://www.wikicfp.com/cfp/servlet/event.showcfp?eventid=61816&copyow
 nerid=96883
UID:cfp653458-N@wikicfp.com
END:VEVENT
BEGIN:VEVENT
DTSTAMP:20260419T183948Z
DTSTART;VALUE=DATE:20180313
SUMMARY:ITCON 2018 Final Version Due
DESCRIPTION:4thÂ International Conference on Information Technology Conve
 rge Services
URL:http://www.wikicfp.com/cfp/servlet/event.showcfp?eventid=61816&copyow
 nerid=96883
UID:cfp653458-N@wikicfp.com
END:VEVENT
END:VCALENDAR
