BEGIN:VCALENDAR
PRODID:-//WikiCFP//tkonopcz 1.0//EN
VERSION:2.0
CALSCALE:GREGORIAN
BEGIN:VEVENT
DTSTAMP:20260423T064143Z
DTSTART;VALUE=DATE:20170424
DTEND;VALUE=DATE:20170427
SUMMARY:ICLR 2017
DESCRIPTION:5th International Conference on Learning Representations
URL:http://www.wikicfp.com/cfp/servlet/event.showcfp?eventid=56720&copyow
 nerid=96563
UID:cfp651200-E@wikicfp.com
END:VEVENT
BEGIN:VEVENT
DTSTAMP:20260423T064143Z
DTSTART;VALUE=DATE:20161104
SUMMARY:ICLR 2017 Deadline
DESCRIPTION:5th International Conference on Learning Representations
URL:http://www.wikicfp.com/cfp/servlet/event.showcfp?eventid=56720&copyow
 nerid=96563
UID:cfp651200-D@wikicfp.com
END:VEVENT
BEGIN:VEVENT
DTSTAMP:20260423T064143Z
DTSTART;VALUE=DATE:20161216
SUMMARY:ICLR 2017 Notification Due
DESCRIPTION:5th International Conference on Learning Representations
URL:http://www.wikicfp.com/cfp/servlet/event.showcfp?eventid=56720&copyow
 nerid=96563
UID:cfp651200-N@wikicfp.com
END:VEVENT
BEGIN:VEVENT
DTSTAMP:20260423T064143Z
DTSTART;VALUE=DATE:20170203
SUMMARY:ICLR 2017 Final Version Due
DESCRIPTION:5th International Conference on Learning Representations
URL:http://www.wikicfp.com/cfp/servlet/event.showcfp?eventid=56720&copyow
 nerid=96563
UID:cfp651200-N@wikicfp.com
END:VEVENT
BEGIN:VEVENT
DTSTAMP:20260423T064143Z
DTSTART;VALUE=DATE:20171022
DTEND;VALUE=DATE:20171030
SUMMARY:ICCV 2017
DESCRIPTION:International Conference on Computer Vision
URL:http://www.wikicfp.com/cfp/servlet/event.showcfp?eventid=57716&copyow
 nerid=96563
UID:cfp651197-E@wikicfp.com
END:VEVENT
BEGIN:VEVENT
DTSTAMP:20260423T064143Z
DTSTART;VALUE=DATE:20170317
SUMMARY:ICCV 2017 Deadline
DESCRIPTION:International Conference on Computer Vision
URL:http://www.wikicfp.com/cfp/servlet/event.showcfp?eventid=57716&copyow
 nerid=96563
UID:cfp651197-D@wikicfp.com
END:VEVENT
BEGIN:VEVENT
DTSTAMP:20260423T064143Z
DTSTART;VALUE=DATE:20170717
SUMMARY:ICCV 2017 Notification Due
DESCRIPTION:International Conference on Computer Vision
URL:http://www.wikicfp.com/cfp/servlet/event.showcfp?eventid=57716&copyow
 nerid=96563
UID:cfp651197-N@wikicfp.com
END:VEVENT
BEGIN:VEVENT
DTSTAMP:20260423T064143Z
DTSTART;VALUE=DATE:20170731
SUMMARY:ICCV 2017 Final Version Due
DESCRIPTION:International Conference on Computer Vision
URL:http://www.wikicfp.com/cfp/servlet/event.showcfp?eventid=57716&copyow
 nerid=96563
UID:cfp651197-N@wikicfp.com
END:VEVENT
BEGIN:VEVENT
DTSTAMP:20260423T064143Z
DTSTART;VALUE=DATE:20171204
DTEND;VALUE=DATE:20171210
SUMMARY:NIPS 2017
DESCRIPTION:The Thirty-first Annual Conference on Neural Information Proc
 essing Systems
URL:http://www.wikicfp.com/cfp/servlet/event.showcfp?eventid=56589&copyow
 nerid=96563
UID:cfp651192-E@wikicfp.com
END:VEVENT
BEGIN:VEVENT
DTSTAMP:20260423T064143Z
DTSTART;VALUE=DATE:20170519
SUMMARY:NIPS 2017 Deadline
DESCRIPTION:The Thirty-first Annual Conference on Neural Information Proc
 essing Systems
URL:http://www.wikicfp.com/cfp/servlet/event.showcfp?eventid=56589&copyow
 nerid=96563
UID:cfp651192-D@wikicfp.com
END:VEVENT
BEGIN:VEVENT
DTSTAMP:20260423T064143Z
DTSTART;VALUE=DATE:20180908
DTEND;VALUE=DATE:20180915
SUMMARY:ECCV 2018
DESCRIPTION:European Conference on Computer Vision
URL:http://www.wikicfp.com/cfp/servlet/event.showcfp?eventid=58291&copyow
 nerid=96563
UID:cfp651199-E@wikicfp.com
END:VEVENT
BEGIN:VEVENT
DTSTAMP:20260423T064143Z
DTSTART;VALUE=DATE:20180314
SUMMARY:ECCV 2018 Deadline
DESCRIPTION:European Conference on Computer Vision
URL:http://www.wikicfp.com/cfp/servlet/event.showcfp?eventid=58291&copyow
 nerid=96563
UID:cfp651199-D@wikicfp.com
END:VEVENT
BEGIN:VEVENT
DTSTAMP:20260423T064143Z
DTSTART;VALUE=DATE:20180701
SUMMARY:ECCV 2018 Notification Due
DESCRIPTION:European Conference on Computer Vision
URL:http://www.wikicfp.com/cfp/servlet/event.showcfp?eventid=58291&copyow
 nerid=96563
UID:cfp651199-N@wikicfp.com
END:VEVENT
BEGIN:VEVENT
DTSTAMP:20260423T064143Z
DTSTART;VALUE=DATE:20180725
SUMMARY:ECCV 2018 Final Version Due
DESCRIPTION:European Conference on Computer Vision
URL:http://www.wikicfp.com/cfp/servlet/event.showcfp?eventid=58291&copyow
 nerid=96563
UID:cfp651199-N@wikicfp.com
END:VEVENT
END:VCALENDAR
