BEGIN:VCALENDAR
PRODID:-//WikiCFP//lab214b 1.0//EN
VERSION:2.0
CALSCALE:GREGORIAN
BEGIN:VEVENT
DTSTAMP:20260424T055908Z
DTSTART;VALUE=DATE:20170514
DTEND;VALUE=DATE:20170515
SUMMARY:WebDB 2017
DESCRIPTION:International Workshop on the Web and Databases
URL:http://www.wikicfp.com/cfp/servlet/event.showcfp?eventid=59697&copyow
 nerid=96080
UID:cfp648123-E@wikicfp.com
END:VEVENT
BEGIN:VEVENT
DTSTAMP:20260424T055908Z
DTSTART;VALUE=DATE:20170224
SUMMARY:WebDB 2017 Deadline
DESCRIPTION:International Workshop on the Web and Databases
URL:http://www.wikicfp.com/cfp/servlet/event.showcfp?eventid=59697&copyow
 nerid=96080
UID:cfp648123-D@wikicfp.com
END:VEVENT
BEGIN:VEVENT
DTSTAMP:20260424T055908Z
DTSTART;VALUE=DATE:20170321
SUMMARY:WebDB 2017 Notification Due
DESCRIPTION:International Workshop on the Web and Databases
URL:http://www.wikicfp.com/cfp/servlet/event.showcfp?eventid=59697&copyow
 nerid=96080
UID:cfp648123-N@wikicfp.com
END:VEVENT
BEGIN:VEVENT
DTSTAMP:20260424T055908Z
DTSTART;VALUE=DATE:20170331
SUMMARY:WebDB 2017 Final Version Due
DESCRIPTION:International Workshop on the Web and Databases
URL:http://www.wikicfp.com/cfp/servlet/event.showcfp?eventid=59697&copyow
 nerid=96080
UID:cfp648123-N@wikicfp.com
END:VEVENT
BEGIN:VEVENT
DTSTAMP:20260424T055908Z
DTSTART;VALUE=DATE:20170726
DTEND;VALUE=DATE:20170729
SUMMARY:DATA 2017
DESCRIPTION:6th International Conference on Data Science\, Technology and
  Applications
URL:http://www.wikicfp.com/cfp/servlet/event.showcfp?eventid=59944&copyow
 nerid=96080
UID:cfp648112-E@wikicfp.com
END:VEVENT
BEGIN:VEVENT
DTSTAMP:20260424T055908Z
DTSTART;VALUE=DATE:20170302
SUMMARY:DATA 2017 Deadline
DESCRIPTION:6th International Conference on Data Science\, Technology and
  Applications
URL:http://www.wikicfp.com/cfp/servlet/event.showcfp?eventid=59944&copyow
 nerid=96080
UID:cfp648112-D@wikicfp.com
END:VEVENT
BEGIN:VEVENT
DTSTAMP:20260424T055908Z
DTSTART;VALUE=DATE:20170503
SUMMARY:DATA 2017 Notification Due
DESCRIPTION:6th International Conference on Data Science\, Technology and
  Applications
URL:http://www.wikicfp.com/cfp/servlet/event.showcfp?eventid=59944&copyow
 nerid=96080
UID:cfp648112-N@wikicfp.com
END:VEVENT
BEGIN:VEVENT
DTSTAMP:20260424T055908Z
DTSTART;VALUE=DATE:20170517
SUMMARY:DATA 2017 Final Version Due
DESCRIPTION:6th International Conference on Data Science\, Technology and
  Applications
URL:http://www.wikicfp.com/cfp/servlet/event.showcfp?eventid=59944&copyow
 nerid=96080
UID:cfp648112-N@wikicfp.com
END:VEVENT
BEGIN:VEVENT
DTSTAMP:20260424T055908Z
DTSTART;VALUE=DATE:20170525
DTEND;VALUE=DATE:20170528
SUMMARY:DMCIT 2017
DESCRIPTION:ACM-2017 International Conference on Data Mining\, Communicat
 ions and  Information Technology(DMCIT 2017)--EI
URL:http://www.wikicfp.com/cfp/servlet/event.showcfp?eventid=58182&copyow
 nerid=96080
UID:cfp648096-E@wikicfp.com
END:VEVENT
BEGIN:VEVENT
DTSTAMP:20260424T055908Z
DTSTART;VALUE=DATE:20170410
SUMMARY:DMCIT 2017 Deadline
DESCRIPTION:ACM-2017 International Conference on Data Mining\, Communicat
 ions and  Information Technology(DMCIT 2017)--EI
URL:http://www.wikicfp.com/cfp/servlet/event.showcfp?eventid=58182&copyow
 nerid=96080
UID:cfp648096-D@wikicfp.com
END:VEVENT
BEGIN:VEVENT
DTSTAMP:20260424T055908Z
DTSTART;VALUE=DATE:20170617
DTEND;VALUE=DATE:20170620
SUMMARY:ICIKM 2017
DESCRIPTION:6th International Conference on Innovation\, Knowledge\, and 
 Management
URL:http://www.wikicfp.com/cfp/servlet/event.showcfp?eventid=59522&copyow
 nerid=96080
UID:cfp648111-E@wikicfp.com
END:VEVENT
BEGIN:VEVENT
DTSTAMP:20260424T055908Z
DTSTART;VALUE=DATE:20170410
SUMMARY:ICIKM 2017 Deadline
DESCRIPTION:6th International Conference on Innovation\, Knowledge\, and 
 Management
URL:http://www.wikicfp.com/cfp/servlet/event.showcfp?eventid=59522&copyow
 nerid=96080
UID:cfp648111-D@wikicfp.com
END:VEVENT
END:VCALENDAR
