BEGIN:VCALENDAR
PRODID:-//WikiCFP//dorna 1.0//EN
VERSION:2.0
CALSCALE:GREGORIAN
BEGIN:VEVENT
DTSTAMP:20260424T004653Z
DTSTART;VALUE=DATE:20101206
DTEND;VALUE=DATE:20101211
SUMMARY:GLOBECOM 2010
DESCRIPTION:IEEE Global Communications Conference 2010
URL:http://www.wikicfp.com/cfp/servlet/event.showcfp?eventid=5502&copyown
 erid=9465
UID:cfp70317-E@wikicfp.com
END:VEVENT
BEGIN:VEVENT
DTSTAMP:20260424T004653Z
DTSTART;VALUE=DATE:20100315
SUMMARY:GLOBECOM 2010 Deadline
DESCRIPTION:IEEE Global Communications Conference 2010
URL:http://www.wikicfp.com/cfp/servlet/event.showcfp?eventid=5502&copyown
 erid=9465
UID:cfp70317-D@wikicfp.com
END:VEVENT
BEGIN:VEVENT
DTSTAMP:20260424T004653Z
DTSTART;VALUE=DATE:20100701
SUMMARY:GLOBECOM 2010 Notification Due
DESCRIPTION:IEEE Global Communications Conference 2010
URL:http://www.wikicfp.com/cfp/servlet/event.showcfp?eventid=5502&copyown
 erid=9465
UID:cfp70317-N@wikicfp.com
END:VEVENT
BEGIN:VEVENT
DTSTAMP:20260424T004653Z
DTSTART;VALUE=DATE:20100801
SUMMARY:GLOBECOM 2010 Final Version Due
DESCRIPTION:IEEE Global Communications Conference 2010
URL:http://www.wikicfp.com/cfp/servlet/event.showcfp?eventid=5502&copyown
 erid=9465
UID:cfp70317-N@wikicfp.com
END:VEVENT
BEGIN:VEVENT
DTSTAMP:20260424T004653Z
DTSTART;VALUE=DATE:20100930
DTEND;VALUE=DATE:20101003
SUMMARY:ISIVC 2010
DESCRIPTION:International Symposium on Image/Video Communications
URL:http://www.wikicfp.com/cfp/servlet/event.showcfp?eventid=6974&copyown
 erid=9465
UID:cfp70318-E@wikicfp.com
END:VEVENT
BEGIN:VEVENT
DTSTAMP:20260424T004653Z
DTSTART;VALUE=DATE:20100411
SUMMARY:ISIVC 2010 Deadline
DESCRIPTION:International Symposium on Image/Video Communications
URL:http://www.wikicfp.com/cfp/servlet/event.showcfp?eventid=6974&copyown
 erid=9465
UID:cfp70318-D@wikicfp.com
END:VEVENT
BEGIN:VEVENT
DTSTAMP:20260424T004653Z
DTSTART;VALUE=DATE:20100625
SUMMARY:ISIVC 2010 Notification Due
DESCRIPTION:International Symposium on Image/Video Communications
URL:http://www.wikicfp.com/cfp/servlet/event.showcfp?eventid=6974&copyown
 erid=9465
UID:cfp70318-N@wikicfp.com
END:VEVENT
BEGIN:VEVENT
DTSTAMP:20260424T004653Z
DTSTART;VALUE=DATE:20100715
SUMMARY:ISIVC 2010 Final Version Due
DESCRIPTION:International Symposium on Image/Video Communications
URL:http://www.wikicfp.com/cfp/servlet/event.showcfp?eventid=6974&copyown
 erid=9465
UID:cfp70318-N@wikicfp.com
END:VEVENT
BEGIN:VEVENT
DTSTAMP:20260424T004653Z
DTSTART;VALUE=DATE:20101004
DTEND;VALUE=DATE:20101007
SUMMARY:MMSP 2010
DESCRIPTION:2010 IEEE International Workshop on Multimedia Signal Process
 ing
URL:http://www.wikicfp.com/cfp/servlet/event.showcfp?eventid=6836&copyown
 erid=9465
UID:cfp70319-E@wikicfp.com
END:VEVENT
BEGIN:VEVENT
DTSTAMP:20260424T004653Z
DTSTART;VALUE=DATE:20100415
SUMMARY:MMSP 2010 Deadline
DESCRIPTION:2010 IEEE International Workshop on Multimedia Signal Process
 ing
URL:http://www.wikicfp.com/cfp/servlet/event.showcfp?eventid=6836&copyown
 erid=9465
UID:cfp70319-D@wikicfp.com
END:VEVENT
BEGIN:VEVENT
DTSTAMP:20260424T004653Z
DTSTART;VALUE=DATE:20100615
SUMMARY:MMSP 2010 Notification Due
DESCRIPTION:2010 IEEE International Workshop on Multimedia Signal Process
 ing
URL:http://www.wikicfp.com/cfp/servlet/event.showcfp?eventid=6836&copyown
 erid=9465
UID:cfp70319-N@wikicfp.com
END:VEVENT
BEGIN:VEVENT
DTSTAMP:20260424T004653Z
DTSTART;VALUE=DATE:20100715
SUMMARY:MMSP 2010 Final Version Due
DESCRIPTION:2010 IEEE International Workshop on Multimedia Signal Process
 ing
URL:http://www.wikicfp.com/cfp/servlet/event.showcfp?eventid=6836&copyown
 erid=9465
UID:cfp70319-N@wikicfp.com
END:VEVENT
END:VCALENDAR
