BEGIN:VCALENDAR
PRODID:-//WikiCFP//aparmezan 1.0//EN
VERSION:2.0
CALSCALE:GREGORIAN
BEGIN:VEVENT
DTSTAMP:20260421T034653Z
DTSTART;VALUE=DATE:20191028
DTEND;VALUE=DATE:20191101
SUMMARY:CIARP 2019
DESCRIPTION:24th Iberoamerican Congress on Pattern Recognition
URL:http://www.wikicfp.com/cfp/servlet/event.showcfp?eventid=85016&copyow
 nerid=93340
UID:cfp768499-E@wikicfp.com
END:VEVENT
BEGIN:VEVENT
DTSTAMP:20260421T034653Z
DTSTART;VALUE=DATE:20190518
SUMMARY:CIARP 2019 Deadline
DESCRIPTION:24th Iberoamerican Congress on Pattern Recognition
URL:http://www.wikicfp.com/cfp/servlet/event.showcfp?eventid=85016&copyow
 nerid=93340
UID:cfp768499-D@wikicfp.com
END:VEVENT
BEGIN:VEVENT
DTSTAMP:20260421T034653Z
DTSTART;VALUE=DATE:20190717
SUMMARY:CIARP 2019 Notification Due
DESCRIPTION:24th Iberoamerican Congress on Pattern Recognition
URL:http://www.wikicfp.com/cfp/servlet/event.showcfp?eventid=85016&copyow
 nerid=93340
UID:cfp768499-N@wikicfp.com
END:VEVENT
BEGIN:VEVENT
DTSTAMP:20260421T034653Z
DTSTART;VALUE=DATE:20190816
SUMMARY:CIARP 2019 Final Version Due
DESCRIPTION:24th Iberoamerican Congress on Pattern Recognition
URL:http://www.wikicfp.com/cfp/servlet/event.showcfp?eventid=85016&copyow
 nerid=93340
UID:cfp768499-N@wikicfp.com
END:VEVENT
END:VCALENDAR
