BEGIN:VCALENDAR
PRODID:-//WikiCFP//ronshalom999 1.0//EN
VERSION:2.0
CALSCALE:GREGORIAN
BEGIN:VEVENT
DTSTAMP:20260419T130720Z
DTSTART;VALUE=DATE:20161210
DTEND;VALUE=DATE:20161211
SUMMARY:CML 2016
DESCRIPTION:Constructive Machine Learning
URL:http://www.wikicfp.com/cfp/servlet/event.showcfp?eventid=57846&copyow
 nerid=93095
UID:cfp628497-E@wikicfp.com
END:VEVENT
BEGIN:VEVENT
DTSTAMP:20260419T130720Z
DTSTART;VALUE=DATE:20161103
SUMMARY:CML 2016 Deadline
DESCRIPTION:Constructive Machine Learning
URL:http://www.wikicfp.com/cfp/servlet/event.showcfp?eventid=57846&copyow
 nerid=93095
UID:cfp628497-D@wikicfp.com
END:VEVENT
BEGIN:VEVENT
DTSTAMP:20260419T130720Z
DTSTART;VALUE=DATE:20161124
SUMMARY:CML 2016 Notification Due
DESCRIPTION:Constructive Machine Learning
URL:http://www.wikicfp.com/cfp/servlet/event.showcfp?eventid=57846&copyow
 nerid=93095
UID:cfp628497-N@wikicfp.com
END:VEVENT
BEGIN:VEVENT
DTSTAMP:20260419T130720Z
DTSTART;VALUE=DATE:20161201
SUMMARY:CML 2016 Final Version Due
DESCRIPTION:Constructive Machine Learning
URL:http://www.wikicfp.com/cfp/servlet/event.showcfp?eventid=57846&copyow
 nerid=93095
UID:cfp628497-N@wikicfp.com
END:VEVENT
BEGIN:VEVENT
DTSTAMP:20260419T130720Z
DTSTART;VALUE=DATE:20170419
DTEND;VALUE=DATE:20170422
SUMMARY:EvoMUSART 2017
DESCRIPTION:6th International Conference on Computational Intelligence in
  Music\, Sound\, Art and Design
URL:http://www.wikicfp.com/cfp/servlet/event.showcfp?eventid=56643&copyow
 nerid=93095
UID:cfp628494-E@wikicfp.com
END:VEVENT
BEGIN:VEVENT
DTSTAMP:20260419T130720Z
DTSTART;VALUE=DATE:20161115
SUMMARY:EvoMUSART 2017 Deadline
DESCRIPTION:6th International Conference on Computational Intelligence in
  Music\, Sound\, Art and Design
URL:http://www.wikicfp.com/cfp/servlet/event.showcfp?eventid=56643&copyow
 nerid=93095
UID:cfp628494-D@wikicfp.com
END:VEVENT
BEGIN:VEVENT
DTSTAMP:20260419T130720Z
DTSTART;VALUE=DATE:20170109
SUMMARY:EvoMUSART 2017 Notification Due
DESCRIPTION:6th International Conference on Computational Intelligence in
  Music\, Sound\, Art and Design
URL:http://www.wikicfp.com/cfp/servlet/event.showcfp?eventid=56643&copyow
 nerid=93095
UID:cfp628494-N@wikicfp.com
END:VEVENT
BEGIN:VEVENT
DTSTAMP:20260419T130720Z
DTSTART;VALUE=DATE:20170125
SUMMARY:EvoMUSART 2017 Final Version Due
DESCRIPTION:6th International Conference on Computational Intelligence in
  Music\, Sound\, Art and Design
URL:http://www.wikicfp.com/cfp/servlet/event.showcfp?eventid=56643&copyow
 nerid=93095
UID:cfp628494-N@wikicfp.com
END:VEVENT
BEGIN:VEVENT
DTSTAMP:20260419T130720Z
DTSTART;VALUE=DATE:20170514
DTEND;VALUE=DATE:20170520
SUMMARY:IJCNN 2017
DESCRIPTION:International Joint Conference on Neural Networks
URL:http://www.wikicfp.com/cfp/servlet/event.showcfp?eventid=56821&copyow
 nerid=93095
UID:cfp628495-E@wikicfp.com
END:VEVENT
BEGIN:VEVENT
DTSTAMP:20260419T130720Z
DTSTART;VALUE=DATE:20161115
SUMMARY:IJCNN 2017 Deadline
DESCRIPTION:International Joint Conference on Neural Networks
URL:http://www.wikicfp.com/cfp/servlet/event.showcfp?eventid=56821&copyow
 nerid=93095
UID:cfp628495-D@wikicfp.com
END:VEVENT
BEGIN:VEVENT
DTSTAMP:20260419T130720Z
DTSTART;VALUE=DATE:20170120
SUMMARY:IJCNN 2017 Notification Due
DESCRIPTION:International Joint Conference on Neural Networks
URL:http://www.wikicfp.com/cfp/servlet/event.showcfp?eventid=56821&copyow
 nerid=93095
UID:cfp628495-N@wikicfp.com
END:VEVENT
BEGIN:VEVENT
DTSTAMP:20260419T130720Z
DTSTART;VALUE=DATE:20170220
SUMMARY:IJCNN 2017 Final Version Due
DESCRIPTION:International Joint Conference on Neural Networks
URL:http://www.wikicfp.com/cfp/servlet/event.showcfp?eventid=56821&copyow
 nerid=93095
UID:cfp628495-N@wikicfp.com
END:VEVENT
BEGIN:VEVENT
DTSTAMP:20260419T130720Z
DTSTART;VALUE=DATE:20170426
DTEND;VALUE=DATE:20170429
SUMMARY:ESANN 2017
DESCRIPTION:25th European Symposium on Artificial Neural Networks\, Compu
 tational Intelligence and Machine Learning
URL:http://www.wikicfp.com/cfp/servlet/event.showcfp?eventid=57705&copyow
 nerid=93095
UID:cfp628496-E@wikicfp.com
END:VEVENT
BEGIN:VEVENT
DTSTAMP:20260419T130720Z
DTSTART;VALUE=DATE:20161119
SUMMARY:ESANN 2017 Deadline
DESCRIPTION:25th European Symposium on Artificial Neural Networks\, Compu
 tational Intelligence and Machine Learning
URL:http://www.wikicfp.com/cfp/servlet/event.showcfp?eventid=57705&copyow
 nerid=93095
UID:cfp628496-D@wikicfp.com
END:VEVENT
BEGIN:VEVENT
DTSTAMP:20260419T130720Z
DTSTART;VALUE=DATE:20170131
SUMMARY:ESANN 2017 Notification Due
DESCRIPTION:25th European Symposium on Artificial Neural Networks\, Compu
 tational Intelligence and Machine Learning
URL:http://www.wikicfp.com/cfp/servlet/event.showcfp?eventid=57705&copyow
 nerid=93095
UID:cfp628496-N@wikicfp.com
END:VEVENT
BEGIN:VEVENT
DTSTAMP:20260419T130720Z
DTSTART;VALUE=DATE:20170220
SUMMARY:ESANN 2017 Final Version Due
DESCRIPTION:25th European Symposium on Artificial Neural Networks\, Compu
 tational Intelligence and Machine Learning
URL:http://www.wikicfp.com/cfp/servlet/event.showcfp?eventid=57705&copyow
 nerid=93095
UID:cfp628496-N@wikicfp.com
END:VEVENT
BEGIN:VEVENT
DTSTAMP:20260419T130720Z
DTSTART;VALUE=DATE:20170611
DTEND;VALUE=DATE:20170616
SUMMARY:ICAISC 2017
DESCRIPTION:International Conference on Artificial Intelligence and Soft 
 Computing
URL:http://www.wikicfp.com/cfp/servlet/event.showcfp?eventid=54000&copyow
 nerid=93095
UID:cfp628493-E@wikicfp.com
END:VEVENT
BEGIN:VEVENT
DTSTAMP:20260419T130720Z
DTSTART;VALUE=DATE:20161120
SUMMARY:ICAISC 2017 Deadline
DESCRIPTION:International Conference on Artificial Intelligence and Soft 
 Computing
URL:http://www.wikicfp.com/cfp/servlet/event.showcfp?eventid=54000&copyow
 nerid=93095
UID:cfp628493-D@wikicfp.com
END:VEVENT
BEGIN:VEVENT
DTSTAMP:20260419T130720Z
DTSTART;VALUE=DATE:20170215
SUMMARY:ICAISC 2017 Notification Due
DESCRIPTION:International Conference on Artificial Intelligence and Soft 
 Computing
URL:http://www.wikicfp.com/cfp/servlet/event.showcfp?eventid=54000&copyow
 nerid=93095
UID:cfp628493-N@wikicfp.com
END:VEVENT
BEGIN:VEVENT
DTSTAMP:20260419T130720Z
DTSTART;VALUE=DATE:20170301
SUMMARY:ICAISC 2017 Final Version Due
DESCRIPTION:International Conference on Artificial Intelligence and Soft 
 Computing
URL:http://www.wikicfp.com/cfp/servlet/event.showcfp?eventid=54000&copyow
 nerid=93095
UID:cfp628493-N@wikicfp.com
END:VEVENT
END:VCALENDAR
