BEGIN:VCALENDAR
PRODID:-//WikiCFP//sheetalnit 1.0//EN
VERSION:2.0
CALSCALE:GREGORIAN
BEGIN:VEVENT
DTSTAMP:20260421T192759Z
DTSTART;VALUE=DATE:20161024
DTEND;VALUE=DATE:20161029
SUMMARY:CyberSafety  2016
DESCRIPTION:1st International Workshop on Computational Methods for Cyber
 Safety  
URL:http://www.wikicfp.com/cfp/servlet/event.showcfp?eventid=55861&copyow
 nerid=91158
UID:cfp616818-E@wikicfp.com
END:VEVENT
BEGIN:VEVENT
DTSTAMP:20260421T192759Z
DTSTART;VALUE=DATE:20160825
SUMMARY:CyberSafety  2016 Deadline
DESCRIPTION:1st International Workshop on Computational Methods for Cyber
 Safety  
URL:http://www.wikicfp.com/cfp/servlet/event.showcfp?eventid=55861&copyow
 nerid=91158
UID:cfp616818-D@wikicfp.com
END:VEVENT
BEGIN:VEVENT
DTSTAMP:20260421T192759Z
DTSTART;VALUE=DATE:20160910
SUMMARY:CyberSafety  2016 Notification Due
DESCRIPTION:1st International Workshop on Computational Methods for Cyber
 Safety  
URL:http://www.wikicfp.com/cfp/servlet/event.showcfp?eventid=55861&copyow
 nerid=91158
UID:cfp616818-N@wikicfp.com
END:VEVENT
BEGIN:VEVENT
DTSTAMP:20260421T192759Z
DTSTART;VALUE=DATE:20160930
SUMMARY:CyberSafety  2016 Final Version Due
DESCRIPTION:1st International Workshop on Computational Methods for Cyber
 Safety  
URL:http://www.wikicfp.com/cfp/servlet/event.showcfp?eventid=55861&copyow
 nerid=91158
UID:cfp616818-N@wikicfp.com
END:VEVENT
BEGIN:VEVENT
DTSTAMP:20260421T192759Z
DTSTART;VALUE=DATE:20170520
DTEND;VALUE=DATE:20170529
SUMMARY:ICSE 2017
DESCRIPTION:39th International Conference on Software Engineering
URL:http://www.wikicfp.com/cfp/servlet/event.showcfp?eventid=54445&copyow
 nerid=91158
UID:cfp616815-E@wikicfp.com
END:VEVENT
BEGIN:VEVENT
DTSTAMP:20260421T192759Z
DTSTART;VALUE=DATE:20160826
SUMMARY:ICSE 2017 Deadline
DESCRIPTION:39th International Conference on Software Engineering
URL:http://www.wikicfp.com/cfp/servlet/event.showcfp?eventid=54445&copyow
 nerid=91158
UID:cfp616815-D@wikicfp.com
END:VEVENT
BEGIN:VEVENT
DTSTAMP:20260421T192759Z
DTSTART;VALUE=DATE:20161212
SUMMARY:ICSE 2017 Notification Due
DESCRIPTION:39th International Conference on Software Engineering
URL:http://www.wikicfp.com/cfp/servlet/event.showcfp?eventid=54445&copyow
 nerid=91158
UID:cfp616815-N@wikicfp.com
END:VEVENT
BEGIN:VEVENT
DTSTAMP:20260421T192759Z
DTSTART;VALUE=DATE:20170213
SUMMARY:ICSE 2017 Final Version Due
DESCRIPTION:39th International Conference on Software Engineering
URL:http://www.wikicfp.com/cfp/servlet/event.showcfp?eventid=54445&copyow
 nerid=91158
UID:cfp616815-N@wikicfp.com
END:VEVENT
BEGIN:VEVENT
DTSTAMP:20260421T192759Z
DTSTART;VALUE=DATE:20170111
DTEND;VALUE=DATE:20170114
SUMMARY:ICOIN 2017
DESCRIPTION:The 31st International Conference on Information Networking (
 ICOIN 2017)
URL:http://www.wikicfp.com/cfp/servlet/event.showcfp?eventid=56223&copyow
 nerid=91158
UID:cfp616820-E@wikicfp.com
END:VEVENT
BEGIN:VEVENT
DTSTAMP:20260421T192759Z
DTSTART;VALUE=DATE:20160826
SUMMARY:ICOIN 2017 Deadline
DESCRIPTION:The 31st International Conference on Information Networking (
 ICOIN 2017)
URL:http://www.wikicfp.com/cfp/servlet/event.showcfp?eventid=56223&copyow
 nerid=91158
UID:cfp616820-D@wikicfp.com
END:VEVENT
BEGIN:VEVENT
DTSTAMP:20260421T192759Z
DTSTART;VALUE=DATE:20161104
SUMMARY:ICOIN 2017 Notification Due
DESCRIPTION:The 31st International Conference on Information Networking (
 ICOIN 2017)
URL:http://www.wikicfp.com/cfp/servlet/event.showcfp?eventid=56223&copyow
 nerid=91158
UID:cfp616820-N@wikicfp.com
END:VEVENT
BEGIN:VEVENT
DTSTAMP:20260421T192759Z
DTSTART;VALUE=DATE:20161125
SUMMARY:ICOIN 2017 Final Version Due
DESCRIPTION:The 31st International Conference on Information Networking (
 ICOIN 2017)
URL:http://www.wikicfp.com/cfp/servlet/event.showcfp?eventid=56223&copyow
 nerid=91158
UID:cfp616820-N@wikicfp.com
END:VEVENT
BEGIN:VEVENT
DTSTAMP:20260421T192759Z
DTSTART;VALUE=DATE:20161205
DTEND;VALUE=DATE:20161206
SUMMARY:WiML 2016
DESCRIPTION:11th Workshop for Women in Machine Learning\, Co-located with
  NIPS
URL:http://www.wikicfp.com/cfp/servlet/event.showcfp?eventid=56951&copyow
 nerid=91158
UID:cfp616823-E@wikicfp.com
END:VEVENT
BEGIN:VEVENT
DTSTAMP:20260421T192759Z
DTSTART;VALUE=DATE:20160826
SUMMARY:WiML 2016 Deadline
DESCRIPTION:11th Workshop for Women in Machine Learning\, Co-located with
  NIPS
URL:http://www.wikicfp.com/cfp/servlet/event.showcfp?eventid=56951&copyow
 nerid=91158
UID:cfp616823-D@wikicfp.com
END:VEVENT
BEGIN:VEVENT
DTSTAMP:20260421T192759Z
DTSTART;VALUE=DATE:20161001
SUMMARY:WiML 2016 Notification Due
DESCRIPTION:11th Workshop for Women in Machine Learning\, Co-located with
  NIPS
URL:http://www.wikicfp.com/cfp/servlet/event.showcfp?eventid=56951&copyow
 nerid=91158
UID:cfp616823-N@wikicfp.com
END:VEVENT
BEGIN:VEVENT
DTSTAMP:20260421T192759Z
DTSTART;VALUE=DATE:20161117
DTEND;VALUE=DATE:20161119
SUMMARY:SLTC 2016
DESCRIPTION:Swedish Language Technology Conference
URL:http://www.wikicfp.com/cfp/servlet/event.showcfp?eventid=50323&copyow
 nerid=91158
UID:cfp616814-E@wikicfp.com
END:VEVENT
BEGIN:VEVENT
DTSTAMP:20260421T192759Z
DTSTART;VALUE=DATE:20160827
SUMMARY:SLTC 2016 Deadline
DESCRIPTION:Swedish Language Technology Conference
URL:http://www.wikicfp.com/cfp/servlet/event.showcfp?eventid=50323&copyow
 nerid=91158
UID:cfp616814-D@wikicfp.com
END:VEVENT
BEGIN:VEVENT
DTSTAMP:20260421T192759Z
DTSTART;VALUE=DATE:20160916
SUMMARY:SLTC 2016 Notification Due
DESCRIPTION:Swedish Language Technology Conference
URL:http://www.wikicfp.com/cfp/servlet/event.showcfp?eventid=50323&copyow
 nerid=91158
UID:cfp616814-N@wikicfp.com
END:VEVENT
BEGIN:VEVENT
DTSTAMP:20260421T192759Z
DTSTART;VALUE=DATE:20161014
SUMMARY:SLTC 2016 Final Version Due
DESCRIPTION:Swedish Language Technology Conference
URL:http://www.wikicfp.com/cfp/servlet/event.showcfp?eventid=50323&copyow
 nerid=91158
UID:cfp616814-N@wikicfp.com
END:VEVENT
BEGIN:VEVENT
DTSTAMP:20260421T192759Z
DTSTART;VALUE=DATE:20161017
DTEND;VALUE=DATE:20161019
SUMMARY:SIET 2016
DESCRIPTION:1st International Conference on Sustainable Information Engin
 eering and Technology
URL:http://www.wikicfp.com/cfp/servlet/event.showcfp?eventid=56519&copyow
 nerid=91158
UID:cfp616821-E@wikicfp.com
END:VEVENT
BEGIN:VEVENT
DTSTAMP:20260421T192759Z
DTSTART;VALUE=DATE:20160828
SUMMARY:SIET 2016 Deadline
DESCRIPTION:1st International Conference on Sustainable Information Engin
 eering and Technology
URL:http://www.wikicfp.com/cfp/servlet/event.showcfp?eventid=56519&copyow
 nerid=91158
UID:cfp616821-D@wikicfp.com
END:VEVENT
BEGIN:VEVENT
DTSTAMP:20260421T192759Z
DTSTART;VALUE=DATE:20160925
SUMMARY:SIET 2016 Notification Due
DESCRIPTION:1st International Conference on Sustainable Information Engin
 eering and Technology
URL:http://www.wikicfp.com/cfp/servlet/event.showcfp?eventid=56519&copyow
 nerid=91158
UID:cfp616821-N@wikicfp.com
END:VEVENT
BEGIN:VEVENT
DTSTAMP:20260421T192759Z
DTSTART;VALUE=DATE:20161005
SUMMARY:SIET 2016 Final Version Due
DESCRIPTION:1st International Conference on Sustainable Information Engin
 eering and Technology
URL:http://www.wikicfp.com/cfp/servlet/event.showcfp?eventid=56519&copyow
 nerid=91158
UID:cfp616821-N@wikicfp.com
END:VEVENT
BEGIN:VEVENT
DTSTAMP:20260421T192759Z
DTSTART;VALUE=DATE:20161113
DTEND;VALUE=DATE:20151114
SUMMARY:IA^3 2016
DESCRIPTION:Sixth Workshop on Irregular Applications: Architecture and Al
 gorithms
URL:http://www.wikicfp.com/cfp/servlet/event.showcfp?eventid=55363&copyow
 nerid=91158
UID:cfp616816-E@wikicfp.com
END:VEVENT
BEGIN:VEVENT
DTSTAMP:20260421T192759Z
DTSTART;VALUE=DATE:20160823
SUMMARY:IA^3 2016 Abstract Due
DESCRIPTION:Sixth Workshop on Irregular Applications: Architecture and Al
 gorithms
URL:http://www.wikicfp.com/cfp/servlet/event.showcfp?eventid=55363&copyow
 nerid=91158
UID:cfp616816-A@wikicfp.com
END:VEVENT
BEGIN:VEVENT
DTSTAMP:20260421T192759Z
DTSTART;VALUE=DATE:20160829
SUMMARY:IA^3 2016 Deadline
DESCRIPTION:Sixth Workshop on Irregular Applications: Architecture and Al
 gorithms
URL:http://www.wikicfp.com/cfp/servlet/event.showcfp?eventid=55363&copyow
 nerid=91158
UID:cfp616816-D@wikicfp.com
END:VEVENT
BEGIN:VEVENT
DTSTAMP:20260421T192759Z
DTSTART;VALUE=DATE:20161003
SUMMARY:IA^3 2016 Notification Due
DESCRIPTION:Sixth Workshop on Irregular Applications: Architecture and Al
 gorithms
URL:http://www.wikicfp.com/cfp/servlet/event.showcfp?eventid=55363&copyow
 nerid=91158
UID:cfp616816-N@wikicfp.com
END:VEVENT
BEGIN:VEVENT
DTSTAMP:20260421T192759Z
DTSTART;VALUE=DATE:20161010
SUMMARY:IA^3 2016 Final Version Due
DESCRIPTION:Sixth Workshop on Irregular Applications: Architecture and Al
 gorithms
URL:http://www.wikicfp.com/cfp/servlet/event.showcfp?eventid=55363&copyow
 nerid=91158
UID:cfp616816-N@wikicfp.com
END:VEVENT
BEGIN:VEVENT
DTSTAMP:20260421T192759Z
DTSTART;VALUE=DATE:20160924
DTEND;VALUE=DATE:20160926
SUMMARY:ICCSEA 2016
DESCRIPTION:Sixth International Conference on Computer Science\, Engineer
 ing and Applications
URL:http://www.wikicfp.com/cfp/servlet/event.showcfp?eventid=55526&copyow
 nerid=91158
UID:cfp616817-E@wikicfp.com
END:VEVENT
BEGIN:VEVENT
DTSTAMP:20260421T192759Z
DTSTART;VALUE=DATE:20160906
SUMMARY:ICCSEA 2016 Deadline
DESCRIPTION:Sixth International Conference on Computer Science\, Engineer
 ing and Applications
URL:http://www.wikicfp.com/cfp/servlet/event.showcfp?eventid=55526&copyow
 nerid=91158
UID:cfp616817-D@wikicfp.com
END:VEVENT
BEGIN:VEVENT
DTSTAMP:20260421T192759Z
DTSTART;VALUE=DATE:20160910
SUMMARY:ICCSEA 2016 Notification Due
DESCRIPTION:Sixth International Conference on Computer Science\, Engineer
 ing and Applications
URL:http://www.wikicfp.com/cfp/servlet/event.showcfp?eventid=55526&copyow
 nerid=91158
UID:cfp616817-N@wikicfp.com
END:VEVENT
BEGIN:VEVENT
DTSTAMP:20260421T192759Z
DTSTART;VALUE=DATE:20160922
SUMMARY:ICCSEA 2016 Final Version Due
DESCRIPTION:Sixth International Conference on Computer Science\, Engineer
 ing and Applications
URL:http://www.wikicfp.com/cfp/servlet/event.showcfp?eventid=55526&copyow
 nerid=91158
UID:cfp616817-N@wikicfp.com
END:VEVENT
BEGIN:VEVENT
DTSTAMP:20260421T192759Z
DTSTART;VALUE=DATE:20160924
DTEND;VALUE=DATE:20160926
SUMMARY:CSEA 2016
DESCRIPTION:Second International Conference on Computer Science\, Enginee
 ring and Applications 
URL:http://www.wikicfp.com/cfp/servlet/event.showcfp?eventid=56521&copyow
 nerid=91158
UID:cfp616822-E@wikicfp.com
END:VEVENT
BEGIN:VEVENT
DTSTAMP:20260421T192759Z
DTSTART;VALUE=DATE:20160906
SUMMARY:CSEA 2016 Deadline
DESCRIPTION:Second International Conference on Computer Science\, Enginee
 ring and Applications 
URL:http://www.wikicfp.com/cfp/servlet/event.showcfp?eventid=56521&copyow
 nerid=91158
UID:cfp616822-D@wikicfp.com
END:VEVENT
BEGIN:VEVENT
DTSTAMP:20260421T192759Z
DTSTART;VALUE=DATE:20160910
SUMMARY:CSEA 2016 Notification Due
DESCRIPTION:Second International Conference on Computer Science\, Enginee
 ring and Applications 
URL:http://www.wikicfp.com/cfp/servlet/event.showcfp?eventid=56521&copyow
 nerid=91158
UID:cfp616822-N@wikicfp.com
END:VEVENT
BEGIN:VEVENT
DTSTAMP:20260421T192759Z
DTSTART;VALUE=DATE:20160922
SUMMARY:CSEA 2016 Final Version Due
DESCRIPTION:Second International Conference on Computer Science\, Enginee
 ring and Applications 
URL:http://www.wikicfp.com/cfp/servlet/event.showcfp?eventid=56521&copyow
 nerid=91158
UID:cfp616822-N@wikicfp.com
END:VEVENT
BEGIN:VEVENT
DTSTAMP:20260421T192759Z
DTSTART;VALUE=DATE:20161115
DTEND;VALUE=DATE:20161119
SUMMARY:IEEE-ICSRS 2016
DESCRIPTION:IEEE-2016 International Conference on System Reliability and 
 Science (ICSRS 2016)-EI Compendex
URL:http://www.wikicfp.com/cfp/servlet/event.showcfp?eventid=56062&copyow
 nerid=91158
UID:cfp616819-E@wikicfp.com
END:VEVENT
BEGIN:VEVENT
DTSTAMP:20260421T192759Z
DTSTART;VALUE=DATE:20160915
SUMMARY:IEEE-ICSRS 2016 Deadline
DESCRIPTION:IEEE-2016 International Conference on System Reliability and 
 Science (ICSRS 2016)-EI Compendex
URL:http://www.wikicfp.com/cfp/servlet/event.showcfp?eventid=56062&copyow
 nerid=91158
UID:cfp616819-D@wikicfp.com
END:VEVENT
END:VCALENDAR
