BEGIN:VCALENDAR
PRODID:-//WikiCFP//zenmei 1.0//EN
VERSION:2.0
CALSCALE:GREGORIAN
BEGIN:VEVENT
DTSTAMP:20260422T191031Z
DTSTART;VALUE=DATE:20170111
DTEND;VALUE=DATE:20170114
SUMMARY:ICOIN 2017
DESCRIPTION:The 31st International Conference on Information Networking (
 ICOIN 2017)
URL:http://www.wikicfp.com/cfp/servlet/event.showcfp?eventid=56223&copyow
 nerid=91121
UID:cfp616614-E@wikicfp.com
END:VEVENT
BEGIN:VEVENT
DTSTAMP:20260422T191031Z
DTSTART;VALUE=DATE:20160826
SUMMARY:ICOIN 2017 Deadline
DESCRIPTION:The 31st International Conference on Information Networking (
 ICOIN 2017)
URL:http://www.wikicfp.com/cfp/servlet/event.showcfp?eventid=56223&copyow
 nerid=91121
UID:cfp616614-D@wikicfp.com
END:VEVENT
BEGIN:VEVENT
DTSTAMP:20260422T191031Z
DTSTART;VALUE=DATE:20161104
SUMMARY:ICOIN 2017 Notification Due
DESCRIPTION:The 31st International Conference on Information Networking (
 ICOIN 2017)
URL:http://www.wikicfp.com/cfp/servlet/event.showcfp?eventid=56223&copyow
 nerid=91121
UID:cfp616614-N@wikicfp.com
END:VEVENT
BEGIN:VEVENT
DTSTAMP:20260422T191031Z
DTSTART;VALUE=DATE:20161125
SUMMARY:ICOIN 2017 Final Version Due
DESCRIPTION:The 31st International Conference on Information Networking (
 ICOIN 2017)
URL:http://www.wikicfp.com/cfp/servlet/event.showcfp?eventid=56223&copyow
 nerid=91121
UID:cfp616614-N@wikicfp.com
END:VEVENT
BEGIN:VEVENT
DTSTAMP:20260422T191031Z
DTSTART;VALUE=DATE:20160830
SUMMARY:SI: P2PPMC 2016 Deadline
DESCRIPTION:Special Issue on Emerging Peer to Peer (P2P) Network Technolo
 gies for Pervasive and Mobile Computing-Elsevier Pervasive and Mobile Co
 mputing Journal [Impact Factor=2.079] -
URL:http://www.wikicfp.com/cfp/servlet/event.showcfp?eventid=54666&copyow
 nerid=91121
UID:cfp616613-D@wikicfp.com
END:VEVENT
BEGIN:VEVENT
DTSTAMP:20260422T191031Z
DTSTART;VALUE=DATE:20161130
SUMMARY:SI: P2PPMC 2016 Notification Due
DESCRIPTION:Special Issue on Emerging Peer to Peer (P2P) Network Technolo
 gies for Pervasive and Mobile Computing-Elsevier Pervasive and Mobile Co
 mputing Journal [Impact Factor=2.079] -
URL:http://www.wikicfp.com/cfp/servlet/event.showcfp?eventid=54666&copyow
 nerid=91121
UID:cfp616613-N@wikicfp.com
END:VEVENT
BEGIN:VEVENT
DTSTAMP:20260422T191031Z
DTSTART;VALUE=DATE:20170228
SUMMARY:SI: P2PPMC 2016 Final Version Due
DESCRIPTION:Special Issue on Emerging Peer to Peer (P2P) Network Technolo
 gies for Pervasive and Mobile Computing-Elsevier Pervasive and Mobile Co
 mputing Journal [Impact Factor=2.079] -
URL:http://www.wikicfp.com/cfp/servlet/event.showcfp?eventid=54666&copyow
 nerid=91121
UID:cfp616613-N@wikicfp.com
END:VEVENT
BEGIN:VEVENT
DTSTAMP:20260422T191031Z
DTSTART;VALUE=DATE:20161215
DTEND;VALUE=DATE:20161219
SUMMARY:CPSCom 2016
DESCRIPTION:2016 IEEE International Conference on Cyber\, Physical and So
 cial Computing
URL:http://www.wikicfp.com/cfp/servlet/event.showcfp?eventid=53230&copyow
 nerid=91121
UID:cfp616616-E@wikicfp.com
END:VEVENT
BEGIN:VEVENT
DTSTAMP:20260422T191031Z
DTSTART;VALUE=DATE:20161031
SUMMARY:CPSCom 2016 Abstract Due
DESCRIPTION:2016 IEEE International Conference on Cyber\, Physical and So
 cial Computing
URL:http://www.wikicfp.com/cfp/servlet/event.showcfp?eventid=53230&copyow
 nerid=91121
UID:cfp616616-A@wikicfp.com
END:VEVENT
BEGIN:VEVENT
DTSTAMP:20260422T191031Z
DTSTART;VALUE=DATE:20160831
SUMMARY:CPSCom 2016 Deadline
DESCRIPTION:2016 IEEE International Conference on Cyber\, Physical and So
 cial Computing
URL:http://www.wikicfp.com/cfp/servlet/event.showcfp?eventid=53230&copyow
 nerid=91121
UID:cfp616616-D@wikicfp.com
END:VEVENT
BEGIN:VEVENT
DTSTAMP:20260422T191031Z
DTSTART;VALUE=DATE:20160930
SUMMARY:CPSCom 2016 Notification Due
DESCRIPTION:2016 IEEE International Conference on Cyber\, Physical and So
 cial Computing
URL:http://www.wikicfp.com/cfp/servlet/event.showcfp?eventid=53230&copyow
 nerid=91121
UID:cfp616616-N@wikicfp.com
END:VEVENT
BEGIN:VEVENT
DTSTAMP:20260422T191031Z
DTSTART;VALUE=DATE:20161031
SUMMARY:CPSCom 2016 Final Version Due
DESCRIPTION:2016 IEEE International Conference on Cyber\, Physical and So
 cial Computing
URL:http://www.wikicfp.com/cfp/servlet/event.showcfp?eventid=53230&copyow
 nerid=91121
UID:cfp616616-N@wikicfp.com
END:VEVENT
BEGIN:VEVENT
DTSTAMP:20260422T191031Z
DTSTART;VALUE=DATE:20161013
DTEND;VALUE=DATE:20161016
SUMMARY:ICCCI 2016
DESCRIPTION:ãIEEE Xplore\, Ei CompendexãThe First IEEE International 
 Conference on Computer Communication and the Internet (ICCCI 2016) 
URL:http://www.wikicfp.com/cfp/servlet/event.showcfp?eventid=49658&copyow
 nerid=91121
UID:cfp616615-E@wikicfp.com
END:VEVENT
BEGIN:VEVENT
DTSTAMP:20260422T191031Z
DTSTART;VALUE=DATE:20160901
SUMMARY:ICCCI 2016 Deadline
DESCRIPTION:ãIEEE Xplore\, Ei CompendexãThe First IEEE International 
 Conference on Computer Communication and the Internet (ICCCI 2016) 
URL:http://www.wikicfp.com/cfp/servlet/event.showcfp?eventid=49658&copyow
 nerid=91121
UID:cfp616615-D@wikicfp.com
END:VEVENT
END:VCALENDAR
