BEGIN:VCALENDAR
PRODID:-//WikiCFP//Nasar 1.0//EN
VERSION:2.0
CALSCALE:GREGORIAN
BEGIN:VEVENT
DTSTAMP:20260423T071149Z
DTSTART;VALUE=DATE:20161218
DTEND;VALUE=DATE:20161221
SUMMARY:MLPM 2016
DESCRIPTION:Special Session on Machine Learning for Predictive Models in 
 Engineering Applications - IEEE ICMLA 2016
URL:http://www.wikicfp.com/cfp/servlet/event.showcfp?eventid=56012&copyow
 nerid=91082
UID:cfp616327-E@wikicfp.com
END:VEVENT
BEGIN:VEVENT
DTSTAMP:20260423T071149Z
DTSTART;VALUE=DATE:20160820
SUMMARY:MLPM 2016 Deadline
DESCRIPTION:Special Session on Machine Learning for Predictive Models in 
 Engineering Applications - IEEE ICMLA 2016
URL:http://www.wikicfp.com/cfp/servlet/event.showcfp?eventid=56012&copyow
 nerid=91082
UID:cfp616327-D@wikicfp.com
END:VEVENT
BEGIN:VEVENT
DTSTAMP:20260423T071149Z
DTSTART;VALUE=DATE:20160915
SUMMARY:MLPM 2016 Notification Due
DESCRIPTION:Special Session on Machine Learning for Predictive Models in 
 Engineering Applications - IEEE ICMLA 2016
URL:http://www.wikicfp.com/cfp/servlet/event.showcfp?eventid=56012&copyow
 nerid=91082
UID:cfp616327-N@wikicfp.com
END:VEVENT
BEGIN:VEVENT
DTSTAMP:20260423T071149Z
DTSTART;VALUE=DATE:20161015
SUMMARY:MLPM 2016 Final Version Due
DESCRIPTION:Special Session on Machine Learning for Predictive Models in 
 Engineering Applications - IEEE ICMLA 2016
URL:http://www.wikicfp.com/cfp/servlet/event.showcfp?eventid=56012&copyow
 nerid=91082
UID:cfp616327-N@wikicfp.com
END:VEVENT
END:VCALENDAR
