BEGIN:VCALENDAR
PRODID:-//WikiCFP//carlosforster 1.0//EN
VERSION:2.0
CALSCALE:GREGORIAN
BEGIN:VEVENT
DTSTAMP:20260421T072530Z
DTSTART;VALUE=DATE:20161002
DTEND;VALUE=DATE:20161008
SUMMARY:MODELS 2016
DESCRIPTION:ACM/IEEE 19th International Conference on Model Driven Engine
 ering Languages and Systems.
URL:http://www.wikicfp.com/cfp/servlet/event.showcfp?eventid=51936&copyow
 nerid=90384
UID:cfp612091-E@wikicfp.com
END:VEVENT
BEGIN:VEVENT
DTSTAMP:20260421T072530Z
DTSTART;VALUE=DATE:20160401
SUMMARY:MODELS 2016 Abstract Due
DESCRIPTION:ACM/IEEE 19th International Conference on Model Driven Engine
 ering Languages and Systems.
URL:http://www.wikicfp.com/cfp/servlet/event.showcfp?eventid=51936&copyow
 nerid=90384
UID:cfp612091-A@wikicfp.com
END:VEVENT
BEGIN:VEVENT
DTSTAMP:20260421T072530Z
DTSTART;VALUE=DATE:20160408
SUMMARY:MODELS 2016 Deadline
DESCRIPTION:ACM/IEEE 19th International Conference on Model Driven Engine
 ering Languages and Systems.
URL:http://www.wikicfp.com/cfp/servlet/event.showcfp?eventid=51936&copyow
 nerid=90384
UID:cfp612091-D@wikicfp.com
END:VEVENT
BEGIN:VEVENT
DTSTAMP:20260421T072530Z
DTSTART;VALUE=DATE:20160911
DTEND;VALUE=DATE:20160915
SUMMARY:MDASD 2016
DESCRIPTION:4th Workshop on Model Driven Approaches in System Development
 
URL:http://www.wikicfp.com/cfp/servlet/event.showcfp?eventid=52445&copyow
 nerid=90384
UID:cfp612092-E@wikicfp.com
END:VEVENT
BEGIN:VEVENT
DTSTAMP:20260421T072530Z
DTSTART;VALUE=DATE:20160509
SUMMARY:MDASD 2016 Deadline
DESCRIPTION:4th Workshop on Model Driven Approaches in System Development
 
URL:http://www.wikicfp.com/cfp/servlet/event.showcfp?eventid=52445&copyow
 nerid=90384
UID:cfp612092-D@wikicfp.com
END:VEVENT
BEGIN:VEVENT
DTSTAMP:20260421T072530Z
DTSTART;VALUE=DATE:20160613
SUMMARY:MDASD 2016 Notification Due
DESCRIPTION:4th Workshop on Model Driven Approaches in System Development
 
URL:http://www.wikicfp.com/cfp/servlet/event.showcfp?eventid=52445&copyow
 nerid=90384
UID:cfp612092-N@wikicfp.com
END:VEVENT
BEGIN:VEVENT
DTSTAMP:20260421T072530Z
DTSTART;VALUE=DATE:20160704
SUMMARY:MDASD 2016 Final Version Due
DESCRIPTION:4th Workshop on Model Driven Approaches in System Development
 
URL:http://www.wikicfp.com/cfp/servlet/event.showcfp?eventid=52445&copyow
 nerid=90384
UID:cfp612092-N@wikicfp.com
END:VEVENT
BEGIN:VEVENT
DTSTAMP:20260421T072530Z
DTSTART;VALUE=DATE:20160823
DTEND;VALUE=DATE:20160824
SUMMARY:AMMDS 2016
DESCRIPTION:Activity Monitoring by Multiple Distributed Sensing
URL:http://www.wikicfp.com/cfp/servlet/event.showcfp?eventid=53554&copyow
 nerid=90384
UID:cfp612086-E@wikicfp.com
END:VEVENT
BEGIN:VEVENT
DTSTAMP:20260421T072530Z
DTSTART;VALUE=DATE:20160715
SUMMARY:AMMDS 2016 Deadline
DESCRIPTION:Activity Monitoring by Multiple Distributed Sensing
URL:http://www.wikicfp.com/cfp/servlet/event.showcfp?eventid=53554&copyow
 nerid=90384
UID:cfp612086-D@wikicfp.com
END:VEVENT
BEGIN:VEVENT
DTSTAMP:20260421T072530Z
DTSTART;VALUE=DATE:20160722
SUMMARY:AMMDS 2016 Notification Due
DESCRIPTION:Activity Monitoring by Multiple Distributed Sensing
URL:http://www.wikicfp.com/cfp/servlet/event.showcfp?eventid=53554&copyow
 nerid=90384
UID:cfp612086-N@wikicfp.com
END:VEVENT
BEGIN:VEVENT
DTSTAMP:20260421T072530Z
DTSTART;VALUE=DATE:20160730
SUMMARY:AMMDS 2016 Final Version Due
DESCRIPTION:Activity Monitoring by Multiple Distributed Sensing
URL:http://www.wikicfp.com/cfp/servlet/event.showcfp?eventid=53554&copyow
 nerid=90384
UID:cfp612086-N@wikicfp.com
END:VEVENT
BEGIN:VEVENT
DTSTAMP:20260421T072530Z
DTSTART;VALUE=DATE:20161004
DTEND;VALUE=DATE:20161005
SUMMARY:ModComp 2016
DESCRIPTION:3rd International Workshop on Interplay of Model-Driven and C
 omponent-Based Software Engineering @ MoDELS 2016
URL:http://www.wikicfp.com/cfp/servlet/event.showcfp?eventid=38670&copyow
 nerid=90384
UID:cfp612088-E@wikicfp.com
END:VEVENT
BEGIN:VEVENT
DTSTAMP:20260421T072530Z
DTSTART;VALUE=DATE:20160717
SUMMARY:ModComp 2016 Deadline
DESCRIPTION:3rd International Workshop on Interplay of Model-Driven and C
 omponent-Based Software Engineering @ MoDELS 2016
URL:http://www.wikicfp.com/cfp/servlet/event.showcfp?eventid=38670&copyow
 nerid=90384
UID:cfp612088-D@wikicfp.com
END:VEVENT
BEGIN:VEVENT
DTSTAMP:20260421T072530Z
DTSTART;VALUE=DATE:20160814
SUMMARY:ModComp 2016 Notification Due
DESCRIPTION:3rd International Workshop on Interplay of Model-Driven and C
 omponent-Based Software Engineering @ MoDELS 2016
URL:http://www.wikicfp.com/cfp/servlet/event.showcfp?eventid=38670&copyow
 nerid=90384
UID:cfp612088-N@wikicfp.com
END:VEVENT
BEGIN:VEVENT
DTSTAMP:20260421T072530Z
DTSTART;VALUE=DATE:20160914
DTEND;VALUE=DATE:20160917
SUMMARY:ICRMV 2016
DESCRIPTION:2016 International Conference on Robotics and Machine Vision 
 (ICRMV 2016)-Scopus\, Ei & Web of Science (CPCI)
URL:http://www.wikicfp.com/cfp/servlet/event.showcfp?eventid=54821&copyow
 nerid=90384
UID:cfp612073-E@wikicfp.com
END:VEVENT
BEGIN:VEVENT
DTSTAMP:20260421T072530Z
DTSTART;VALUE=DATE:20160725
SUMMARY:ICRMV 2016 Deadline
DESCRIPTION:2016 International Conference on Robotics and Machine Vision 
 (ICRMV 2016)-Scopus\, Ei & Web of Science (CPCI)
URL:http://www.wikicfp.com/cfp/servlet/event.showcfp?eventid=54821&copyow
 nerid=90384
UID:cfp612073-D@wikicfp.com
END:VEVENT
BEGIN:VEVENT
DTSTAMP:20260421T072530Z
DTSTART;VALUE=DATE:20161101
DTEND;VALUE=DATE:20161103
SUMMARY:IEEE ICRAI 2016
DESCRIPTION:2nd International Conference on Robotics and Artificial Intel
 ligence
URL:http://www.wikicfp.com/cfp/servlet/event.showcfp?eventid=52523&copyow
 nerid=90384
UID:cfp612070-E@wikicfp.com
END:VEVENT
BEGIN:VEVENT
DTSTAMP:20260421T072530Z
DTSTART;VALUE=DATE:20160731
SUMMARY:IEEE ICRAI 2016 Deadline
DESCRIPTION:2nd International Conference on Robotics and Artificial Intel
 ligence
URL:http://www.wikicfp.com/cfp/servlet/event.showcfp?eventid=52523&copyow
 nerid=90384
UID:cfp612070-D@wikicfp.com
END:VEVENT
BEGIN:VEVENT
DTSTAMP:20260421T072530Z
DTSTART;VALUE=DATE:20160905
SUMMARY:IEEE ICRAI 2016 Notification Due
DESCRIPTION:2nd International Conference on Robotics and Artificial Intel
 ligence
URL:http://www.wikicfp.com/cfp/servlet/event.showcfp?eventid=52523&copyow
 nerid=90384
UID:cfp612070-N@wikicfp.com
END:VEVENT
BEGIN:VEVENT
DTSTAMP:20260421T072530Z
DTSTART;VALUE=DATE:20160915
SUMMARY:IEEE ICRAI 2016 Final Version Due
DESCRIPTION:2nd International Conference on Robotics and Artificial Intel
 ligence
URL:http://www.wikicfp.com/cfp/servlet/event.showcfp?eventid=52523&copyow
 nerid=90384
UID:cfp612070-N@wikicfp.com
END:VEVENT
BEGIN:VEVENT
DTSTAMP:20260421T072530Z
DTSTART;VALUE=DATE:20160928
DTEND;VALUE=DATE:20161001
SUMMARY:IEEE ICKEA 2016
DESCRIPTION:2016 3rd International Conference on Knowledge Engineering an
 d Applications (ICKEA 2016) 
URL:http://www.wikicfp.com/cfp/servlet/event.showcfp?eventid=50669&copyow
 nerid=90384
UID:cfp612078-E@wikicfp.com
END:VEVENT
BEGIN:VEVENT
DTSTAMP:20260421T072530Z
DTSTART;VALUE=DATE:20160805
SUMMARY:IEEE ICKEA 2016 Deadline
DESCRIPTION:2016 3rd International Conference on Knowledge Engineering an
 d Applications (ICKEA 2016) 
URL:http://www.wikicfp.com/cfp/servlet/event.showcfp?eventid=50669&copyow
 nerid=90384
UID:cfp612078-D@wikicfp.com
END:VEVENT
BEGIN:VEVENT
DTSTAMP:20260421T072530Z
DTSTART;VALUE=DATE:20161218
DTEND;VALUE=DATE:20161221
SUMMARY:MLPM 2016
DESCRIPTION:Special Session on Machine Learning for Predictive Models in 
 Engineering Applications - IEEE ICMLA 2016
URL:http://www.wikicfp.com/cfp/servlet/event.showcfp?eventid=56012&copyow
 nerid=90384
UID:cfp612079-E@wikicfp.com
END:VEVENT
BEGIN:VEVENT
DTSTAMP:20260421T072530Z
DTSTART;VALUE=DATE:20160806
SUMMARY:MLPM 2016 Deadline
DESCRIPTION:Special Session on Machine Learning for Predictive Models in 
 Engineering Applications - IEEE ICMLA 2016
URL:http://www.wikicfp.com/cfp/servlet/event.showcfp?eventid=56012&copyow
 nerid=90384
UID:cfp612079-D@wikicfp.com
END:VEVENT
BEGIN:VEVENT
DTSTAMP:20260421T072530Z
DTSTART;VALUE=DATE:20160907
SUMMARY:MLPM 2016 Notification Due
DESCRIPTION:Special Session on Machine Learning for Predictive Models in 
 Engineering Applications - IEEE ICMLA 2016
URL:http://www.wikicfp.com/cfp/servlet/event.showcfp?eventid=56012&copyow
 nerid=90384
UID:cfp612079-N@wikicfp.com
END:VEVENT
BEGIN:VEVENT
DTSTAMP:20260421T072530Z
DTSTART;VALUE=DATE:20161001
SUMMARY:MLPM 2016 Final Version Due
DESCRIPTION:Special Session on Machine Learning for Predictive Models in 
 Engineering Applications - IEEE ICMLA 2016
URL:http://www.wikicfp.com/cfp/servlet/event.showcfp?eventid=56012&copyow
 nerid=90384
UID:cfp612079-N@wikicfp.com
END:VEVENT
BEGIN:VEVENT
DTSTAMP:20260421T072530Z
DTSTART;VALUE=DATE:20161123
DTEND;VALUE=DATE:20161126
SUMMARY:IEEE-ISCMI 2016
DESCRIPTION:2016 3rd Intl. Conference on Soft Computing & Machine Intelli
 gence (ISCMI 2016)-IEEE Xplore\, Ei
URL:http://www.wikicfp.com/cfp/servlet/event.showcfp?eventid=54807&copyow
 nerid=90384
UID:cfp612074-E@wikicfp.com
END:VEVENT
BEGIN:VEVENT
DTSTAMP:20260421T072530Z
DTSTART;VALUE=DATE:20160820
SUMMARY:IEEE-ISCMI 2016 Deadline
DESCRIPTION:2016 3rd Intl. Conference on Soft Computing & Machine Intelli
 gence (ISCMI 2016)-IEEE Xplore\, Ei
URL:http://www.wikicfp.com/cfp/servlet/event.showcfp?eventid=54807&copyow
 nerid=90384
UID:cfp612074-D@wikicfp.com
END:VEVENT
BEGIN:VEVENT
DTSTAMP:20260421T072530Z
DTSTART;VALUE=DATE:20170529
DTEND;VALUE=DATE:20170604
SUMMARY:ICRA 2017
DESCRIPTION:International Conference on Robotics and Automation
URL:http://www.wikicfp.com/cfp/servlet/event.showcfp?eventid=52343&copyow
 nerid=90384
UID:cfp612071-E@wikicfp.com
END:VEVENT
BEGIN:VEVENT
DTSTAMP:20260421T072530Z
DTSTART;VALUE=DATE:20160910
SUMMARY:ICRA 2017 Deadline
DESCRIPTION:International Conference on Robotics and Automation
URL:http://www.wikicfp.com/cfp/servlet/event.showcfp?eventid=52343&copyow
 nerid=90384
UID:cfp612071-D@wikicfp.com
END:VEVENT
BEGIN:VEVENT
DTSTAMP:20260421T072530Z
DTSTART;VALUE=DATE:20170115
SUMMARY:ICRA 2017 Notification Due
DESCRIPTION:International Conference on Robotics and Automation
URL:http://www.wikicfp.com/cfp/servlet/event.showcfp?eventid=52343&copyow
 nerid=90384
UID:cfp612071-N@wikicfp.com
END:VEVENT
BEGIN:VEVENT
DTSTAMP:20260421T072530Z
DTSTART;VALUE=DATE:20170225
SUMMARY:ICRA 2017 Final Version Due
DESCRIPTION:International Conference on Robotics and Automation
URL:http://www.wikicfp.com/cfp/servlet/event.showcfp?eventid=52343&copyow
 nerid=90384
UID:cfp612071-N@wikicfp.com
END:VEVENT
BEGIN:VEVENT
DTSTAMP:20260421T072530Z
DTSTART;VALUE=DATE:20161204
DTEND;VALUE=DATE:20161205
SUMMARY:FFER 2016
DESCRIPTION:2nd ICPR workshop on face and facial expression recognition f
 rom real world videos
URL:http://www.wikicfp.com/cfp/servlet/event.showcfp?eventid=55608&copyow
 nerid=90384
UID:cfp612084-E@wikicfp.com
END:VEVENT
BEGIN:VEVENT
DTSTAMP:20260421T072530Z
DTSTART;VALUE=DATE:20161001
SUMMARY:FFER 2016 Deadline
DESCRIPTION:2nd ICPR workshop on face and facial expression recognition f
 rom real world videos
URL:http://www.wikicfp.com/cfp/servlet/event.showcfp?eventid=55608&copyow
 nerid=90384
UID:cfp612084-D@wikicfp.com
END:VEVENT
BEGIN:VEVENT
DTSTAMP:20260421T072530Z
DTSTART;VALUE=DATE:20161101
SUMMARY:FFER 2016 Notification Due
DESCRIPTION:2nd ICPR workshop on face and facial expression recognition f
 rom real world videos
URL:http://www.wikicfp.com/cfp/servlet/event.showcfp?eventid=55608&copyow
 nerid=90384
UID:cfp612084-N@wikicfp.com
END:VEVENT
BEGIN:VEVENT
DTSTAMP:20260421T072530Z
DTSTART;VALUE=DATE:20161107
SUMMARY:FFER 2016 Final Version Due
DESCRIPTION:2nd ICPR workshop on face and facial expression recognition f
 rom real world videos
URL:http://www.wikicfp.com/cfp/servlet/event.showcfp?eventid=55608&copyow
 nerid=90384
UID:cfp612084-N@wikicfp.com
END:VEVENT
BEGIN:VEVENT
DTSTAMP:20260421T072530Z
DTSTART;VALUE=DATE:20170419
DTEND;VALUE=DATE:20170423
SUMMARY:ICDE 2017
DESCRIPTION:IEEE INTERNATIONAL CONFERENCE ON DATA ENGINEERING 2017 
URL:http://www.wikicfp.com/cfp/servlet/event.showcfp?eventid=55085&copyow
 nerid=90384
UID:cfp612080-E@wikicfp.com
END:VEVENT
BEGIN:VEVENT
DTSTAMP:20260421T072530Z
DTSTART;VALUE=DATE:20161011
SUMMARY:ICDE 2017 Deadline
DESCRIPTION:IEEE INTERNATIONAL CONFERENCE ON DATA ENGINEERING 2017 
URL:http://www.wikicfp.com/cfp/servlet/event.showcfp?eventid=55085&copyow
 nerid=90384
UID:cfp612080-D@wikicfp.com
END:VEVENT
BEGIN:VEVENT
DTSTAMP:20260421T072530Z
DTSTART;VALUE=DATE:20170110
SUMMARY:ICDE 2017 Notification Due
DESCRIPTION:IEEE INTERNATIONAL CONFERENCE ON DATA ENGINEERING 2017 
URL:http://www.wikicfp.com/cfp/servlet/event.showcfp?eventid=55085&copyow
 nerid=90384
UID:cfp612080-N@wikicfp.com
END:VEVENT
BEGIN:VEVENT
DTSTAMP:20260421T072530Z
DTSTART;VALUE=DATE:20170124
SUMMARY:ICDE 2017 Final Version Due
DESCRIPTION:IEEE INTERNATIONAL CONFERENCE ON DATA ENGINEERING 2017 
URL:http://www.wikicfp.com/cfp/servlet/event.showcfp?eventid=55085&copyow
 nerid=90384
UID:cfp612080-N@wikicfp.com
END:VEVENT
BEGIN:VEVENT
DTSTAMP:20260421T072530Z
DTSTART;VALUE=DATE:20170313
DTEND;VALUE=DATE:20170317
SUMMARY:IUI  2017
DESCRIPTION:22nd ACM International Conference on Intelligent User Interfa
 ces
URL:http://www.wikicfp.com/cfp/servlet/event.showcfp?eventid=53500&copyow
 nerid=90384
UID:cfp612069-E@wikicfp.com
END:VEVENT
BEGIN:VEVENT
DTSTAMP:20260421T072530Z
DTSTART;VALUE=DATE:20161009
SUMMARY:IUI  2017 Abstract Due
DESCRIPTION:22nd ACM International Conference on Intelligent User Interfa
 ces
URL:http://www.wikicfp.com/cfp/servlet/event.showcfp?eventid=53500&copyow
 nerid=90384
UID:cfp612069-A@wikicfp.com
END:VEVENT
BEGIN:VEVENT
DTSTAMP:20260421T072530Z
DTSTART;VALUE=DATE:20161014
SUMMARY:IUI  2017 Deadline
DESCRIPTION:22nd ACM International Conference on Intelligent User Interfa
 ces
URL:http://www.wikicfp.com/cfp/servlet/event.showcfp?eventid=53500&copyow
 nerid=90384
UID:cfp612069-D@wikicfp.com
END:VEVENT
BEGIN:VEVENT
DTSTAMP:20260421T072530Z
DTSTART;VALUE=DATE:20161125
SUMMARY:IUI  2017 Notification Due
DESCRIPTION:22nd ACM International Conference on Intelligent User Interfa
 ces
URL:http://www.wikicfp.com/cfp/servlet/event.showcfp?eventid=53500&copyow
 nerid=90384
UID:cfp612069-N@wikicfp.com
END:VEVENT
BEGIN:VEVENT
DTSTAMP:20260421T072530Z
DTSTART;VALUE=DATE:20170227
DTEND;VALUE=DATE:20170302
SUMMARY:VISIGRAPP 2017
DESCRIPTION:12th International Joint Conference on Computer Vision\, Imag
 ing and Computer Graphics Theory and Applications
URL:http://www.wikicfp.com/cfp/servlet/event.showcfp?eventid=55236&copyow
 nerid=90384
UID:cfp612085-E@wikicfp.com
END:VEVENT
BEGIN:VEVENT
DTSTAMP:20260421T072530Z
DTSTART;VALUE=DATE:20161020
SUMMARY:VISIGRAPP 2017 Deadline
DESCRIPTION:12th International Joint Conference on Computer Vision\, Imag
 ing and Computer Graphics Theory and Applications
URL:http://www.wikicfp.com/cfp/servlet/event.showcfp?eventid=55236&copyow
 nerid=90384
UID:cfp612085-D@wikicfp.com
END:VEVENT
BEGIN:VEVENT
DTSTAMP:20260421T072530Z
DTSTART;VALUE=DATE:20161122
SUMMARY:VISIGRAPP 2017 Notification Due
DESCRIPTION:12th International Joint Conference on Computer Vision\, Imag
 ing and Computer Graphics Theory and Applications
URL:http://www.wikicfp.com/cfp/servlet/event.showcfp?eventid=55236&copyow
 nerid=90384
UID:cfp612085-N@wikicfp.com
END:VEVENT
BEGIN:VEVENT
DTSTAMP:20260421T072530Z
DTSTART;VALUE=DATE:20161205
SUMMARY:VISIGRAPP 2017 Final Version Due
DESCRIPTION:12th International Joint Conference on Computer Vision\, Imag
 ing and Computer Graphics Theory and Applications
URL:http://www.wikicfp.com/cfp/servlet/event.showcfp?eventid=55236&copyow
 nerid=90384
UID:cfp612085-N@wikicfp.com
END:VEVENT
BEGIN:VEVENT
DTSTAMP:20260421T072530Z
DTSTART;VALUE=DATE:20170624
DTEND;VALUE=DATE:20170701
SUMMARY:CVPR 2017
DESCRIPTION:Computer Vision and Pattern Recognition
URL:http://www.wikicfp.com/cfp/servlet/event.showcfp?eventid=55850&copyow
 nerid=90384
UID:cfp612081-E@wikicfp.com
END:VEVENT
BEGIN:VEVENT
DTSTAMP:20260421T072530Z
DTSTART;VALUE=DATE:20161111
SUMMARY:CVPR 2017 Deadline
DESCRIPTION:Computer Vision and Pattern Recognition
URL:http://www.wikicfp.com/cfp/servlet/event.showcfp?eventid=55850&copyow
 nerid=90384
UID:cfp612081-D@wikicfp.com
END:VEVENT
BEGIN:VEVENT
DTSTAMP:20260421T072530Z
DTSTART;VALUE=DATE:20170303
SUMMARY:CVPR 2017 Notification Due
DESCRIPTION:Computer Vision and Pattern Recognition
URL:http://www.wikicfp.com/cfp/servlet/event.showcfp?eventid=55850&copyow
 nerid=90384
UID:cfp612081-N@wikicfp.com
END:VEVENT
BEGIN:VEVENT
DTSTAMP:20260421T072530Z
DTSTART;VALUE=DATE:20170410
SUMMARY:CVPR 2017 Final Version Due
DESCRIPTION:Computer Vision and Pattern Recognition
URL:http://www.wikicfp.com/cfp/servlet/event.showcfp?eventid=55850&copyow
 nerid=90384
UID:cfp612081-N@wikicfp.com
END:VEVENT
BEGIN:VEVENT
DTSTAMP:20260421T072530Z
DTSTART;VALUE=DATE:20170611
DTEND;VALUE=DATE:20170616
SUMMARY:ICAISC 2017
DESCRIPTION:International Conference on Artificial Intelligence and Soft 
 Computing
URL:http://www.wikicfp.com/cfp/servlet/event.showcfp?eventid=54000&copyow
 nerid=90384
UID:cfp612075-E@wikicfp.com
END:VEVENT
BEGIN:VEVENT
DTSTAMP:20260421T072530Z
DTSTART;VALUE=DATE:20161120
SUMMARY:ICAISC 2017 Deadline
DESCRIPTION:International Conference on Artificial Intelligence and Soft 
 Computing
URL:http://www.wikicfp.com/cfp/servlet/event.showcfp?eventid=54000&copyow
 nerid=90384
UID:cfp612075-D@wikicfp.com
END:VEVENT
BEGIN:VEVENT
DTSTAMP:20260421T072530Z
DTSTART;VALUE=DATE:20170215
SUMMARY:ICAISC 2017 Notification Due
DESCRIPTION:International Conference on Artificial Intelligence and Soft 
 Computing
URL:http://www.wikicfp.com/cfp/servlet/event.showcfp?eventid=54000&copyow
 nerid=90384
UID:cfp612075-N@wikicfp.com
END:VEVENT
BEGIN:VEVENT
DTSTAMP:20260421T072530Z
DTSTART;VALUE=DATE:20170301
SUMMARY:ICAISC 2017 Final Version Due
DESCRIPTION:International Conference on Artificial Intelligence and Soft 
 Computing
URL:http://www.wikicfp.com/cfp/servlet/event.showcfp?eventid=54000&copyow
 nerid=90384
UID:cfp612075-N@wikicfp.com
END:VEVENT
BEGIN:VEVENT
DTSTAMP:20260421T072530Z
DTSTART;VALUE=DATE:20170508
DTEND;VALUE=DATE:20170513
SUMMARY:MVA 2017
DESCRIPTION:The 15th IAPR International Conference on Machine Vision Appl
 ications
URL:http://www.wikicfp.com/cfp/servlet/event.showcfp?eventid=54753&copyow
 nerid=90384
UID:cfp612082-E@wikicfp.com
END:VEVENT
BEGIN:VEVENT
DTSTAMP:20260421T072530Z
DTSTART;VALUE=DATE:20161205
SUMMARY:MVA 2017 Deadline
DESCRIPTION:The 15th IAPR International Conference on Machine Vision Appl
 ications
URL:http://www.wikicfp.com/cfp/servlet/event.showcfp?eventid=54753&copyow
 nerid=90384
UID:cfp612082-D@wikicfp.com
END:VEVENT
BEGIN:VEVENT
DTSTAMP:20260421T072530Z
DTSTART;VALUE=DATE:20170213
SUMMARY:MVA 2017 Notification Due
DESCRIPTION:The 15th IAPR International Conference on Machine Vision Appl
 ications
URL:http://www.wikicfp.com/cfp/servlet/event.showcfp?eventid=54753&copyow
 nerid=90384
UID:cfp612082-N@wikicfp.com
END:VEVENT
BEGIN:VEVENT
DTSTAMP:20260421T072530Z
DTSTART;VALUE=DATE:20170313
SUMMARY:MVA 2017 Final Version Due
DESCRIPTION:The 15th IAPR International Conference on Machine Vision Appl
 ications
URL:http://www.wikicfp.com/cfp/servlet/event.showcfp?eventid=54753&copyow
 nerid=90384
UID:cfp612082-N@wikicfp.com
END:VEVENT
BEGIN:VEVENT
DTSTAMP:20260421T072530Z
DTSTART;VALUE=DATE:20170208
DTEND;VALUE=DATE:20170213
SUMMARY:ICMRE 2017
DESCRIPTION:2017 3rd International Conference on Mechatronics and Robotic
 s Engineering (ICMRE 2017)- Springer\, Scopus
URL:http://www.wikicfp.com/cfp/servlet/event.showcfp?eventid=54846&copyow
 nerid=90384
UID:cfp612064-E@wikicfp.com
END:VEVENT
BEGIN:VEVENT
DTSTAMP:20260421T072530Z
DTSTART;VALUE=DATE:20161215
SUMMARY:ICMRE 2017 Deadline
DESCRIPTION:2017 3rd International Conference on Mechatronics and Robotic
 s Engineering (ICMRE 2017)- Springer\, Scopus
URL:http://www.wikicfp.com/cfp/servlet/event.showcfp?eventid=54846&copyow
 nerid=90384
UID:cfp612064-D@wikicfp.com
END:VEVENT
BEGIN:VEVENT
DTSTAMP:20260421T072530Z
DTSTART;VALUE=DATE:20170422
DTEND;VALUE=DATE:20170425
SUMMARY:ICRCV 2017
DESCRIPTION:2017 3rd International Conference on Robotics and Computer Vi
 sion (ICRCV 2017)- SCOPUS\, Ei
URL:http://www.wikicfp.com/cfp/servlet/event.showcfp?eventid=56051&copyow
 nerid=90384
UID:cfp612083-E@wikicfp.com
END:VEVENT
BEGIN:VEVENT
DTSTAMP:20260421T072530Z
DTSTART;VALUE=DATE:20161230
SUMMARY:ICRCV 2017 Deadline
DESCRIPTION:2017 3rd International Conference on Robotics and Computer Vi
 sion (ICRCV 2017)- SCOPUS\, Ei
URL:http://www.wikicfp.com/cfp/servlet/event.showcfp?eventid=56051&copyow
 nerid=90384
UID:cfp612083-D@wikicfp.com
END:VEVENT
BEGIN:VEVENT
DTSTAMP:20260421T072530Z
DTSTART;VALUE=DATE:20170715
DTEND;VALUE=DATE:20170722
SUMMARY:MLDM 2017
DESCRIPTION:Machine Learning and Data Mining in Pattern Recognition
URL:http://www.wikicfp.com/cfp/servlet/event.showcfp?eventid=56033&copyow
 nerid=90384
UID:cfp612076-E@wikicfp.com
END:VEVENT
BEGIN:VEVENT
DTSTAMP:20260421T072530Z
DTSTART;VALUE=DATE:20170115
SUMMARY:MLDM 2017 Deadline
DESCRIPTION:Machine Learning and Data Mining in Pattern Recognition
URL:http://www.wikicfp.com/cfp/servlet/event.showcfp?eventid=56033&copyow
 nerid=90384
UID:cfp612076-D@wikicfp.com
END:VEVENT
BEGIN:VEVENT
DTSTAMP:20260421T072530Z
DTSTART;VALUE=DATE:20170318
SUMMARY:MLDM 2017 Notification Due
DESCRIPTION:Machine Learning and Data Mining in Pattern Recognition
URL:http://www.wikicfp.com/cfp/servlet/event.showcfp?eventid=56033&copyow
 nerid=90384
UID:cfp612076-N@wikicfp.com
END:VEVENT
BEGIN:VEVENT
DTSTAMP:20260421T072530Z
DTSTART;VALUE=DATE:20170405
SUMMARY:MLDM 2017 Final Version Due
DESCRIPTION:Machine Learning and Data Mining in Pattern Recognition
URL:http://www.wikicfp.com/cfp/servlet/event.showcfp?eventid=56033&copyow
 nerid=90384
UID:cfp612076-N@wikicfp.com
END:VEVENT
BEGIN:VEVENT
DTSTAMP:20260421T072530Z
DTSTART;VALUE=DATE:20170620
DTEND;VALUE=DATE:20170623
SUMMARY:ICML 2017
DESCRIPTION: 34rd International Conference on Machine Learning
URL:http://www.wikicfp.com/cfp/servlet/event.showcfp?eventid=53557&copyow
 nerid=90384
UID:cfp612077-E@wikicfp.com
END:VEVENT
BEGIN:VEVENT
DTSTAMP:20260421T072530Z
DTSTART;VALUE=DATE:20170205
SUMMARY:ICML 2017 Deadline
DESCRIPTION: 34rd International Conference on Machine Learning
URL:http://www.wikicfp.com/cfp/servlet/event.showcfp?eventid=53557&copyow
 nerid=90384
UID:cfp612077-D@wikicfp.com
END:VEVENT
BEGIN:VEVENT
DTSTAMP:20260421T072530Z
DTSTART;VALUE=DATE:20170422
DTEND;VALUE=DATE:20170425
SUMMARY:ICCAR 2017
DESCRIPTION:[IEEE] 2017 The 3rd International Conference on Control\, Aut
 omation and Robotics (ICCAR 2017)
URL:http://www.wikicfp.com/cfp/servlet/event.showcfp?eventid=56050&copyow
 nerid=90384
UID:cfp612067-E@wikicfp.com
END:VEVENT
BEGIN:VEVENT
DTSTAMP:20260421T072530Z
DTSTART;VALUE=DATE:20170220
SUMMARY:ICCAR 2017 Deadline
DESCRIPTION:[IEEE] 2017 The 3rd International Conference on Control\, Aut
 omation and Robotics (ICCAR 2017)
URL:http://www.wikicfp.com/cfp/servlet/event.showcfp?eventid=56050&copyow
 nerid=90384
UID:cfp612067-D@wikicfp.com
END:VEVENT
BEGIN:VEVENT
DTSTAMP:20260421T072530Z
DTSTART;VALUE=DATE:20170924
DTEND;VALUE=DATE:20170929
SUMMARY:IROS 2017
DESCRIPTION:IEEE/RSJ International Conference on Intelligent Robots and S
 ystems
URL:http://www.wikicfp.com/cfp/servlet/event.showcfp?eventid=51323&copyow
 nerid=90384
UID:cfp612068-E@wikicfp.com
END:VEVENT
BEGIN:VEVENT
DTSTAMP:20260421T072530Z
DTSTART;VALUE=DATE:20170301
SUMMARY:IROS 2017 Deadline
DESCRIPTION:IEEE/RSJ International Conference on Intelligent Robots and S
 ystems
URL:http://www.wikicfp.com/cfp/servlet/event.showcfp?eventid=51323&copyow
 nerid=90384
UID:cfp612068-D@wikicfp.com
END:VEVENT
BEGIN:VEVENT
DTSTAMP:20260421T072530Z
DTSTART;VALUE=DATE:20170615
SUMMARY:IROS 2017 Notification Due
DESCRIPTION:IEEE/RSJ International Conference on Intelligent Robots and S
 ystems
URL:http://www.wikicfp.com/cfp/servlet/event.showcfp?eventid=51323&copyow
 nerid=90384
UID:cfp612068-N@wikicfp.com
END:VEVENT
BEGIN:VEVENT
DTSTAMP:20260421T072530Z
DTSTART;VALUE=DATE:20170715
SUMMARY:IROS 2017 Final Version Due
DESCRIPTION:IEEE/RSJ International Conference on Intelligent Robots and S
 ystems
URL:http://www.wikicfp.com/cfp/servlet/event.showcfp?eventid=51323&copyow
 nerid=90384
UID:cfp612068-N@wikicfp.com
END:VEVENT
END:VCALENDAR
