BEGIN:VCALENDAR
PRODID:-//WikiCFP//Brutman0812 1.0//EN
VERSION:2.0
CALSCALE:GREGORIAN
BEGIN:VEVENT
DTSTAMP:20260423T034703Z
DTSTART;VALUE=DATE:20160727
DTEND;VALUE=DATE:20160729
SUMMARY:APEF 2016
DESCRIPTION:2016 Asia-Pacific Conference on Economics & Finance
URL:http://www.wikicfp.com/cfp/servlet/event.showcfp?eventid=49686&copyow
 nerid=89362
UID:cfp606206-E@wikicfp.com
END:VEVENT
BEGIN:VEVENT
DTSTAMP:20260423T034703Z
DTSTART;VALUE=DATE:20160704
SUMMARY:APEF 2016 Deadline
DESCRIPTION:2016 Asia-Pacific Conference on Economics & Finance
URL:http://www.wikicfp.com/cfp/servlet/event.showcfp?eventid=49686&copyow
 nerid=89362
UID:cfp606206-D@wikicfp.com
END:VEVENT
BEGIN:VEVENT
DTSTAMP:20260423T034703Z
DTSTART;VALUE=DATE:20160421
SUMMARY:APEF 2016 Notification Due
DESCRIPTION:2016 Asia-Pacific Conference on Economics & Finance
URL:http://www.wikicfp.com/cfp/servlet/event.showcfp?eventid=49686&copyow
 nerid=89362
UID:cfp606206-N@wikicfp.com
END:VEVENT
BEGIN:VEVENT
DTSTAMP:20260423T034703Z
DTSTART;VALUE=DATE:20160519
SUMMARY:APEF 2016 Final Version Due
DESCRIPTION:2016 Asia-Pacific Conference on Economics & Finance
URL:http://www.wikicfp.com/cfp/servlet/event.showcfp?eventid=49686&copyow
 nerid=89362
UID:cfp606206-N@wikicfp.com
END:VEVENT
BEGIN:VEVENT
DTSTAMP:20260423T034703Z
DTSTART;VALUE=DATE:20161209
DTEND;VALUE=DATE:20161211
SUMMARY:SFM 2016
DESCRIPTION:SFM conference/ Pacific-Basin Finance Journal Dual Submission
  [Call for Papers]
URL:http://www.wikicfp.com/cfp/servlet/event.showcfp?eventid=54556&copyow
 nerid=89362
UID:cfp606204-E@wikicfp.com
END:VEVENT
BEGIN:VEVENT
DTSTAMP:20260423T034703Z
DTSTART;VALUE=DATE:20161101
SUMMARY:SFM 2016 Abstract Due
DESCRIPTION:SFM conference/ Pacific-Basin Finance Journal Dual Submission
  [Call for Papers]
URL:http://www.wikicfp.com/cfp/servlet/event.showcfp?eventid=54556&copyow
 nerid=89362
UID:cfp606204-A@wikicfp.com
END:VEVENT
BEGIN:VEVENT
DTSTAMP:20260423T034703Z
DTSTART;VALUE=DATE:20160816
SUMMARY:SFM 2016 Deadline
DESCRIPTION:SFM conference/ Pacific-Basin Finance Journal Dual Submission
  [Call for Papers]
URL:http://www.wikicfp.com/cfp/servlet/event.showcfp?eventid=54556&copyow
 nerid=89362
UID:cfp606204-D@wikicfp.com
END:VEVENT
BEGIN:VEVENT
DTSTAMP:20260423T034703Z
DTSTART;VALUE=DATE:20160909
SUMMARY:SFM 2016 Notification Due
DESCRIPTION:SFM conference/ Pacific-Basin Finance Journal Dual Submission
  [Call for Papers]
URL:http://www.wikicfp.com/cfp/servlet/event.showcfp?eventid=54556&copyow
 nerid=89362
UID:cfp606204-N@wikicfp.com
END:VEVENT
BEGIN:VEVENT
DTSTAMP:20260423T034703Z
DTSTART;VALUE=DATE:20160816
SUMMARY:SFM 2016 Final Version Due
DESCRIPTION:SFM conference/ Pacific-Basin Finance Journal Dual Submission
  [Call for Papers]
URL:http://www.wikicfp.com/cfp/servlet/event.showcfp?eventid=54556&copyow
 nerid=89362
UID:cfp606204-N@wikicfp.com
END:VEVENT
BEGIN:VEVENT
DTSTAMP:20260423T034703Z
DTSTART;VALUE=DATE:20161023
DTEND;VALUE=DATE:20161026
SUMMARY:ICBMG 2016
DESCRIPTION:2016 5th International Conference on Business\, Management an
 d Governance (ICBMG 2016)
URL:http://www.wikicfp.com/cfp/servlet/event.showcfp?eventid=53779&copyow
 nerid=89362
UID:cfp606201-E@wikicfp.com
END:VEVENT
BEGIN:VEVENT
DTSTAMP:20260423T034703Z
DTSTART;VALUE=DATE:20160901
SUMMARY:ICBMG 2016 Deadline
DESCRIPTION:2016 5th International Conference on Business\, Management an
 d Governance (ICBMG 2016)
URL:http://www.wikicfp.com/cfp/servlet/event.showcfp?eventid=53779&copyow
 nerid=89362
UID:cfp606201-D@wikicfp.com
END:VEVENT
BEGIN:VEVENT
DTSTAMP:20260423T034703Z
DTSTART;VALUE=DATE:20161112
DTEND;VALUE=DATE:20161115
SUMMARY:ICMBE 2016
DESCRIPTION:2016 2nd International Conference on Marketing Business and E
 conomics (ICMBE 2016)
URL:http://www.wikicfp.com/cfp/servlet/event.showcfp?eventid=53785&copyow
 nerid=89362
UID:cfp606202-E@wikicfp.com
END:VEVENT
BEGIN:VEVENT
DTSTAMP:20260423T034703Z
DTSTART;VALUE=DATE:20160915
SUMMARY:ICMBE 2016 Deadline
DESCRIPTION:2016 2nd International Conference on Marketing Business and E
 conomics (ICMBE 2016)
URL:http://www.wikicfp.com/cfp/servlet/event.showcfp?eventid=53785&copyow
 nerid=89362
UID:cfp606202-D@wikicfp.com
END:VEVENT
BEGIN:VEVENT
DTSTAMP:20260423T034703Z
DTSTART;VALUE=DATE:20161124
DTEND;VALUE=DATE:20161127
SUMMARY:ICEBM 2016
DESCRIPTION:2016 7th International Conference on Economics\, Business and
  Management (ICEBM 2016)
URL:http://www.wikicfp.com/cfp/servlet/event.showcfp?eventid=53787&copyow
 nerid=89362
UID:cfp606203-E@wikicfp.com
END:VEVENT
BEGIN:VEVENT
DTSTAMP:20260423T034703Z
DTSTART;VALUE=DATE:20160925
SUMMARY:ICEBM 2016 Deadline
DESCRIPTION:2016 7th International Conference on Economics\, Business and
  Management (ICEBM 2016)
URL:http://www.wikicfp.com/cfp/servlet/event.showcfp?eventid=53787&copyow
 nerid=89362
UID:cfp606203-D@wikicfp.com
END:VEVENT
BEGIN:VEVENT
DTSTAMP:20260423T034703Z
DTSTART;VALUE=DATE:20161206
DTEND;VALUE=DATE:20161209
SUMMARY:ICEBT 2016
DESCRIPTION:2016 2nd International Conference on Economics\, Business and
  TradeâICEBT 2016
URL:http://www.wikicfp.com/cfp/servlet/event.showcfp?eventid=54805&copyow
 nerid=89362
UID:cfp606205-E@wikicfp.com
END:VEVENT
BEGIN:VEVENT
DTSTAMP:20260423T034703Z
DTSTART;VALUE=DATE:20161015
SUMMARY:ICEBT 2016 Deadline
DESCRIPTION:2016 2nd International Conference on Economics\, Business and
  TradeâICEBT 2016
URL:http://www.wikicfp.com/cfp/servlet/event.showcfp?eventid=54805&copyow
 nerid=89362
UID:cfp606205-D@wikicfp.com
END:VEVENT
BEGIN:VEVENT
DTSTAMP:20260423T034703Z
DTSTART;VALUE=DATE:20161229
DTEND;VALUE=DATE:20170101
SUMMARY:ICMBT 2016
DESCRIPTION:2016 2nd International Conference on Marketing\, Business and
  Trade-ICMBT 2016
URL:http://www.wikicfp.com/cfp/servlet/event.showcfp?eventid=54804&copyow
 nerid=89362
UID:cfp606207-E@wikicfp.com
END:VEVENT
BEGIN:VEVENT
DTSTAMP:20260423T034703Z
DTSTART;VALUE=DATE:20161110
SUMMARY:ICMBT 2016 Deadline
DESCRIPTION:2016 2nd International Conference on Marketing\, Business and
  Trade-ICMBT 2016
URL:http://www.wikicfp.com/cfp/servlet/event.showcfp?eventid=54804&copyow
 nerid=89362
UID:cfp606207-D@wikicfp.com
END:VEVENT
BEGIN:VEVENT
DTSTAMP:20260423T034703Z
DTSTART;VALUE=DATE:20170123
DTEND;VALUE=DATE:20170126
SUMMARY:ICEBA 2017
DESCRIPTION:2017 4th International Conference on Economics and Business A
 dministration (ICEBA 2017) 
URL:http://www.wikicfp.com/cfp/servlet/event.showcfp?eventid=54844&copyow
 nerid=89362
UID:cfp606208-E@wikicfp.com
END:VEVENT
BEGIN:VEVENT
DTSTAMP:20260423T034703Z
DTSTART;VALUE=DATE:20161125
SUMMARY:ICEBA 2017 Deadline
DESCRIPTION:2017 4th International Conference on Economics and Business A
 dministration (ICEBA 2017) 
URL:http://www.wikicfp.com/cfp/servlet/event.showcfp?eventid=54844&copyow
 nerid=89362
UID:cfp606208-D@wikicfp.com
END:VEVENT
BEGIN:VEVENT
DTSTAMP:20260423T034703Z
DTSTART;VALUE=DATE:20170123
DTEND;VALUE=DATE:20170126
SUMMARY:ICEMM 2017
DESCRIPTION:2017 6th International Conference on Economics Marketing and 
 Management (ICEMM 2017)
URL:http://www.wikicfp.com/cfp/servlet/event.showcfp?eventid=54845&copyow
 nerid=89362
UID:cfp606209-E@wikicfp.com
END:VEVENT
BEGIN:VEVENT
DTSTAMP:20260423T034703Z
DTSTART;VALUE=DATE:20161130
SUMMARY:ICEMM 2017 Deadline
DESCRIPTION:2017 6th International Conference on Economics Marketing and 
 Management (ICEMM 2017)
URL:http://www.wikicfp.com/cfp/servlet/event.showcfp?eventid=54845&copyow
 nerid=89362
UID:cfp606209-D@wikicfp.com
END:VEVENT
END:VCALENDAR
