BEGIN:VCALENDAR
PRODID:-//WikiCFP//davidpaule 1.0//EN
VERSION:2.0
CALSCALE:GREGORIAN
BEGIN:VEVENT
DTSTAMP:20260420T023329Z
DTSTART;VALUE=DATE:20180915
DTEND;VALUE=DATE:20180919
SUMMARY:ICTIR 2018
DESCRIPTION:ACM SIGIR International Conference on the Theory of Informati
 on Retrieval
URL:http://www.wikicfp.com/cfp/servlet/event.showcfp?eventid=72806&copyow
 nerid=89029
UID:cfp789240-E@wikicfp.com
END:VEVENT
BEGIN:VEVENT
DTSTAMP:20260420T023329Z
DTSTART;VALUE=DATE:20180419
SUMMARY:ICTIR 2018 Abstract Due
DESCRIPTION:ACM SIGIR International Conference on the Theory of Informati
 on Retrieval
URL:http://www.wikicfp.com/cfp/servlet/event.showcfp?eventid=72806&copyow
 nerid=89029
UID:cfp789240-A@wikicfp.com
END:VEVENT
BEGIN:VEVENT
DTSTAMP:20260420T023329Z
DTSTART;VALUE=DATE:20180426
SUMMARY:ICTIR 2018 Deadline
DESCRIPTION:ACM SIGIR International Conference on the Theory of Informati
 on Retrieval
URL:http://www.wikicfp.com/cfp/servlet/event.showcfp?eventid=72806&copyow
 nerid=89029
UID:cfp789240-D@wikicfp.com
END:VEVENT
BEGIN:VEVENT
DTSTAMP:20260420T023329Z
DTSTART;VALUE=DATE:20180610
SUMMARY:ICTIR 2018 Notification Due
DESCRIPTION:ACM SIGIR International Conference on the Theory of Informati
 on Retrieval
URL:http://www.wikicfp.com/cfp/servlet/event.showcfp?eventid=72806&copyow
 nerid=89029
UID:cfp789240-N@wikicfp.com
END:VEVENT
BEGIN:VEVENT
DTSTAMP:20260420T023329Z
DTSTART;VALUE=DATE:20190513
DTEND;VALUE=DATE:20190518
SUMMARY:WWW 2019
DESCRIPTION:The Web Conference 2019 
URL:http://www.wikicfp.com/cfp/servlet/event.showcfp?eventid=77195&copyow
 nerid=89029
UID:cfp789242-E@wikicfp.com
END:VEVENT
BEGIN:VEVENT
DTSTAMP:20260420T023329Z
DTSTART;VALUE=DATE:20181029
SUMMARY:WWW 2019 Abstract Due
DESCRIPTION:The Web Conference 2019 
URL:http://www.wikicfp.com/cfp/servlet/event.showcfp?eventid=77195&copyow
 nerid=89029
UID:cfp789242-A@wikicfp.com
END:VEVENT
BEGIN:VEVENT
DTSTAMP:20260420T023329Z
DTSTART;VALUE=DATE:20181105
SUMMARY:WWW 2019 Deadline
DESCRIPTION:The Web Conference 2019 
URL:http://www.wikicfp.com/cfp/servlet/event.showcfp?eventid=77195&copyow
 nerid=89029
UID:cfp789242-D@wikicfp.com
END:VEVENT
BEGIN:VEVENT
DTSTAMP:20260420T023329Z
DTSTART;VALUE=DATE:20190121
SUMMARY:WWW 2019 Notification Due
DESCRIPTION:The Web Conference 2019 
URL:http://www.wikicfp.com/cfp/servlet/event.showcfp?eventid=77195&copyow
 nerid=89029
UID:cfp789242-N@wikicfp.com
END:VEVENT
BEGIN:VEVENT
DTSTAMP:20260420T023329Z
DTSTART;VALUE=DATE:20190220
SUMMARY:WWW 2019 Final Version Due
DESCRIPTION:The Web Conference 2019 
URL:http://www.wikicfp.com/cfp/servlet/event.showcfp?eventid=77195&copyow
 nerid=89029
UID:cfp789242-N@wikicfp.com
END:VEVENT
BEGIN:VEVENT
DTSTAMP:20260420T023329Z
DTSTART;VALUE=DATE:20190721
DTEND;VALUE=DATE:20190726
SUMMARY:SIGIR 2019
DESCRIPTION:International ACM SIGIR Conference on Research and Developmen
 t in Information Retrieval
URL:http://www.wikicfp.com/cfp/servlet/event.showcfp?eventid=80084&copyow
 nerid=89029
UID:cfp789234-E@wikicfp.com
END:VEVENT
BEGIN:VEVENT
DTSTAMP:20260420T023329Z
DTSTART;VALUE=DATE:20190121
SUMMARY:SIGIR 2019 Abstract Due
DESCRIPTION:International ACM SIGIR Conference on Research and Developmen
 t in Information Retrieval
URL:http://www.wikicfp.com/cfp/servlet/event.showcfp?eventid=80084&copyow
 nerid=89029
UID:cfp789234-A@wikicfp.com
END:VEVENT
BEGIN:VEVENT
DTSTAMP:20260420T023329Z
DTSTART;VALUE=DATE:20190128
SUMMARY:SIGIR 2019 Deadline
DESCRIPTION:International ACM SIGIR Conference on Research and Developmen
 t in Information Retrieval
URL:http://www.wikicfp.com/cfp/servlet/event.showcfp?eventid=80084&copyow
 nerid=89029
UID:cfp789234-D@wikicfp.com
END:VEVENT
BEGIN:VEVENT
DTSTAMP:20260420T023329Z
DTSTART;VALUE=DATE:20190414
SUMMARY:SIGIR 2019 Final Version Due
DESCRIPTION:International ACM SIGIR Conference on Research and Developmen
 t in Information Retrieval
URL:http://www.wikicfp.com/cfp/servlet/event.showcfp?eventid=80084&copyow
 nerid=89029
UID:cfp789234-N@wikicfp.com
END:VEVENT
BEGIN:VEVENT
DTSTAMP:20260420T023329Z
DTSTART;VALUE=DATE:20191103
DTEND;VALUE=DATE:20191108
SUMMARY:CIKM 2019
DESCRIPTION:Conference on Information and Knowledge Management
URL:http://www.wikicfp.com/cfp/servlet/event.showcfp?eventid=85566&copyow
 nerid=89029
UID:cfp789241-E@wikicfp.com
END:VEVENT
BEGIN:VEVENT
DTSTAMP:20260420T023329Z
DTSTART;VALUE=DATE:20190515
SUMMARY:CIKM 2019 Abstract Due
DESCRIPTION:Conference on Information and Knowledge Management
URL:http://www.wikicfp.com/cfp/servlet/event.showcfp?eventid=85566&copyow
 nerid=89029
UID:cfp789241-A@wikicfp.com
END:VEVENT
BEGIN:VEVENT
DTSTAMP:20260420T023329Z
DTSTART;VALUE=DATE:20190522
SUMMARY:CIKM 2019 Deadline
DESCRIPTION:Conference on Information and Knowledge Management
URL:http://www.wikicfp.com/cfp/servlet/event.showcfp?eventid=85566&copyow
 nerid=89029
UID:cfp789241-D@wikicfp.com
END:VEVENT
BEGIN:VEVENT
DTSTAMP:20260420T023329Z
DTSTART;VALUE=DATE:20190806
SUMMARY:CIKM 2019 Notification Due
DESCRIPTION:Conference on Information and Knowledge Management
URL:http://www.wikicfp.com/cfp/servlet/event.showcfp?eventid=85566&copyow
 nerid=89029
UID:cfp789241-N@wikicfp.com
END:VEVENT
BEGIN:VEVENT
DTSTAMP:20260420T023329Z
DTSTART;VALUE=DATE:20190827
SUMMARY:CIKM 2019 Final Version Due
DESCRIPTION:Conference on Information and Knowledge Management
URL:http://www.wikicfp.com/cfp/servlet/event.showcfp?eventid=85566&copyow
 nerid=89029
UID:cfp789241-N@wikicfp.com
END:VEVENT
BEGIN:VEVENT
DTSTAMP:20260420T023329Z
DTSTART;VALUE=DATE:20200205
DTEND;VALUE=DATE:20200210
SUMMARY:WSDM 2020
DESCRIPTION:ACM International Conference on Web Search and Data Mining
URL:http://www.wikicfp.com/cfp/servlet/event.showcfp?eventid=89207&copyow
 nerid=89029
UID:cfp789236-E@wikicfp.com
END:VEVENT
BEGIN:VEVENT
DTSTAMP:20260420T023329Z
DTSTART;VALUE=DATE:20190812
SUMMARY:WSDM 2020 Abstract Due
DESCRIPTION:ACM International Conference on Web Search and Data Mining
URL:http://www.wikicfp.com/cfp/servlet/event.showcfp?eventid=89207&copyow
 nerid=89029
UID:cfp789236-A@wikicfp.com
END:VEVENT
BEGIN:VEVENT
DTSTAMP:20260420T023329Z
DTSTART;VALUE=DATE:20190816
SUMMARY:WSDM 2020 Deadline
DESCRIPTION:ACM International Conference on Web Search and Data Mining
URL:http://www.wikicfp.com/cfp/servlet/event.showcfp?eventid=89207&copyow
 nerid=89029
UID:cfp789236-D@wikicfp.com
END:VEVENT
BEGIN:VEVENT
DTSTAMP:20260420T023329Z
DTSTART;VALUE=DATE:20191024
SUMMARY:WSDM 2020 Notification Due
DESCRIPTION:ACM International Conference on Web Search and Data Mining
URL:http://www.wikicfp.com/cfp/servlet/event.showcfp?eventid=89207&copyow
 nerid=89029
UID:cfp789236-N@wikicfp.com
END:VEVENT
BEGIN:VEVENT
DTSTAMP:20260420T023329Z
DTSTART;VALUE=DATE:20200414
DTEND;VALUE=DATE:20200418
SUMMARY:ECIR 2020
DESCRIPTION:42nd European Conference on Information Retrieval
URL:http://www.wikicfp.com/cfp/servlet/event.showcfp?eventid=89041&copyow
 nerid=89029
UID:cfp789237-E@wikicfp.com
END:VEVENT
BEGIN:VEVENT
DTSTAMP:20260420T023329Z
DTSTART;VALUE=DATE:20191001
SUMMARY:ECIR 2020 Deadline
DESCRIPTION:42nd European Conference on Information Retrieval
URL:http://www.wikicfp.com/cfp/servlet/event.showcfp?eventid=89041&copyow
 nerid=89029
UID:cfp789237-D@wikicfp.com
END:VEVENT
BEGIN:VEVENT
DTSTAMP:20260420T023329Z
DTSTART;VALUE=DATE:20191130
SUMMARY:ECIR 2020 Notification Due
DESCRIPTION:42nd European Conference on Information Retrieval
URL:http://www.wikicfp.com/cfp/servlet/event.showcfp?eventid=89041&copyow
 nerid=89029
UID:cfp789237-N@wikicfp.com
END:VEVENT
BEGIN:VEVENT
DTSTAMP:20260420T023329Z
DTSTART;VALUE=DATE:20191227
SUMMARY:ECIR 2020 Final Version Due
DESCRIPTION:42nd European Conference on Information Retrieval
URL:http://www.wikicfp.com/cfp/servlet/event.showcfp?eventid=89041&copyow
 nerid=89029
UID:cfp789237-N@wikicfp.com
END:VEVENT
BEGIN:VEVENT
DTSTAMP:20260420T023329Z
DTSTART;VALUE=DATE:20200314
DTEND;VALUE=DATE:20200319
SUMMARY:CHIIR 2020
DESCRIPTION:ACM SIGIR Conference on Human Information Interaction and Ret
 rieval
URL:http://www.wikicfp.com/cfp/servlet/event.showcfp?eventid=90213&copyow
 nerid=89029
UID:cfp789238-E@wikicfp.com
END:VEVENT
BEGIN:VEVENT
DTSTAMP:20260420T023329Z
DTSTART;VALUE=DATE:20191015
SUMMARY:CHIIR 2020 Deadline
DESCRIPTION:ACM SIGIR Conference on Human Information Interaction and Ret
 rieval
URL:http://www.wikicfp.com/cfp/servlet/event.showcfp?eventid=90213&copyow
 nerid=89029
UID:cfp789238-D@wikicfp.com
END:VEVENT
BEGIN:VEVENT
DTSTAMP:20260420T023329Z
DTSTART;VALUE=DATE:20191210
SUMMARY:CHIIR 2020 Notification Due
DESCRIPTION:ACM SIGIR Conference on Human Information Interaction and Ret
 rieval
URL:http://www.wikicfp.com/cfp/servlet/event.showcfp?eventid=90213&copyow
 nerid=89029
UID:cfp789238-N@wikicfp.com
END:VEVENT
END:VCALENDAR
