BEGIN:VCALENDAR
PRODID:-//WikiCFP//amalia_adiba 1.0//EN
VERSION:2.0
CALSCALE:GREGORIAN
BEGIN:VEVENT
DTSTAMP:20260424T030559Z
DTSTART;VALUE=DATE:20160908
DTEND;VALUE=DATE:20160913
SUMMARY:ICISIP 2016
DESCRIPTION:The 4th IIAE International Conference on Intelligent Systems 
 and Image Processing 2016
URL:http://www.wikicfp.com/cfp/servlet/event.showcfp?eventid=46746&copyow
 nerid=88869
UID:cfp604698-E@wikicfp.com
END:VEVENT
BEGIN:VEVENT
DTSTAMP:20260424T030559Z
DTSTART;VALUE=DATE:20160617
SUMMARY:ICISIP 2016 Deadline
DESCRIPTION:The 4th IIAE International Conference on Intelligent Systems 
 and Image Processing 2016
URL:http://www.wikicfp.com/cfp/servlet/event.showcfp?eventid=46746&copyow
 nerid=88869
UID:cfp604698-D@wikicfp.com
END:VEVENT
BEGIN:VEVENT
DTSTAMP:20260424T030559Z
DTSTART;VALUE=DATE:20160708
SUMMARY:ICISIP 2016 Notification Due
DESCRIPTION:The 4th IIAE International Conference on Intelligent Systems 
 and Image Processing 2016
URL:http://www.wikicfp.com/cfp/servlet/event.showcfp?eventid=46746&copyow
 nerid=88869
UID:cfp604698-N@wikicfp.com
END:VEVENT
BEGIN:VEVENT
DTSTAMP:20260424T030559Z
DTSTART;VALUE=DATE:20160722
SUMMARY:ICISIP 2016 Final Version Due
DESCRIPTION:The 4th IIAE International Conference on Intelligent Systems 
 and Image Processing 2016
URL:http://www.wikicfp.com/cfp/servlet/event.showcfp?eventid=46746&copyow
 nerid=88869
UID:cfp604698-N@wikicfp.com
END:VEVENT
BEGIN:VEVENT
DTSTAMP:20260424T030559Z
DTSTART;VALUE=DATE:20161018
DTEND;VALUE=DATE:20161021
SUMMARY:AIPR 2016
DESCRIPTION:Applied Imagery Pattern Recognition
URL:http://www.wikicfp.com/cfp/servlet/event.showcfp?eventid=55208&copyow
 nerid=88869
UID:cfp604700-E@wikicfp.com
END:VEVENT
BEGIN:VEVENT
DTSTAMP:20260424T030559Z
DTSTART;VALUE=DATE:20160630
SUMMARY:AIPR 2016 Deadline
DESCRIPTION:Applied Imagery Pattern Recognition
URL:http://www.wikicfp.com/cfp/servlet/event.showcfp?eventid=55208&copyow
 nerid=88869
UID:cfp604700-D@wikicfp.com
END:VEVENT
BEGIN:VEVENT
DTSTAMP:20260424T030559Z
DTSTART;VALUE=DATE:20160731
SUMMARY:AIPR 2016 Notification Due
DESCRIPTION:Applied Imagery Pattern Recognition
URL:http://www.wikicfp.com/cfp/servlet/event.showcfp?eventid=55208&copyow
 nerid=88869
UID:cfp604700-N@wikicfp.com
END:VEVENT
BEGIN:VEVENT
DTSTAMP:20260424T030559Z
DTSTART;VALUE=DATE:20161130
SUMMARY:AIPR 2016 Final Version Due
DESCRIPTION:Applied Imagery Pattern Recognition
URL:http://www.wikicfp.com/cfp/servlet/event.showcfp?eventid=55208&copyow
 nerid=88869
UID:cfp604700-N@wikicfp.com
END:VEVENT
BEGIN:VEVENT
DTSTAMP:20260424T030559Z
DTSTART;VALUE=DATE:20161015
DTEND;VALUE=DATE:20161017
SUMMARY:SUI 2016
DESCRIPTION:ACM Symposium on Spatial User Interaction
URL:http://www.wikicfp.com/cfp/servlet/event.showcfp?eventid=53552&copyow
 nerid=88869
UID:cfp604699-E@wikicfp.com
END:VEVENT
BEGIN:VEVENT
DTSTAMP:20260424T030559Z
DTSTART;VALUE=DATE:20160627
SUMMARY:SUI 2016 Abstract Due
DESCRIPTION:ACM Symposium on Spatial User Interaction
URL:http://www.wikicfp.com/cfp/servlet/event.showcfp?eventid=53552&copyow
 nerid=88869
UID:cfp604699-A@wikicfp.com
END:VEVENT
BEGIN:VEVENT
DTSTAMP:20260424T030559Z
DTSTART;VALUE=DATE:20160701
SUMMARY:SUI 2016 Deadline
DESCRIPTION:ACM Symposium on Spatial User Interaction
URL:http://www.wikicfp.com/cfp/servlet/event.showcfp?eventid=53552&copyow
 nerid=88869
UID:cfp604699-D@wikicfp.com
END:VEVENT
BEGIN:VEVENT
DTSTAMP:20260424T030559Z
DTSTART;VALUE=DATE:20160807
SUMMARY:SUI 2016 Notification Due
DESCRIPTION:ACM Symposium on Spatial User Interaction
URL:http://www.wikicfp.com/cfp/servlet/event.showcfp?eventid=53552&copyow
 nerid=88869
UID:cfp604699-N@wikicfp.com
END:VEVENT
BEGIN:VEVENT
DTSTAMP:20260424T030559Z
DTSTART;VALUE=DATE:20160814
SUMMARY:SUI 2016 Final Version Due
DESCRIPTION:ACM Symposium on Spatial User Interaction
URL:http://www.wikicfp.com/cfp/servlet/event.showcfp?eventid=53552&copyow
 nerid=88869
UID:cfp604699-N@wikicfp.com
END:VEVENT
BEGIN:VEVENT
DTSTAMP:20260424T030559Z
DTSTART;VALUE=DATE:20161218
DTEND;VALUE=DATE:20161221
SUMMARY:ICMLA 2016
DESCRIPTION: IEEE International Conference on Machine Learning and Applic
 ations (IEEE ICMLA'16)
URL:http://www.wikicfp.com/cfp/servlet/event.showcfp?eventid=53316&copyow
 nerid=88869
UID:cfp603467-E@wikicfp.com
END:VEVENT
BEGIN:VEVENT
DTSTAMP:20260424T030559Z
DTSTART;VALUE=DATE:20160706
SUMMARY:ICMLA 2016 Deadline
DESCRIPTION: IEEE International Conference on Machine Learning and Applic
 ations (IEEE ICMLA'16)
URL:http://www.wikicfp.com/cfp/servlet/event.showcfp?eventid=53316&copyow
 nerid=88869
UID:cfp603467-D@wikicfp.com
END:VEVENT
BEGIN:VEVENT
DTSTAMP:20260424T030559Z
DTSTART;VALUE=DATE:20160907
SUMMARY:ICMLA 2016 Notification Due
DESCRIPTION: IEEE International Conference on Machine Learning and Applic
 ations (IEEE ICMLA'16)
URL:http://www.wikicfp.com/cfp/servlet/event.showcfp?eventid=53316&copyow
 nerid=88869
UID:cfp603467-N@wikicfp.com
END:VEVENT
BEGIN:VEVENT
DTSTAMP:20260424T030559Z
DTSTART;VALUE=DATE:20161001
SUMMARY:ICMLA 2016 Final Version Due
DESCRIPTION: IEEE International Conference on Machine Learning and Applic
 ations (IEEE ICMLA'16)
URL:http://www.wikicfp.com/cfp/servlet/event.showcfp?eventid=53316&copyow
 nerid=88869
UID:cfp603467-N@wikicfp.com
END:VEVENT
BEGIN:VEVENT
DTSTAMP:20260424T030559Z
DTSTART;VALUE=DATE:20161118
DTEND;VALUE=DATE:20161121
SUMMARY:ICMV 2016
DESCRIPTION:EI Compendex & SCOPUS - 2016 The 9th International Conference
  on Machine Vision (SPIE-ICMV 2016)
URL:http://www.wikicfp.com/cfp/servlet/event.showcfp?eventid=51738&copyow
 nerid=88869
UID:cfp603466-E@wikicfp.com
END:VEVENT
BEGIN:VEVENT
DTSTAMP:20260424T030559Z
DTSTART;VALUE=DATE:20160910
SUMMARY:ICMV 2016 Deadline
DESCRIPTION:EI Compendex & SCOPUS - 2016 The 9th International Conference
  on Machine Vision (SPIE-ICMV 2016)
URL:http://www.wikicfp.com/cfp/servlet/event.showcfp?eventid=51738&copyow
 nerid=88869
UID:cfp603466-D@wikicfp.com
END:VEVENT
END:VCALENDAR
