BEGIN:VCALENDAR
PRODID:-//WikiCFP//incite2016 1.0//EN
VERSION:2.0
CALSCALE:GREGORIAN
BEGIN:VEVENT
DTSTAMP:20260424T021735Z
DTSTART;VALUE=DATE:20161006
DTEND;VALUE=DATE:20161008
SUMMARY:Incite 2016
DESCRIPTION:2016 International Conference on Information Technology (InCI
 Te) - The Next Generation IT Summit on the Theme - Internet of Things: C
 onnect your Worlds
URL:http://www.wikicfp.com/cfp/servlet/event.showcfp?eventid=54182&copyow
 nerid=87942
UID:cfp597352-E@wikicfp.com
END:VEVENT
BEGIN:VEVENT
DTSTAMP:20260424T021735Z
DTSTART;VALUE=DATE:20160715
SUMMARY:Incite 2016 Deadline
DESCRIPTION:2016 International Conference on Information Technology (InCI
 Te) - The Next Generation IT Summit on the Theme - Internet of Things: C
 onnect your Worlds
URL:http://www.wikicfp.com/cfp/servlet/event.showcfp?eventid=54182&copyow
 nerid=87942
UID:cfp597352-D@wikicfp.com
END:VEVENT
BEGIN:VEVENT
DTSTAMP:20260424T021735Z
DTSTART;VALUE=DATE:20160815
SUMMARY:Incite 2016 Notification Due
DESCRIPTION:2016 International Conference on Information Technology (InCI
 Te) - The Next Generation IT Summit on the Theme - Internet of Things: C
 onnect your Worlds
URL:http://www.wikicfp.com/cfp/servlet/event.showcfp?eventid=54182&copyow
 nerid=87942
UID:cfp597352-N@wikicfp.com
END:VEVENT
BEGIN:VEVENT
DTSTAMP:20260424T021735Z
DTSTART;VALUE=DATE:20160915
SUMMARY:Incite 2016 Final Version Due
DESCRIPTION:2016 International Conference on Information Technology (InCI
 Te) - The Next Generation IT Summit on the Theme - Internet of Things: C
 onnect your Worlds
URL:http://www.wikicfp.com/cfp/servlet/event.showcfp?eventid=54182&copyow
 nerid=87942
UID:cfp597352-N@wikicfp.com
END:VEVENT
END:VCALENDAR
