BEGIN:VCALENDAR
PRODID:-//WikiCFP//Izabela85 1.0//EN
VERSION:2.0
CALSCALE:GREGORIAN
BEGIN:VEVENT
DTSTAMP:20260421T123809Z
DTSTART;VALUE=DATE:20170116
DTEND;VALUE=DATE:20170118
SUMMARY:LLS 2017
DESCRIPTION:Fourth  International Conference on  Languages\, Literature a
 nd Society 2017
URL:http://www.wikicfp.com/cfp/servlet/event.showcfp?eventid=53351&copyow
 nerid=87695
UID:cfp598680-E@wikicfp.com
END:VEVENT
BEGIN:VEVENT
DTSTAMP:20260421T123809Z
DTSTART;VALUE=DATE:20161103
DTEND;VALUE=DATE:20161107
SUMMARY:SQU 2016
DESCRIPTION:Third International Conference on Language\, Linguistics\, Li
 terature and Translation: âConnecting the Dots in a Glocalized Worldâ
  (Oman)
URL:http://www.wikicfp.com/cfp/servlet/event.showcfp?eventid=49083&copyow
 nerid=87695
UID:cfp595953-E@wikicfp.com
END:VEVENT
BEGIN:VEVENT
DTSTAMP:20260421T123809Z
DTSTART;VALUE=DATE:20160411
SUMMARY:SQU 2016 Deadline
DESCRIPTION:Third International Conference on Language\, Linguistics\, Li
 terature and Translation: âConnecting the Dots in a Glocalized Worldâ
  (Oman)
URL:http://www.wikicfp.com/cfp/servlet/event.showcfp?eventid=49083&copyow
 nerid=87695
UID:cfp595953-D@wikicfp.com
END:VEVENT
BEGIN:VEVENT
DTSTAMP:20260421T123809Z
DTSTART;VALUE=DATE:20161020
DTEND;VALUE=DATE:20161022
SUMMARY:LingBaW 2016
DESCRIPTION:Linguistics Beyond And Within 2016 - International Linguistic
 s Conference in Lublin
URL:http://www.wikicfp.com/cfp/servlet/event.showcfp?eventid=52740&copyow
 nerid=87695
UID:cfp595952-E@wikicfp.com
END:VEVENT
BEGIN:VEVENT
DTSTAMP:20260421T123809Z
DTSTART;VALUE=DATE:20160630
SUMMARY:LingBaW 2016 Deadline
DESCRIPTION:Linguistics Beyond And Within 2016 - International Linguistic
 s Conference in Lublin
URL:http://www.wikicfp.com/cfp/servlet/event.showcfp?eventid=52740&copyow
 nerid=87695
UID:cfp595952-D@wikicfp.com
END:VEVENT
BEGIN:VEVENT
DTSTAMP:20260421T123809Z
DTSTART;VALUE=DATE:20160815
SUMMARY:LingBaW 2016 Notification Due
DESCRIPTION:Linguistics Beyond And Within 2016 - International Linguistic
 s Conference in Lublin
URL:http://www.wikicfp.com/cfp/servlet/event.showcfp?eventid=52740&copyow
 nerid=87695
UID:cfp595952-N@wikicfp.com
END:VEVENT
BEGIN:VEVENT
DTSTAMP:20260421T123809Z
DTSTART;VALUE=DATE:20161124
DTEND;VALUE=DATE:20161127
SUMMARY:ICLLL 2016
DESCRIPTION:2016 6th International Conference on Languages\, Literature a
 nd Linguistics (ICLLL 2016)
URL:http://www.wikicfp.com/cfp/servlet/event.showcfp?eventid=53788&copyow
 nerid=87695
UID:cfp595951-E@wikicfp.com
END:VEVENT
BEGIN:VEVENT
DTSTAMP:20260421T123809Z
DTSTART;VALUE=DATE:20160920
SUMMARY:ICLLL 2016 Deadline
DESCRIPTION:2016 6th International Conference on Languages\, Literature a
 nd Linguistics (ICLLL 2016)
URL:http://www.wikicfp.com/cfp/servlet/event.showcfp?eventid=53788&copyow
 nerid=87695
UID:cfp595951-D@wikicfp.com
END:VEVENT
END:VCALENDAR
