BEGIN:VCALENDAR
PRODID:-//WikiCFP//eursecu 1.0//EN
VERSION:2.0
CALSCALE:GREGORIAN
BEGIN:VEVENT
DTSTAMP:20260423T233513Z
DTSTART;VALUE=DATE:20100518
DTEND;VALUE=DATE:20100522
SUMMARY:SAR-SSI 2010
DESCRIPTION:5th Conference on Network Architectures and Information Syste
 ms Security
URL:http://www.wikicfp.com/cfp/servlet/event.showcfp?eventid=8027&copyown
 erid=8765
UID:cfp64335-E@wikicfp.com
END:VEVENT
BEGIN:VEVENT
DTSTAMP:20260423T233513Z
DTSTART;VALUE=DATE:20100129
SUMMARY:SAR-SSI 2010 Deadline
DESCRIPTION:5th Conference on Network Architectures and Information Syste
 ms Security
URL:http://www.wikicfp.com/cfp/servlet/event.showcfp?eventid=8027&copyown
 erid=8765
UID:cfp64335-D@wikicfp.com
END:VEVENT
BEGIN:VEVENT
DTSTAMP:20260423T233513Z
DTSTART;VALUE=DATE:20100301
SUMMARY:SAR-SSI 2010 Notification Due
DESCRIPTION:5th Conference on Network Architectures and Information Syste
 ms Security
URL:http://www.wikicfp.com/cfp/servlet/event.showcfp?eventid=8027&copyown
 erid=8765
UID:cfp64335-N@wikicfp.com
END:VEVENT
END:VCALENDAR
