BEGIN:VCALENDAR
PRODID:-//WikiCFP//swjaffry 1.0//EN
VERSION:2.0
CALSCALE:GREGORIAN
BEGIN:VEVENT
DTSTAMP:20260425T031135Z
DTSTART;VALUE=DATE:20110502
DTEND;VALUE=DATE:20110507
SUMMARY:AAMAS 2011
DESCRIPTION:10th International Conference on Autonomous Agents & Multiage
 nt Systems 
URL:http://www.wikicfp.com/cfp/servlet/event.showcfp?eventid=11165&copyow
 nerid=8725
UID:cfp118315-E@wikicfp.com
END:VEVENT
BEGIN:VEVENT
DTSTAMP:20260425T031135Z
DTSTART;VALUE=DATE:20101007
SUMMARY:AAMAS 2011 Abstract Due
DESCRIPTION:10th International Conference on Autonomous Agents & Multiage
 nt Systems 
URL:http://www.wikicfp.com/cfp/servlet/event.showcfp?eventid=11165&copyow
 nerid=8725
UID:cfp118315-A@wikicfp.com
END:VEVENT
BEGIN:VEVENT
DTSTAMP:20260425T031135Z
DTSTART;VALUE=DATE:20101013
SUMMARY:AAMAS 2011 Deadline
DESCRIPTION:10th International Conference on Autonomous Agents & Multiage
 nt Systems 
URL:http://www.wikicfp.com/cfp/servlet/event.showcfp?eventid=11165&copyow
 nerid=8725
UID:cfp118315-D@wikicfp.com
END:VEVENT
BEGIN:VEVENT
DTSTAMP:20260425T031135Z
DTSTART;VALUE=DATE:20101220
SUMMARY:AAMAS 2011 Notification Due
DESCRIPTION:10th International Conference on Autonomous Agents & Multiage
 nt Systems 
URL:http://www.wikicfp.com/cfp/servlet/event.showcfp?eventid=11165&copyow
 nerid=8725
UID:cfp118315-N@wikicfp.com
END:VEVENT
BEGIN:VEVENT
DTSTAMP:20260425T031135Z
DTSTART;VALUE=DATE:20110628
DTEND;VALUE=DATE:20110702
SUMMARY:IEA/AIE  2011
DESCRIPTION:The Twenty-fourth International Conference on Industrial\, En
 gineering and Other Applications of Applied Intelligent Systems
URL:http://www.wikicfp.com/cfp/servlet/event.showcfp?eventid=12107&copyow
 nerid=8725
UID:cfp118351-E@wikicfp.com
END:VEVENT
BEGIN:VEVENT
DTSTAMP:20260425T031135Z
DTSTART;VALUE=DATE:20101112
SUMMARY:IEA/AIE  2011 Deadline
DESCRIPTION:The Twenty-fourth International Conference on Industrial\, En
 gineering and Other Applications of Applied Intelligent Systems
URL:http://www.wikicfp.com/cfp/servlet/event.showcfp?eventid=12107&copyow
 nerid=8725
UID:cfp118351-D@wikicfp.com
END:VEVENT
BEGIN:VEVENT
DTSTAMP:20260425T031135Z
DTSTART;VALUE=DATE:20110201
SUMMARY:IEA/AIE  2011 Notification Due
DESCRIPTION:The Twenty-fourth International Conference on Industrial\, En
 gineering and Other Applications of Applied Intelligent Systems
URL:http://www.wikicfp.com/cfp/servlet/event.showcfp?eventid=12107&copyow
 nerid=8725
UID:cfp118351-N@wikicfp.com
END:VEVENT
BEGIN:VEVENT
DTSTAMP:20260425T031135Z
DTSTART;VALUE=DATE:20110228
SUMMARY:IEA/AIE  2011 Final Version Due
DESCRIPTION:The Twenty-fourth International Conference on Industrial\, En
 gineering and Other Applications of Applied Intelligent Systems
URL:http://www.wikicfp.com/cfp/servlet/event.showcfp?eventid=12107&copyow
 nerid=8725
UID:cfp118351-N@wikicfp.com
END:VEVENT
BEGIN:VEVENT
DTSTAMP:20260425T031135Z
DTSTART;VALUE=DATE:20110716
DTEND;VALUE=DATE:20110723
SUMMARY:IJCAI 2011
DESCRIPTION:Twenty-second International Joint Conference on Artificial In
 telligence
URL:http://www.wikicfp.com/cfp/servlet/event.showcfp?eventid=7115&copyown
 erid=8725
UID:cfp118307-E@wikicfp.com
END:VEVENT
BEGIN:VEVENT
DTSTAMP:20260425T031135Z
DTSTART;VALUE=DATE:20110119
SUMMARY:IJCAI 2011 Abstract Due
DESCRIPTION:Twenty-second International Joint Conference on Artificial In
 telligence
URL:http://www.wikicfp.com/cfp/servlet/event.showcfp?eventid=7115&copyown
 erid=8725
UID:cfp118307-A@wikicfp.com
END:VEVENT
BEGIN:VEVENT
DTSTAMP:20260425T031135Z
DTSTART;VALUE=DATE:20110124
SUMMARY:IJCAI 2011 Deadline
DESCRIPTION:Twenty-second International Joint Conference on Artificial In
 telligence
URL:http://www.wikicfp.com/cfp/servlet/event.showcfp?eventid=7115&copyown
 erid=8725
UID:cfp118307-D@wikicfp.com
END:VEVENT
BEGIN:VEVENT
DTSTAMP:20260425T031135Z
DTSTART;VALUE=DATE:20110331
SUMMARY:IJCAI 2011 Notification Due
DESCRIPTION:Twenty-second International Joint Conference on Artificial In
 telligence
URL:http://www.wikicfp.com/cfp/servlet/event.showcfp?eventid=7115&copyown
 erid=8725
UID:cfp118307-N@wikicfp.com
END:VEVENT
BEGIN:VEVENT
DTSTAMP:20260425T031135Z
DTSTART;VALUE=DATE:20110415
SUMMARY:IJCAI 2011 Final Version Due
DESCRIPTION:Twenty-second International Joint Conference on Artificial In
 telligence
URL:http://www.wikicfp.com/cfp/servlet/event.showcfp?eventid=7115&copyown
 erid=8725
UID:cfp118307-N@wikicfp.com
END:VEVENT
BEGIN:VEVENT
DTSTAMP:20260425T031135Z
DTSTART;VALUE=DATE:20110807
DTEND;VALUE=DATE:20110812
SUMMARY:AAAI 2011
DESCRIPTION:Twenty-Fifth Conference on Artificial Intelligence
URL:http://www.wikicfp.com/cfp/servlet/event.showcfp?eventid=11755&copyow
 nerid=8725
UID:cfp118308-E@wikicfp.com
END:VEVENT
BEGIN:VEVENT
DTSTAMP:20260425T031135Z
DTSTART;VALUE=DATE:20110203
SUMMARY:AAAI 2011 Abstract Due
DESCRIPTION:Twenty-Fifth Conference on Artificial Intelligence
URL:http://www.wikicfp.com/cfp/servlet/event.showcfp?eventid=11755&copyow
 nerid=8725
UID:cfp118308-A@wikicfp.com
END:VEVENT
BEGIN:VEVENT
DTSTAMP:20260425T031135Z
DTSTART;VALUE=DATE:20110208
SUMMARY:AAAI 2011 Deadline
DESCRIPTION:Twenty-Fifth Conference on Artificial Intelligence
URL:http://www.wikicfp.com/cfp/servlet/event.showcfp?eventid=11755&copyow
 nerid=8725
UID:cfp118308-D@wikicfp.com
END:VEVENT
BEGIN:VEVENT
DTSTAMP:20260425T031135Z
DTSTART;VALUE=DATE:20110415
SUMMARY:AAAI 2011 Notification Due
DESCRIPTION:Twenty-Fifth Conference on Artificial Intelligence
URL:http://www.wikicfp.com/cfp/servlet/event.showcfp?eventid=11755&copyow
 nerid=8725
UID:cfp118308-N@wikicfp.com
END:VEVENT
BEGIN:VEVENT
DTSTAMP:20260425T031135Z
DTSTART;VALUE=DATE:20110503
SUMMARY:AAAI 2011 Final Version Due
DESCRIPTION:Twenty-Fifth Conference on Artificial Intelligence
URL:http://www.wikicfp.com/cfp/servlet/event.showcfp?eventid=11755&copyow
 nerid=8725
UID:cfp118308-N@wikicfp.com
END:VEVENT
BEGIN:VEVENT
DTSTAMP:20260425T031135Z
DTSTART;VALUE=DATE:20110803
DTEND;VALUE=DATE:20110808
SUMMARY:AGI 2011
DESCRIPTION:The Fourth Conference on Artificial General Intelligence
URL:http://www.wikicfp.com/cfp/servlet/event.showcfp?eventid=11823&copyow
 nerid=8725
UID:cfp118314-E@wikicfp.com
END:VEVENT
BEGIN:VEVENT
DTSTAMP:20260425T031135Z
DTSTART;VALUE=DATE:20110301
SUMMARY:AGI 2011 Deadline
DESCRIPTION:The Fourth Conference on Artificial General Intelligence
URL:http://www.wikicfp.com/cfp/servlet/event.showcfp?eventid=11823&copyow
 nerid=8725
UID:cfp118314-D@wikicfp.com
END:VEVENT
END:VCALENDAR
