BEGIN:VCALENDAR
PRODID:-//WikiCFP//nomis 1.0//EN
VERSION:2.0
CALSCALE:GREGORIAN
BEGIN:VEVENT
DTSTAMP:20260422T110743Z
DTSTART;VALUE=DATE:20160522
DTEND;VALUE=DATE:20160527
SUMMARY:SMART 2016 and URBAN COMPUTING 2016 2016
DESCRIPTION:The Fifth International Conference on Smart Cities\, Systems\
 , Devices and Technologies  and  The International Symposium on Emerging
  Frontiers of Urban Computing and Smart Cities 
URL:http://www.wikicfp.com/cfp/servlet/event.showcfp?eventid=50270&copyow
 nerid=86968
UID:cfp591101-E@wikicfp.com
END:VEVENT
BEGIN:VEVENT
DTSTAMP:20260422T110743Z
DTSTART;VALUE=DATE:20160119
SUMMARY:SMART 2016 and URBAN COMPUTING 2016 2016 Deadline
DESCRIPTION:The Fifth International Conference on Smart Cities\, Systems\
 , Devices and Technologies  and  The International Symposium on Emerging
  Frontiers of Urban Computing and Smart Cities 
URL:http://www.wikicfp.com/cfp/servlet/event.showcfp?eventid=50270&copyow
 nerid=86968
UID:cfp591101-D@wikicfp.com
END:VEVENT
BEGIN:VEVENT
DTSTAMP:20260422T110743Z
DTSTART;VALUE=DATE:20160922
DTEND;VALUE=DATE:20160925
SUMMARY:ICIOT 2016
DESCRIPTION:International Conference on Internet of Things 
URL:http://www.wikicfp.com/cfp/servlet/event.showcfp?eventid=49661&copyow
 nerid=86968
UID:cfp591099-E@wikicfp.com
END:VEVENT
BEGIN:VEVENT
DTSTAMP:20260422T110743Z
DTSTART;VALUE=DATE:20160515
SUMMARY:ICIOT 2016 Deadline
DESCRIPTION:International Conference on Internet of Things 
URL:http://www.wikicfp.com/cfp/servlet/event.showcfp?eventid=49661&copyow
 nerid=86968
UID:cfp591099-D@wikicfp.com
END:VEVENT
BEGIN:VEVENT
DTSTAMP:20260422T110743Z
DTSTART;VALUE=DATE:20160615
SUMMARY:ICIOT 2016 Notification Due
DESCRIPTION:International Conference on Internet of Things 
URL:http://www.wikicfp.com/cfp/servlet/event.showcfp?eventid=49661&copyow
 nerid=86968
UID:cfp591099-N@wikicfp.com
END:VEVENT
BEGIN:VEVENT
DTSTAMP:20260422T110743Z
DTSTART;VALUE=DATE:20160922
DTEND;VALUE=DATE:20160903
SUMMARY: IoT-SP 2016
DESCRIPTION:IEEE International Conference on Internet of Things and Perva
 sive Systems 
URL:http://www.wikicfp.com/cfp/servlet/event.showcfp?eventid=53149&copyow
 nerid=86968
UID:cfp591100-E@wikicfp.com
END:VEVENT
BEGIN:VEVENT
DTSTAMP:20260422T110743Z
DTSTART;VALUE=DATE:20160430
SUMMARY: IoT-SP 2016 Abstract Due
DESCRIPTION:IEEE International Conference on Internet of Things and Perva
 sive Systems 
URL:http://www.wikicfp.com/cfp/servlet/event.showcfp?eventid=53149&copyow
 nerid=86968
UID:cfp591100-A@wikicfp.com
END:VEVENT
BEGIN:VEVENT
DTSTAMP:20260422T110743Z
DTSTART;VALUE=DATE:20160515
SUMMARY: IoT-SP 2016 Deadline
DESCRIPTION:IEEE International Conference on Internet of Things and Perva
 sive Systems 
URL:http://www.wikicfp.com/cfp/servlet/event.showcfp?eventid=53149&copyow
 nerid=86968
UID:cfp591100-D@wikicfp.com
END:VEVENT
BEGIN:VEVENT
DTSTAMP:20260422T110743Z
DTSTART;VALUE=DATE:20160615
SUMMARY: IoT-SP 2016 Notification Due
DESCRIPTION:IEEE International Conference on Internet of Things and Perva
 sive Systems 
URL:http://www.wikicfp.com/cfp/servlet/event.showcfp?eventid=53149&copyow
 nerid=86968
UID:cfp591100-N@wikicfp.com
END:VEVENT
BEGIN:VEVENT
DTSTAMP:20260422T110743Z
DTSTART;VALUE=DATE:20160715
SUMMARY: IoT-SP 2016 Final Version Due
DESCRIPTION:IEEE International Conference on Internet of Things and Perva
 sive Systems 
URL:http://www.wikicfp.com/cfp/servlet/event.showcfp?eventid=53149&copyow
 nerid=86968
UID:cfp591100-N@wikicfp.com
END:VEVENT
BEGIN:VEVENT
DTSTAMP:20260422T110743Z
DTSTART;VALUE=DATE:20161218
DTEND;VALUE=DATE:20161221
SUMMARY:ICMLA 2016
DESCRIPTION: IEEE International Conference on Machine Learning and Applic
 ations (IEEE ICMLA'16)
URL:http://www.wikicfp.com/cfp/servlet/event.showcfp?eventid=53316&copyow
 nerid=86968
UID:cfp591098-E@wikicfp.com
END:VEVENT
BEGIN:VEVENT
DTSTAMP:20260422T110743Z
DTSTART;VALUE=DATE:20160706
SUMMARY:ICMLA 2016 Deadline
DESCRIPTION: IEEE International Conference on Machine Learning and Applic
 ations (IEEE ICMLA'16)
URL:http://www.wikicfp.com/cfp/servlet/event.showcfp?eventid=53316&copyow
 nerid=86968
UID:cfp591098-D@wikicfp.com
END:VEVENT
BEGIN:VEVENT
DTSTAMP:20260422T110743Z
DTSTART;VALUE=DATE:20160907
SUMMARY:ICMLA 2016 Notification Due
DESCRIPTION: IEEE International Conference on Machine Learning and Applic
 ations (IEEE ICMLA'16)
URL:http://www.wikicfp.com/cfp/servlet/event.showcfp?eventid=53316&copyow
 nerid=86968
UID:cfp591098-N@wikicfp.com
END:VEVENT
BEGIN:VEVENT
DTSTAMP:20260422T110743Z
DTSTART;VALUE=DATE:20161001
SUMMARY:ICMLA 2016 Final Version Due
DESCRIPTION: IEEE International Conference on Machine Learning and Applic
 ations (IEEE ICMLA'16)
URL:http://www.wikicfp.com/cfp/servlet/event.showcfp?eventid=53316&copyow
 nerid=86968
UID:cfp591098-N@wikicfp.com
END:VEVENT
END:VCALENDAR
