BEGIN:VCALENDAR
PRODID:-//WikiCFP//sigithariyadi 1.0//EN
VERSION:2.0
CALSCALE:GREGORIAN
BEGIN:VEVENT
DTSTAMP:20260422T202300Z
DTSTART;VALUE=DATE:20161018
DTEND;VALUE=DATE:20161020
SUMMARY:SICCEP 2016
DESCRIPTION:Semarang State University International Conference on Counsel
 ing and Educational Psychology
URL:http://www.wikicfp.com/cfp/servlet/event.showcfp?eventid=53337&copyow
 nerid=86958
UID:cfp591078-E@wikicfp.com
END:VEVENT
BEGIN:VEVENT
DTSTAMP:20260422T202300Z
DTSTART;VALUE=DATE:20160630
SUMMARY:SICCEP 2016 Deadline
DESCRIPTION:Semarang State University International Conference on Counsel
 ing and Educational Psychology
URL:http://www.wikicfp.com/cfp/servlet/event.showcfp?eventid=53337&copyow
 nerid=86958
UID:cfp591078-D@wikicfp.com
END:VEVENT
BEGIN:VEVENT
DTSTAMP:20260422T202300Z
DTSTART;VALUE=DATE:20160724
SUMMARY:SICCEP 2016 Notification Due
DESCRIPTION:Semarang State University International Conference on Counsel
 ing and Educational Psychology
URL:http://www.wikicfp.com/cfp/servlet/event.showcfp?eventid=53337&copyow
 nerid=86958
UID:cfp591078-N@wikicfp.com
END:VEVENT
BEGIN:VEVENT
DTSTAMP:20260422T202300Z
DTSTART;VALUE=DATE:20160831
SUMMARY:SICCEP 2016 Final Version Due
DESCRIPTION:Semarang State University International Conference on Counsel
 ing and Educational Psychology
URL:http://www.wikicfp.com/cfp/servlet/event.showcfp?eventid=53337&copyow
 nerid=86958
UID:cfp591078-N@wikicfp.com
END:VEVENT
END:VCALENDAR
