BEGIN:VCALENDAR
PRODID:-//WikiCFP//airobert 1.0//EN
VERSION:2.0
CALSCALE:GREGORIAN
BEGIN:VEVENT
DTSTAMP:20260422T205131Z
DTSTART;VALUE=DATE:20161005
DTEND;VALUE=DATE:20161009
SUMMARY:KSEM 2016
DESCRIPTION:9th International Conference on Knowledge Science\, Engineeri
 ng and Management
URL:http://www.wikicfp.com/cfp/servlet/event.showcfp?eventid=51456&copyow
 nerid=86945
UID:cfp596217-E@wikicfp.com
END:VEVENT
BEGIN:VEVENT
DTSTAMP:20260422T205131Z
DTSTART;VALUE=DATE:20160627
SUMMARY:KSEM 2016 Deadline
DESCRIPTION:9th International Conference on Knowledge Science\, Engineeri
 ng and Management
URL:http://www.wikicfp.com/cfp/servlet/event.showcfp?eventid=51456&copyow
 nerid=86945
UID:cfp596217-D@wikicfp.com
END:VEVENT
BEGIN:VEVENT
DTSTAMP:20260422T205131Z
DTSTART;VALUE=DATE:20160801
SUMMARY:KSEM 2016 Notification Due
DESCRIPTION:9th International Conference on Knowledge Science\, Engineeri
 ng and Management
URL:http://www.wikicfp.com/cfp/servlet/event.showcfp?eventid=51456&copyow
 nerid=86945
UID:cfp596217-N@wikicfp.com
END:VEVENT
BEGIN:VEVENT
DTSTAMP:20260422T205131Z
DTSTART;VALUE=DATE:20160901
SUMMARY:KSEM 2016 Final Version Due
DESCRIPTION:9th International Conference on Knowledge Science\, Engineeri
 ng and Management
URL:http://www.wikicfp.com/cfp/servlet/event.showcfp?eventid=51456&copyow
 nerid=86945
UID:cfp596217-N@wikicfp.com
END:VEVENT
END:VCALENDAR
