BEGIN:VCALENDAR
PRODID:-//WikiCFP//samia_ait_add_adda 1.0//EN
VERSION:2.0
CALSCALE:GREGORIAN
BEGIN:VEVENT
DTSTAMP:20260420T230411Z
DTSTART;VALUE=DATE:20140203
DTEND;VALUE=DATE:20140206
SUMMARY:INTCESS 2014
DESCRIPTION:FINAL CALL FOR PAPERS: INTERNATIONAL CONFERENCE ON EDUCATION 
 AND SOCIAL SCIENCES 
URL:http://www.wikicfp.com/cfp/servlet/event.showcfp?eventid=32113&copyow
 nerid=86896
UID:cfp590713-E@wikicfp.com
END:VEVENT
BEGIN:VEVENT
DTSTAMP:20260420T230411Z
DTSTART;VALUE=DATE:20131111
SUMMARY:INTCESS 2014 Deadline
DESCRIPTION:FINAL CALL FOR PAPERS: INTERNATIONAL CONFERENCE ON EDUCATION 
 AND SOCIAL SCIENCES 
URL:http://www.wikicfp.com/cfp/servlet/event.showcfp?eventid=32113&copyow
 nerid=86896
UID:cfp590713-D@wikicfp.com
END:VEVENT
BEGIN:VEVENT
DTSTAMP:20260420T230411Z
DTSTART;VALUE=DATE:20131118
SUMMARY:INTCESS 2014 Notification Due
DESCRIPTION:FINAL CALL FOR PAPERS: INTERNATIONAL CONFERENCE ON EDUCATION 
 AND SOCIAL SCIENCES 
URL:http://www.wikicfp.com/cfp/servlet/event.showcfp?eventid=32113&copyow
 nerid=86896
UID:cfp590713-N@wikicfp.com
END:VEVENT
BEGIN:VEVENT
DTSTAMP:20260420T230411Z
DTSTART;VALUE=DATE:20131216
SUMMARY:INTCESS 2014 Final Version Due
DESCRIPTION:FINAL CALL FOR PAPERS: INTERNATIONAL CONFERENCE ON EDUCATION 
 AND SOCIAL SCIENCES 
URL:http://www.wikicfp.com/cfp/servlet/event.showcfp?eventid=32113&copyow
 nerid=86896
UID:cfp590713-N@wikicfp.com
END:VEVENT
BEGIN:VEVENT
DTSTAMP:20260420T230411Z
DTSTART;VALUE=DATE:20140113
DTEND;VALUE=DATE:20140115
SUMMARY:IC4E 2014
DESCRIPTION:2014 5th International Conference on E-Education\, E-Business
 \, E-Management and E-Learning
URL:http://www.wikicfp.com/cfp/servlet/event.showcfp?eventid=31699&copyow
 nerid=86896
UID:cfp590711-E@wikicfp.com
END:VEVENT
BEGIN:VEVENT
DTSTAMP:20260420T230411Z
DTSTART;VALUE=DATE:20131115
SUMMARY:IC4E 2014 Deadline
DESCRIPTION:2014 5th International Conference on E-Education\, E-Business
 \, E-Management and E-Learning
URL:http://www.wikicfp.com/cfp/servlet/event.showcfp?eventid=31699&copyow
 nerid=86896
UID:cfp590711-D@wikicfp.com
END:VEVENT
BEGIN:VEVENT
DTSTAMP:20260420T230411Z
DTSTART;VALUE=DATE:20131205
SUMMARY:IC4E 2014 Notification Due
DESCRIPTION:2014 5th International Conference on E-Education\, E-Business
 \, E-Management and E-Learning
URL:http://www.wikicfp.com/cfp/servlet/event.showcfp?eventid=31699&copyow
 nerid=86896
UID:cfp590711-N@wikicfp.com
END:VEVENT
BEGIN:VEVENT
DTSTAMP:20260420T230411Z
DTSTART;VALUE=DATE:20131220
SUMMARY:IC4E 2014 Final Version Due
DESCRIPTION:2014 5th International Conference on E-Education\, E-Business
 \, E-Management and E-Learning
URL:http://www.wikicfp.com/cfp/servlet/event.showcfp?eventid=31699&copyow
 nerid=86896
UID:cfp590711-N@wikicfp.com
END:VEVENT
BEGIN:VEVENT
DTSTAMP:20260420T230411Z
DTSTART;VALUE=DATE:20140310
DTEND;VALUE=DATE:20140313
SUMMARY:INTED 2014
DESCRIPTION:8th International Technology\, Education and Development Conf
 erence
URL:http://www.wikicfp.com/cfp/servlet/event.showcfp?eventid=32391&copyow
 nerid=86896
UID:cfp590714-E@wikicfp.com
END:VEVENT
BEGIN:VEVENT
DTSTAMP:20260420T230411Z
DTSTART;VALUE=DATE:20131205
SUMMARY:INTED 2014 Deadline
DESCRIPTION:8th International Technology\, Education and Development Conf
 erence
URL:http://www.wikicfp.com/cfp/servlet/event.showcfp?eventid=32391&copyow
 nerid=86896
UID:cfp590714-D@wikicfp.com
END:VEVENT
BEGIN:VEVENT
DTSTAMP:20260420T230411Z
DTSTART;VALUE=DATE:20131227
SUMMARY:INTED 2014 Notification Due
DESCRIPTION:8th International Technology\, Education and Development Conf
 erence
URL:http://www.wikicfp.com/cfp/servlet/event.showcfp?eventid=32391&copyow
 nerid=86896
UID:cfp590714-N@wikicfp.com
END:VEVENT
BEGIN:VEVENT
DTSTAMP:20260420T230411Z
DTSTART;VALUE=DATE:20140123
SUMMARY:INTED 2014 Final Version Due
DESCRIPTION:8th International Technology\, Education and Development Conf
 erence
URL:http://www.wikicfp.com/cfp/servlet/event.showcfp?eventid=32391&copyow
 nerid=86896
UID:cfp590714-N@wikicfp.com
END:VEVENT
BEGIN:VEVENT
DTSTAMP:20260420T230411Z
DTSTART;VALUE=DATE:20140221
DTEND;VALUE=DATE:20140223
SUMMARY:ICEPS 2014
DESCRIPTION:2014 International Conference on Education and Psychological 
 Sciences 
URL:http://www.wikicfp.com/cfp/servlet/event.showcfp?eventid=32094&copyow
 nerid=86896
UID:cfp590712-E@wikicfp.com
END:VEVENT
BEGIN:VEVENT
DTSTAMP:20260420T230411Z
DTSTART;VALUE=DATE:20131215
SUMMARY:ICEPS 2014 Deadline
DESCRIPTION:2014 International Conference on Education and Psychological 
 Sciences 
URL:http://www.wikicfp.com/cfp/servlet/event.showcfp?eventid=32094&copyow
 nerid=86896
UID:cfp590712-D@wikicfp.com
END:VEVENT
BEGIN:VEVENT
DTSTAMP:20260420T230411Z
DTSTART;VALUE=DATE:20131230
SUMMARY:ICEPS 2014 Notification Due
DESCRIPTION:2014 International Conference on Education and Psychological 
 Sciences 
URL:http://www.wikicfp.com/cfp/servlet/event.showcfp?eventid=32094&copyow
 nerid=86896
UID:cfp590712-N@wikicfp.com
END:VEVENT
BEGIN:VEVENT
DTSTAMP:20260420T230411Z
DTSTART;VALUE=DATE:20140115
SUMMARY:ICEPS 2014 Final Version Due
DESCRIPTION:2014 International Conference on Education and Psychological 
 Sciences 
URL:http://www.wikicfp.com/cfp/servlet/event.showcfp?eventid=32094&copyow
 nerid=86896
UID:cfp590712-N@wikicfp.com
END:VEVENT
END:VCALENDAR
