BEGIN:VCALENDAR
PRODID:-//WikiCFP//ashlesha 1.0//EN
VERSION:2.0
CALSCALE:GREGORIAN
BEGIN:VEVENT
DTSTAMP:20260421T030031Z
DTSTART;VALUE=DATE:20161221
DTEND;VALUE=DATE:20161224
SUMMARY:ICACIE 2016
DESCRIPTION:International Conference on Advanced Computing and Intelligen
 t Engineering
URL:http://www.wikicfp.com/cfp/servlet/event.showcfp?eventid=51364&copyow
 nerid=86772
UID:cfp590168-E@wikicfp.com
END:VEVENT
BEGIN:VEVENT
DTSTAMP:20260421T030031Z
DTSTART;VALUE=DATE:20160315
SUMMARY:ICACIE 2016 Deadline
DESCRIPTION:International Conference on Advanced Computing and Intelligen
 t Engineering
URL:http://www.wikicfp.com/cfp/servlet/event.showcfp?eventid=51364&copyow
 nerid=86772
UID:cfp590168-D@wikicfp.com
END:VEVENT
BEGIN:VEVENT
DTSTAMP:20260421T030031Z
DTSTART;VALUE=DATE:20160725
SUMMARY:ICACIE 2016 Notification Due
DESCRIPTION:International Conference on Advanced Computing and Intelligen
 t Engineering
URL:http://www.wikicfp.com/cfp/servlet/event.showcfp?eventid=51364&copyow
 nerid=86772
UID:cfp590168-N@wikicfp.com
END:VEVENT
BEGIN:VEVENT
DTSTAMP:20260421T030031Z
DTSTART;VALUE=DATE:20160815
SUMMARY:ICACIE 2016 Final Version Due
DESCRIPTION:International Conference on Advanced Computing and Intelligen
 t Engineering
URL:http://www.wikicfp.com/cfp/servlet/event.showcfp?eventid=51364&copyow
 nerid=86772
UID:cfp590168-N@wikicfp.com
END:VEVENT
END:VCALENDAR
