BEGIN:VCALENDAR
PRODID:-//WikiCFP//code4rain 1.0//EN
VERSION:2.0
CALSCALE:GREGORIAN
BEGIN:VEVENT
DTSTAMP:20260424T070150Z
DTSTART;VALUE=DATE:20160824
DTEND;VALUE=DATE:20160827
SUMMARY:NGMAST 2016
DESCRIPTION:10th International Conference on Next Generation Mobile Appli
 cations\, Security and Technologies
URL:http://www.wikicfp.com/cfp/servlet/event.showcfp?eventid=52503&copyow
 nerid=86496
UID:cfp588637-E@wikicfp.com
END:VEVENT
BEGIN:VEVENT
DTSTAMP:20260424T070150Z
DTSTART;VALUE=DATE:20160510
SUMMARY:NGMAST 2016 Deadline
DESCRIPTION:10th International Conference on Next Generation Mobile Appli
 cations\, Security and Technologies
URL:http://www.wikicfp.com/cfp/servlet/event.showcfp?eventid=52503&copyow
 nerid=86496
UID:cfp588637-D@wikicfp.com
END:VEVENT
BEGIN:VEVENT
DTSTAMP:20260424T070150Z
DTSTART;VALUE=DATE:20160605
SUMMARY:NGMAST 2016 Notification Due
DESCRIPTION:10th International Conference on Next Generation Mobile Appli
 cations\, Security and Technologies
URL:http://www.wikicfp.com/cfp/servlet/event.showcfp?eventid=52503&copyow
 nerid=86496
UID:cfp588637-N@wikicfp.com
END:VEVENT
BEGIN:VEVENT
DTSTAMP:20260424T070150Z
DTSTART;VALUE=DATE:20160615
SUMMARY:NGMAST 2016 Final Version Due
DESCRIPTION:10th International Conference on Next Generation Mobile Appli
 cations\, Security and Technologies
URL:http://www.wikicfp.com/cfp/servlet/event.showcfp?eventid=52503&copyow
 nerid=86496
UID:cfp588637-N@wikicfp.com
END:VEVENT
BEGIN:VEVENT
DTSTAMP:20260424T070150Z
DTSTART;VALUE=DATE:20161004
DTEND;VALUE=DATE:20161006
SUMMARY:ISSE 2016
DESCRIPTION:2016 IEEE International Symposium on Systems Engineering
URL:http://www.wikicfp.com/cfp/servlet/event.showcfp?eventid=51487&copyow
 nerid=86496
UID:cfp588631-E@wikicfp.com
END:VEVENT
BEGIN:VEVENT
DTSTAMP:20260424T070150Z
DTSTART;VALUE=DATE:20160515
SUMMARY:ISSE 2016 Deadline
DESCRIPTION:2016 IEEE International Symposium on Systems Engineering
URL:http://www.wikicfp.com/cfp/servlet/event.showcfp?eventid=51487&copyow
 nerid=86496
UID:cfp588631-D@wikicfp.com
END:VEVENT
BEGIN:VEVENT
DTSTAMP:20260424T070150Z
DTSTART;VALUE=DATE:20160624
SUMMARY:ISSE 2016 Notification Due
DESCRIPTION:2016 IEEE International Symposium on Systems Engineering
URL:http://www.wikicfp.com/cfp/servlet/event.showcfp?eventid=51487&copyow
 nerid=86496
UID:cfp588631-N@wikicfp.com
END:VEVENT
BEGIN:VEVENT
DTSTAMP:20260424T070150Z
DTSTART;VALUE=DATE:20160824
SUMMARY:ISSE 2016 Final Version Due
DESCRIPTION:2016 IEEE International Symposium on Systems Engineering
URL:http://www.wikicfp.com/cfp/servlet/event.showcfp?eventid=51487&copyow
 nerid=86496
UID:cfp588631-N@wikicfp.com
END:VEVENT
BEGIN:VEVENT
DTSTAMP:20260424T070150Z
DTSTART;VALUE=DATE:20160908
DTEND;VALUE=DATE:20160913
SUMMARY:CPESE 2016
DESCRIPTION:2016 3rd Int. Conf. on Power and Energy Systems Engineering (
 CPESE 2016)
URL:http://www.wikicfp.com/cfp/servlet/event.showcfp?eventid=51113&copyow
 nerid=86496
UID:cfp588628-E@wikicfp.com
END:VEVENT
BEGIN:VEVENT
DTSTAMP:20260424T070150Z
DTSTART;VALUE=DATE:20160720
SUMMARY:CPESE 2016 Deadline
DESCRIPTION:2016 3rd Int. Conf. on Power and Energy Systems Engineering (
 CPESE 2016)
URL:http://www.wikicfp.com/cfp/servlet/event.showcfp?eventid=51113&copyow
 nerid=86496
UID:cfp588628-D@wikicfp.com
END:VEVENT
END:VCALENDAR
