BEGIN:VCALENDAR
PRODID:-//WikiCFP//joekimiwong 1.0//EN
VERSION:2.0
CALSCALE:GREGORIAN
BEGIN:VEVENT
DTSTAMP:20260425T232852Z
DTSTART;VALUE=DATE:20170522
DTEND;VALUE=DATE:20170527
SUMMARY:ICRA 2017
DESCRIPTION:International Conference on Robotics and Automation
URL:http://www.wikicfp.com/cfp/servlet/event.showcfp?eventid=52343&copyow
 nerid=86450
UID:cfp588238-E@wikicfp.com
END:VEVENT
BEGIN:VEVENT
DTSTAMP:20260425T232852Z
DTSTART;VALUE=DATE:20160915
SUMMARY:ICRA 2017 Deadline
DESCRIPTION:International Conference on Robotics and Automation
URL:http://www.wikicfp.com/cfp/servlet/event.showcfp?eventid=52343&copyow
 nerid=86450
UID:cfp588238-D@wikicfp.com
END:VEVENT
END:VCALENDAR
