BEGIN:VCALENDAR
PRODID:-//WikiCFP//beyond787 1.0//EN
VERSION:2.0
CALSCALE:GREGORIAN
BEGIN:VEVENT
DTSTAMP:20260423T055755Z
DTSTART;VALUE=DATE:20161212
DTEND;VALUE=DATE:20161215
SUMMARY:CDC 2016
DESCRIPTION:55th IEEE Conference on Decision and Control
URL:http://www.wikicfp.com/cfp/servlet/event.showcfp?eventid=50204&copyow
 nerid=86328
UID:cfp587486-E@wikicfp.com
END:VEVENT
BEGIN:VEVENT
DTSTAMP:20260423T055755Z
DTSTART;VALUE=DATE:20160315
SUMMARY:CDC 2016 Deadline
DESCRIPTION:55th IEEE Conference on Decision and Control
URL:http://www.wikicfp.com/cfp/servlet/event.showcfp?eventid=50204&copyow
 nerid=86328
UID:cfp587486-D@wikicfp.com
END:VEVENT
BEGIN:VEVENT
DTSTAMP:20260423T055755Z
DTSTART;VALUE=DATE:20160708
DTEND;VALUE=DATE:20160711
SUMMARY:ICISCE 2016
DESCRIPTION:IEEE 3rd International Conference on Information Science and 
 Control Engineering
URL:http://www.wikicfp.com/cfp/servlet/event.showcfp?eventid=51612&copyow
 nerid=86328
UID:cfp587489-E@wikicfp.com
END:VEVENT
BEGIN:VEVENT
DTSTAMP:20260423T055755Z
DTSTART;VALUE=DATE:20160318
SUMMARY:ICISCE 2016 Deadline
DESCRIPTION:IEEE 3rd International Conference on Information Science and 
 Control Engineering
URL:http://www.wikicfp.com/cfp/servlet/event.showcfp?eventid=51612&copyow
 nerid=86328
UID:cfp587489-D@wikicfp.com
END:VEVENT
BEGIN:VEVENT
DTSTAMP:20260423T055755Z
DTSTART;VALUE=DATE:20160528
SUMMARY:ICISCE 2016 Notification Due
DESCRIPTION:IEEE 3rd International Conference on Information Science and 
 Control Engineering
URL:http://www.wikicfp.com/cfp/servlet/event.showcfp?eventid=51612&copyow
 nerid=86328
UID:cfp587489-N@wikicfp.com
END:VEVENT
BEGIN:VEVENT
DTSTAMP:20260423T055755Z
DTSTART;VALUE=DATE:20160528
SUMMARY:ICISCE 2016 Final Version Due
DESCRIPTION:IEEE 3rd International Conference on Information Science and 
 Control Engineering
URL:http://www.wikicfp.com/cfp/servlet/event.showcfp?eventid=51612&copyow
 nerid=86328
UID:cfp587489-N@wikicfp.com
END:VEVENT
BEGIN:VEVENT
DTSTAMP:20260423T055755Z
DTSTART;VALUE=DATE:20160518
DTEND;VALUE=DATE:20160521
SUMMARY:IEEE-ICOAE  2016
DESCRIPTION:IEEE Xplore and Ei Compendex--2016 International Conference o
 n Aerospace Engineering (ICOAE 2016)
URL:http://www.wikicfp.com/cfp/servlet/event.showcfp?eventid=51386&copyow
 nerid=86328
UID:cfp587491-E@wikicfp.com
END:VEVENT
BEGIN:VEVENT
DTSTAMP:20260423T055755Z
DTSTART;VALUE=DATE:20160403
SUMMARY:IEEE-ICOAE  2016 Deadline
DESCRIPTION:IEEE Xplore and Ei Compendex--2016 International Conference o
 n Aerospace Engineering (ICOAE 2016)
URL:http://www.wikicfp.com/cfp/servlet/event.showcfp?eventid=51386&copyow
 nerid=86328
UID:cfp587491-D@wikicfp.com
END:VEVENT
BEGIN:VEVENT
DTSTAMP:20260423T055755Z
DTSTART;VALUE=DATE:20160919
DTEND;VALUE=DATE:20160923
SUMMARY:MSC 2016
DESCRIPTION:IEEE Multi-Conference on Systems and Control 2016
URL:http://www.wikicfp.com/cfp/servlet/event.showcfp?eventid=51318&copyow
 nerid=86328
UID:cfp587485-E@wikicfp.com
END:VEVENT
BEGIN:VEVENT
DTSTAMP:20260423T055755Z
DTSTART;VALUE=DATE:20160415
SUMMARY:MSC 2016 Deadline
DESCRIPTION:IEEE Multi-Conference on Systems and Control 2016
URL:http://www.wikicfp.com/cfp/servlet/event.showcfp?eventid=51318&copyow
 nerid=86328
UID:cfp587485-D@wikicfp.com
END:VEVENT
BEGIN:VEVENT
DTSTAMP:20260423T055755Z
DTSTART;VALUE=DATE:20160701
SUMMARY:MSC 2016 Notification Due
DESCRIPTION:IEEE Multi-Conference on Systems and Control 2016
URL:http://www.wikicfp.com/cfp/servlet/event.showcfp?eventid=51318&copyow
 nerid=86328
UID:cfp587485-N@wikicfp.com
END:VEVENT
BEGIN:VEVENT
DTSTAMP:20260423T055755Z
DTSTART;VALUE=DATE:20160715
SUMMARY:MSC 2016 Final Version Due
DESCRIPTION:IEEE Multi-Conference on Systems and Control 2016
URL:http://www.wikicfp.com/cfp/servlet/event.showcfp?eventid=51318&copyow
 nerid=86328
UID:cfp587485-N@wikicfp.com
END:VEVENT
BEGIN:VEVENT
DTSTAMP:20260423T055755Z
DTSTART;VALUE=DATE:20160727
DTEND;VALUE=DATE:20160730
SUMMARY:CCSSE 2016
DESCRIPTION:(IEEE Xplore and Ei Compendex) 2016 2nd International Confere
 nce on Control Science and Systems Engineering (CCSSE 2016)
URL:http://www.wikicfp.com/cfp/servlet/event.showcfp?eventid=49659&copyow
 nerid=86328
UID:cfp587494-E@wikicfp.com
END:VEVENT
BEGIN:VEVENT
DTSTAMP:20260423T055755Z
DTSTART;VALUE=DATE:20160520
SUMMARY:CCSSE 2016 Deadline
DESCRIPTION:(IEEE Xplore and Ei Compendex) 2016 2nd International Confere
 nce on Control Science and Systems Engineering (CCSSE 2016)
URL:http://www.wikicfp.com/cfp/servlet/event.showcfp?eventid=49659&copyow
 nerid=86328
UID:cfp587494-D@wikicfp.com
END:VEVENT
BEGIN:VEVENT
DTSTAMP:20260423T055755Z
DTSTART;VALUE=DATE:20160713
DTEND;VALUE=DATE:20160716
SUMMARY:CACRE 2016
DESCRIPTION:EI & Scopus--2016 International Conference on Automation\, Co
 ntrol and Robotics Engineering (CACRE 2016)
URL:http://www.wikicfp.com/cfp/servlet/event.showcfp?eventid=50658&copyow
 nerid=86328
UID:cfp587492-E@wikicfp.com
END:VEVENT
BEGIN:VEVENT
DTSTAMP:20260423T055755Z
DTSTART;VALUE=DATE:20160610
SUMMARY:CACRE 2016 Deadline
DESCRIPTION:EI & Scopus--2016 International Conference on Automation\, Co
 ntrol and Robotics Engineering (CACRE 2016)
URL:http://www.wikicfp.com/cfp/servlet/event.showcfp?eventid=50658&copyow
 nerid=86328
UID:cfp587492-D@wikicfp.com
END:VEVENT
END:VCALENDAR
