BEGIN:VCALENDAR
PRODID:-//WikiCFP//isocc2016 1.0//EN
VERSION:2.0
CALSCALE:GREGORIAN
BEGIN:VEVENT
DTSTAMP:20260425T002047Z
DTSTART;VALUE=DATE:20161023
DTEND;VALUE=DATE:20161027
SUMMARY:ISOCC 2016
DESCRIPTION:13th International SoC Design Conference
URL:http://www.wikicfp.com/cfp/servlet/event.showcfp?eventid=52288&copyow
 nerid=85807
UID:cfp584285-E@wikicfp.com
END:VEVENT
BEGIN:VEVENT
DTSTAMP:20260425T002047Z
DTSTART;VALUE=DATE:20160812
SUMMARY:ISOCC 2016 Deadline
DESCRIPTION:13th International SoC Design Conference
URL:http://www.wikicfp.com/cfp/servlet/event.showcfp?eventid=52288&copyow
 nerid=85807
UID:cfp584285-D@wikicfp.com
END:VEVENT
BEGIN:VEVENT
DTSTAMP:20260425T002047Z
DTSTART;VALUE=DATE:20160829
SUMMARY:ISOCC 2016 Notification Due
DESCRIPTION:13th International SoC Design Conference
URL:http://www.wikicfp.com/cfp/servlet/event.showcfp?eventid=52288&copyow
 nerid=85807
UID:cfp584285-N@wikicfp.com
END:VEVENT
BEGIN:VEVENT
DTSTAMP:20260425T002047Z
DTSTART;VALUE=DATE:20160912
SUMMARY:ISOCC 2016 Final Version Due
DESCRIPTION:13th International SoC Design Conference
URL:http://www.wikicfp.com/cfp/servlet/event.showcfp?eventid=52288&copyow
 nerid=85807
UID:cfp584285-N@wikicfp.com
END:VEVENT
BEGIN:VEVENT
DTSTAMP:20260425T002047Z
DTSTART;VALUE=DATE:20181112
DTEND;VALUE=DATE:20181116
SUMMARY:ISOCC 2018
DESCRIPTION:15th International SoC Design Conference
URL:http://www.wikicfp.com/cfp/servlet/event.showcfp?eventid=77637&copyow
 nerid=85807
UID:cfp730368-E@wikicfp.com
END:VEVENT
BEGIN:VEVENT
DTSTAMP:20260425T002047Z
DTSTART;VALUE=DATE:20180810
SUMMARY:ISOCC 2018 Deadline
DESCRIPTION:15th International SoC Design Conference
URL:http://www.wikicfp.com/cfp/servlet/event.showcfp?eventid=77637&copyow
 nerid=85807
UID:cfp730368-D@wikicfp.com
END:VEVENT
BEGIN:VEVENT
DTSTAMP:20260425T002047Z
DTSTART;VALUE=DATE:20180910
SUMMARY:ISOCC 2018 Notification Due
DESCRIPTION:15th International SoC Design Conference
URL:http://www.wikicfp.com/cfp/servlet/event.showcfp?eventid=77637&copyow
 nerid=85807
UID:cfp730368-N@wikicfp.com
END:VEVENT
BEGIN:VEVENT
DTSTAMP:20260425T002047Z
DTSTART;VALUE=DATE:20180921
SUMMARY:ISOCC 2018 Final Version Due
DESCRIPTION:15th International SoC Design Conference
URL:http://www.wikicfp.com/cfp/servlet/event.showcfp?eventid=77637&copyow
 nerid=85807
UID:cfp730368-N@wikicfp.com
END:VEVENT
BEGIN:VEVENT
DTSTAMP:20260425T002047Z
DTSTART;VALUE=DATE:20191006
DTEND;VALUE=DATE:20191010
SUMMARY:ISOCC 2019
DESCRIPTION:16th International SoC Design Conference
URL:http://www.wikicfp.com/cfp/servlet/event.showcfp?eventid=88195&copyow
 nerid=85807
UID:cfp780585-E@wikicfp.com
END:VEVENT
BEGIN:VEVENT
DTSTAMP:20260425T002047Z
DTSTART;VALUE=DATE:20190616
SUMMARY:ISOCC 2019 Deadline
DESCRIPTION:16th International SoC Design Conference
URL:http://www.wikicfp.com/cfp/servlet/event.showcfp?eventid=88195&copyow
 nerid=85807
UID:cfp780585-D@wikicfp.com
END:VEVENT
BEGIN:VEVENT
DTSTAMP:20260425T002047Z
DTSTART;VALUE=DATE:20190717
SUMMARY:ISOCC 2019 Notification Due
DESCRIPTION:16th International SoC Design Conference
URL:http://www.wikicfp.com/cfp/servlet/event.showcfp?eventid=88195&copyow
 nerid=85807
UID:cfp780585-N@wikicfp.com
END:VEVENT
BEGIN:VEVENT
DTSTAMP:20260425T002047Z
DTSTART;VALUE=DATE:20190910
SUMMARY:ISOCC 2019 Final Version Due
DESCRIPTION:16th International SoC Design Conference
URL:http://www.wikicfp.com/cfp/servlet/event.showcfp?eventid=88195&copyow
 nerid=85807
UID:cfp780585-N@wikicfp.com
END:VEVENT
BEGIN:VEVENT
DTSTAMP:20260425T002047Z
DTSTART;VALUE=DATE:20201021
DTEND;VALUE=DATE:20201025
SUMMARY:ISOCC 2020
DESCRIPTION:17th International SoC Design Conference
URL:http://www.wikicfp.com/cfp/servlet/event.showcfp?eventid=106388&copyo
 wnerid=85807
UID:cfp839937-E@wikicfp.com
END:VEVENT
BEGIN:VEVENT
DTSTAMP:20260425T002047Z
DTSTART;VALUE=DATE:20200724
SUMMARY:ISOCC 2020 Deadline
DESCRIPTION:17th International SoC Design Conference
URL:http://www.wikicfp.com/cfp/servlet/event.showcfp?eventid=106388&copyo
 wnerid=85807
UID:cfp839937-D@wikicfp.com
END:VEVENT
BEGIN:VEVENT
DTSTAMP:20260425T002047Z
DTSTART;VALUE=DATE:20200817
SUMMARY:ISOCC 2020 Notification Due
DESCRIPTION:17th International SoC Design Conference
URL:http://www.wikicfp.com/cfp/servlet/event.showcfp?eventid=106388&copyo
 wnerid=85807
UID:cfp839937-N@wikicfp.com
END:VEVENT
BEGIN:VEVENT
DTSTAMP:20260425T002047Z
DTSTART;VALUE=DATE:20200904
SUMMARY:ISOCC 2020 Final Version Due
DESCRIPTION:17th International SoC Design Conference
URL:http://www.wikicfp.com/cfp/servlet/event.showcfp?eventid=106388&copyo
 wnerid=85807
UID:cfp839937-N@wikicfp.com
END:VEVENT
END:VCALENDAR
