BEGIN:VCALENDAR
PRODID:-//WikiCFP//bruntzeng 1.0//EN
VERSION:2.0
CALSCALE:GREGORIAN
BEGIN:VEVENT
DTSTAMP:20260421T031451Z
DTSTART;VALUE=DATE:20161127
DTEND;VALUE=DATE:20161201
SUMMARY:VCIP 2016
DESCRIPTION:International Conference on Visual Communications and Image P
 rocessing
URL:http://www.wikicfp.com/cfp/servlet/event.showcfp?eventid=51810&copyow
 nerid=85341
UID:cfp580960-E@wikicfp.com
END:VEVENT
BEGIN:VEVENT
DTSTAMP:20260421T031451Z
DTSTART;VALUE=DATE:20160425
SUMMARY:VCIP 2016 Deadline
DESCRIPTION:International Conference on Visual Communications and Image P
 rocessing
URL:http://www.wikicfp.com/cfp/servlet/event.showcfp?eventid=51810&copyow
 nerid=85341
UID:cfp580960-D@wikicfp.com
END:VEVENT
BEGIN:VEVENT
DTSTAMP:20260421T031451Z
DTSTART;VALUE=DATE:20160731
SUMMARY:VCIP 2016 Notification Due
DESCRIPTION:International Conference on Visual Communications and Image P
 rocessing
URL:http://www.wikicfp.com/cfp/servlet/event.showcfp?eventid=51810&copyow
 nerid=85341
UID:cfp580960-N@wikicfp.com
END:VEVENT
BEGIN:VEVENT
DTSTAMP:20260421T031451Z
DTSTART;VALUE=DATE:20160819
SUMMARY:VCIP 2016 Final Version Due
DESCRIPTION:International Conference on Visual Communications and Image P
 rocessing
URL:http://www.wikicfp.com/cfp/servlet/event.showcfp?eventid=51810&copyow
 nerid=85341
UID:cfp580960-N@wikicfp.com
END:VEVENT
BEGIN:VEVENT
DTSTAMP:20260421T031451Z
DTSTART;VALUE=DATE:20161127
DTEND;VALUE=DATE:20161201
SUMMARY:VCIP 2016
DESCRIPTION:Visual Communications and Image Processing
URL:http://www.wikicfp.com/cfp/servlet/event.showcfp?eventid=51811&copyow
 nerid=85341
UID:cfp580961-E@wikicfp.com
END:VEVENT
BEGIN:VEVENT
DTSTAMP:20260421T031451Z
DTSTART;VALUE=DATE:20160425
SUMMARY:VCIP 2016 Deadline
DESCRIPTION:Visual Communications and Image Processing
URL:http://www.wikicfp.com/cfp/servlet/event.showcfp?eventid=51811&copyow
 nerid=85341
UID:cfp580961-D@wikicfp.com
END:VEVENT
BEGIN:VEVENT
DTSTAMP:20260421T031451Z
DTSTART;VALUE=DATE:20160731
SUMMARY:VCIP 2016 Notification Due
DESCRIPTION:Visual Communications and Image Processing
URL:http://www.wikicfp.com/cfp/servlet/event.showcfp?eventid=51811&copyow
 nerid=85341
UID:cfp580961-N@wikicfp.com
END:VEVENT
BEGIN:VEVENT
DTSTAMP:20260421T031451Z
DTSTART;VALUE=DATE:20160819
SUMMARY:VCIP 2016 Final Version Due
DESCRIPTION:Visual Communications and Image Processing
URL:http://www.wikicfp.com/cfp/servlet/event.showcfp?eventid=51811&copyow
 nerid=85341
UID:cfp580961-N@wikicfp.com
END:VEVENT
END:VCALENDAR
