BEGIN:VCALENDAR
PRODID:-//WikiCFP//PRIA 1.0//EN
VERSION:2.0
CALSCALE:GREGORIAN
BEGIN:VEVENT
DTSTAMP:20260424T225939Z
DTSTART;VALUE=DATE:20170911
DTEND;VALUE=DATE:20170912
SUMMARY:LIDARI 2017
DESCRIPTION:2nd Workshop on Linked Data in Robotics and Industry 4.0 
URL:http://www.wikicfp.com/cfp/servlet/event.showcfp?eventid=64321&copyow
 nerid=85290
UID:cfp666988-E@wikicfp.com
END:VEVENT
BEGIN:VEVENT
DTSTAMP:20260424T225939Z
DTSTART;VALUE=DATE:20170703
SUMMARY:LIDARI 2017 Deadline
DESCRIPTION:2nd Workshop on Linked Data in Robotics and Industry 4.0 
URL:http://www.wikicfp.com/cfp/servlet/event.showcfp?eventid=64321&copyow
 nerid=85290
UID:cfp666988-D@wikicfp.com
END:VEVENT
BEGIN:VEVENT
DTSTAMP:20260424T225939Z
DTSTART;VALUE=DATE:20170807
SUMMARY:LIDARI 2017 Notification Due
DESCRIPTION:2nd Workshop on Linked Data in Robotics and Industry 4.0 
URL:http://www.wikicfp.com/cfp/servlet/event.showcfp?eventid=64321&copyow
 nerid=85290
UID:cfp666988-N@wikicfp.com
END:VEVENT
BEGIN:VEVENT
DTSTAMP:20260424T225939Z
DTSTART;VALUE=DATE:20170828
SUMMARY:LIDARI 2017 Final Version Due
DESCRIPTION:2nd Workshop on Linked Data in Robotics and Industry 4.0 
URL:http://www.wikicfp.com/cfp/servlet/event.showcfp?eventid=64321&copyow
 nerid=85290
UID:cfp666988-N@wikicfp.com
END:VEVENT
BEGIN:VEVENT
DTSTAMP:20260424T225939Z
DTSTART;VALUE=DATE:20220427
DTEND;VALUE=DATE:20220430
SUMMARY:RiE 2022
DESCRIPTION:13th International Conference on Robotics in Education  
URL:http://www.wikicfp.com/cfp/servlet/event.showcfp?eventid=51765&copyow
 nerid=85290
UID:cfp580704-E@wikicfp.com
END:VEVENT
BEGIN:VEVENT
DTSTAMP:20260424T225939Z
DTSTART;VALUE=DATE:20220204
SUMMARY:RiE 2022 Deadline
DESCRIPTION:13th International Conference on Robotics in Education  
URL:http://www.wikicfp.com/cfp/servlet/event.showcfp?eventid=51765&copyow
 nerid=85290
UID:cfp580704-D@wikicfp.com
END:VEVENT
BEGIN:VEVENT
DTSTAMP:20260424T225939Z
DTSTART;VALUE=DATE:20220301
SUMMARY:RiE 2022 Notification Due
DESCRIPTION:13th International Conference on Robotics in Education  
URL:http://www.wikicfp.com/cfp/servlet/event.showcfp?eventid=51765&copyow
 nerid=85290
UID:cfp580704-N@wikicfp.com
END:VEVENT
BEGIN:VEVENT
DTSTAMP:20260424T225939Z
DTSTART;VALUE=DATE:20220406
SUMMARY:RiE 2022 Final Version Due
DESCRIPTION:13th International Conference on Robotics in Education  
URL:http://www.wikicfp.com/cfp/servlet/event.showcfp?eventid=51765&copyow
 nerid=85290
UID:cfp580704-N@wikicfp.com
END:VEVENT
END:VCALENDAR
