BEGIN:VCALENDAR
PRODID:-//WikiCFP//fabiomorais 1.0//EN
VERSION:2.0
CALSCALE:GREGORIAN
BEGIN:VEVENT
DTSTAMP:20260424T081427Z
DTSTART;VALUE=DATE:20150627
DTEND;VALUE=DATE:20150703
SUMMARY:SCC 2015
DESCRIPTION:12th IEEE International Conference on Services Computing
URL:http://www.wikicfp.com/cfp/servlet/event.showcfp?eventid=42816&copyow
 nerid=85207
UID:cfp580299-E@wikicfp.com
END:VEVENT
BEGIN:VEVENT
DTSTAMP:20260424T081427Z
DTSTART;VALUE=DATE:20150131
SUMMARY:SCC 2015 Abstract Due
DESCRIPTION:12th IEEE International Conference on Services Computing
URL:http://www.wikicfp.com/cfp/servlet/event.showcfp?eventid=42816&copyow
 nerid=85207
UID:cfp580299-A@wikicfp.com
END:VEVENT
BEGIN:VEVENT
DTSTAMP:20260424T081427Z
DTSTART;VALUE=DATE:20150214
SUMMARY:SCC 2015 Deadline
DESCRIPTION:12th IEEE International Conference on Services Computing
URL:http://www.wikicfp.com/cfp/servlet/event.showcfp?eventid=42816&copyow
 nerid=85207
UID:cfp580299-D@wikicfp.com
END:VEVENT
BEGIN:VEVENT
DTSTAMP:20260424T081427Z
DTSTART;VALUE=DATE:20150314
SUMMARY:SCC 2015 Notification Due
DESCRIPTION:12th IEEE International Conference on Services Computing
URL:http://www.wikicfp.com/cfp/servlet/event.showcfp?eventid=42816&copyow
 nerid=85207
UID:cfp580299-N@wikicfp.com
END:VEVENT
BEGIN:VEVENT
DTSTAMP:20260424T081427Z
DTSTART;VALUE=DATE:20150411
SUMMARY:SCC 2015 Final Version Due
DESCRIPTION:12th IEEE International Conference on Services Computing
URL:http://www.wikicfp.com/cfp/servlet/event.showcfp?eventid=42816&copyow
 nerid=85207
UID:cfp580299-N@wikicfp.com
END:VEVENT
BEGIN:VEVENT
DTSTAMP:20260424T081427Z
DTSTART;VALUE=DATE:20160217
DTEND;VALUE=DATE:20160220
SUMMARY:PDP 2016
DESCRIPTION:24th Intl. Parallel\, Distributed and Network-Based Processin
 g\, IEEE
URL:http://www.wikicfp.com/cfp/servlet/event.showcfp?eventid=46498&copyow
 nerid=85207
UID:cfp580300-E@wikicfp.com
END:VEVENT
BEGIN:VEVENT
DTSTAMP:20260424T081427Z
DTSTART;VALUE=DATE:20150809
SUMMARY:PDP 2016 Deadline
DESCRIPTION:24th Intl. Parallel\, Distributed and Network-Based Processin
 g\, IEEE
URL:http://www.wikicfp.com/cfp/servlet/event.showcfp?eventid=46498&copyow
 nerid=85207
UID:cfp580300-D@wikicfp.com
END:VEVENT
BEGIN:VEVENT
DTSTAMP:20260424T081427Z
DTSTART;VALUE=DATE:20151019
SUMMARY:PDP 2016 Notification Due
DESCRIPTION:24th Intl. Parallel\, Distributed and Network-Based Processin
 g\, IEEE
URL:http://www.wikicfp.com/cfp/servlet/event.showcfp?eventid=46498&copyow
 nerid=85207
UID:cfp580300-N@wikicfp.com
END:VEVENT
BEGIN:VEVENT
DTSTAMP:20260424T081427Z
DTSTART;VALUE=DATE:20151110
SUMMARY:PDP 2016 Final Version Due
DESCRIPTION:24th Intl. Parallel\, Distributed and Network-Based Processin
 g\, IEEE
URL:http://www.wikicfp.com/cfp/servlet/event.showcfp?eventid=46498&copyow
 nerid=85207
UID:cfp580300-N@wikicfp.com
END:VEVENT
BEGIN:VEVENT
DTSTAMP:20260424T081427Z
DTSTART;VALUE=DATE:20160425
DTEND;VALUE=DATE:20160430
SUMMARY:NOMS 2016
DESCRIPTION:The 15th IEEE/IFIP Network Operations and Management Symposiu
 m
URL:http://www.wikicfp.com/cfp/servlet/event.showcfp?eventid=47158&copyow
 nerid=85207
UID:cfp580294-E@wikicfp.com
END:VEVENT
BEGIN:VEVENT
DTSTAMP:20260424T081427Z
DTSTART;VALUE=DATE:20150901
SUMMARY:NOMS 2016 Deadline
DESCRIPTION:The 15th IEEE/IFIP Network Operations and Management Symposiu
 m
URL:http://www.wikicfp.com/cfp/servlet/event.showcfp?eventid=47158&copyow
 nerid=85207
UID:cfp580294-D@wikicfp.com
END:VEVENT
BEGIN:VEVENT
DTSTAMP:20260424T081427Z
DTSTART;VALUE=DATE:20151120
SUMMARY:NOMS 2016 Notification Due
DESCRIPTION:The 15th IEEE/IFIP Network Operations and Management Symposiu
 m
URL:http://www.wikicfp.com/cfp/servlet/event.showcfp?eventid=47158&copyow
 nerid=85207
UID:cfp580294-N@wikicfp.com
END:VEVENT
BEGIN:VEVENT
DTSTAMP:20260424T081427Z
DTSTART;VALUE=DATE:20160115
SUMMARY:NOMS 2016 Final Version Due
DESCRIPTION:The 15th IEEE/IFIP Network Operations and Management Symposiu
 m
URL:http://www.wikicfp.com/cfp/servlet/event.showcfp?eventid=47158&copyow
 nerid=85207
UID:cfp580294-N@wikicfp.com
END:VEVENT
BEGIN:VEVENT
DTSTAMP:20260424T081427Z
DTSTART;VALUE=DATE:20160418
DTEND;VALUE=DATE:20160422
SUMMARY:EuroSys 2016
DESCRIPTION:European Conference on Computer Systems
URL:http://www.wikicfp.com/cfp/servlet/event.showcfp?eventid=46798&copyow
 nerid=85207
UID:cfp580293-E@wikicfp.com
END:VEVENT
BEGIN:VEVENT
DTSTAMP:20260424T081427Z
DTSTART;VALUE=DATE:20151016
SUMMARY:EuroSys 2016 Abstract Due
DESCRIPTION:European Conference on Computer Systems
URL:http://www.wikicfp.com/cfp/servlet/event.showcfp?eventid=46798&copyow
 nerid=85207
UID:cfp580293-A@wikicfp.com
END:VEVENT
BEGIN:VEVENT
DTSTAMP:20260424T081427Z
DTSTART;VALUE=DATE:20151023
SUMMARY:EuroSys 2016 Deadline
DESCRIPTION:European Conference on Computer Systems
URL:http://www.wikicfp.com/cfp/servlet/event.showcfp?eventid=46798&copyow
 nerid=85207
UID:cfp580293-D@wikicfp.com
END:VEVENT
BEGIN:VEVENT
DTSTAMP:20260424T081427Z
DTSTART;VALUE=DATE:20160129
SUMMARY:EuroSys 2016 Notification Due
DESCRIPTION:European Conference on Computer Systems
URL:http://www.wikicfp.com/cfp/servlet/event.showcfp?eventid=46798&copyow
 nerid=85207
UID:cfp580293-N@wikicfp.com
END:VEVENT
BEGIN:VEVENT
DTSTAMP:20260424T081427Z
DTSTART;VALUE=DATE:20160719
DTEND;VALUE=DATE:20160723
SUMMARY:ICAC 2016
DESCRIPTION:13th IEEE International Conference on Autonomic Computing
URL:http://www.wikicfp.com/cfp/servlet/event.showcfp?eventid=48671&copyow
 nerid=85207
UID:cfp580295-E@wikicfp.com
END:VEVENT
BEGIN:VEVENT
DTSTAMP:20260424T081427Z
DTSTART;VALUE=DATE:20160121
SUMMARY:ICAC 2016 Abstract Due
DESCRIPTION:13th IEEE International Conference on Autonomic Computing
URL:http://www.wikicfp.com/cfp/servlet/event.showcfp?eventid=48671&copyow
 nerid=85207
UID:cfp580295-A@wikicfp.com
END:VEVENT
BEGIN:VEVENT
DTSTAMP:20260424T081427Z
DTSTART;VALUE=DATE:20160128
SUMMARY:ICAC 2016 Deadline
DESCRIPTION:13th IEEE International Conference on Autonomic Computing
URL:http://www.wikicfp.com/cfp/servlet/event.showcfp?eventid=48671&copyow
 nerid=85207
UID:cfp580295-D@wikicfp.com
END:VEVENT
BEGIN:VEVENT
DTSTAMP:20260424T081427Z
DTSTART;VALUE=DATE:20160415
SUMMARY:ICAC 2016 Notification Due
DESCRIPTION:13th IEEE International Conference on Autonomic Computing
URL:http://www.wikicfp.com/cfp/servlet/event.showcfp?eventid=48671&copyow
 nerid=85207
UID:cfp580295-N@wikicfp.com
END:VEVENT
BEGIN:VEVENT
DTSTAMP:20260424T081427Z
DTSTART;VALUE=DATE:20160501
SUMMARY:ICAC 2016 Final Version Due
DESCRIPTION:13th IEEE International Conference on Autonomic Computing
URL:http://www.wikicfp.com/cfp/servlet/event.showcfp?eventid=48671&copyow
 nerid=85207
UID:cfp580295-N@wikicfp.com
END:VEVENT
BEGIN:VEVENT
DTSTAMP:20260424T081427Z
DTSTART;VALUE=DATE:20160718
DTEND;VALUE=DATE:20160722
SUMMARY:ScalCom 2016
DESCRIPTION:The 16th IEEE International Conference on Scalable Computing 
 and Communications
URL:http://www.wikicfp.com/cfp/servlet/event.showcfp?eventid=50649&copyow
 nerid=85207
UID:cfp580224-E@wikicfp.com
END:VEVENT
BEGIN:VEVENT
DTSTAMP:20260424T081427Z
DTSTART;VALUE=DATE:20160311
SUMMARY:ScalCom 2016 Deadline
DESCRIPTION:The 16th IEEE International Conference on Scalable Computing 
 and Communications
URL:http://www.wikicfp.com/cfp/servlet/event.showcfp?eventid=50649&copyow
 nerid=85207
UID:cfp580224-D@wikicfp.com
END:VEVENT
BEGIN:VEVENT
DTSTAMP:20260424T081427Z
DTSTART;VALUE=DATE:20160506
SUMMARY:ScalCom 2016 Notification Due
DESCRIPTION:The 16th IEEE International Conference on Scalable Computing 
 and Communications
URL:http://www.wikicfp.com/cfp/servlet/event.showcfp?eventid=50649&copyow
 nerid=85207
UID:cfp580224-N@wikicfp.com
END:VEVENT
BEGIN:VEVENT
DTSTAMP:20260424T081427Z
DTSTART;VALUE=DATE:20161212
DTEND;VALUE=DATE:20161215
SUMMARY:CDC 2016
DESCRIPTION:55th IEEE Conference on Decision and Control
URL:http://www.wikicfp.com/cfp/servlet/event.showcfp?eventid=50204&copyow
 nerid=85207
UID:cfp580296-E@wikicfp.com
END:VEVENT
BEGIN:VEVENT
DTSTAMP:20260424T081427Z
DTSTART;VALUE=DATE:20160315
SUMMARY:CDC 2016 Deadline
DESCRIPTION:55th IEEE Conference on Decision and Control
URL:http://www.wikicfp.com/cfp/servlet/event.showcfp?eventid=50204&copyow
 nerid=85207
UID:cfp580296-D@wikicfp.com
END:VEVENT
BEGIN:VEVENT
DTSTAMP:20260424T081427Z
DTSTART;VALUE=DATE:20160912
DTEND;VALUE=DATE:20160917
SUMMARY:IEEE Cluster 2016
DESCRIPTION:IEEE International Conference on Cluster Computing
URL:http://www.wikicfp.com/cfp/servlet/event.showcfp?eventid=50526&copyow
 nerid=85207
UID:cfp580292-E@wikicfp.com
END:VEVENT
BEGIN:VEVENT
DTSTAMP:20260424T081427Z
DTSTART;VALUE=DATE:20160325
SUMMARY:IEEE Cluster 2016 Deadline
DESCRIPTION:IEEE International Conference on Cluster Computing
URL:http://www.wikicfp.com/cfp/servlet/event.showcfp?eventid=50526&copyow
 nerid=85207
UID:cfp580292-D@wikicfp.com
END:VEVENT
BEGIN:VEVENT
DTSTAMP:20260424T081427Z
DTSTART;VALUE=DATE:20160513
SUMMARY:IEEE Cluster 2016 Notification Due
DESCRIPTION:IEEE International Conference on Cluster Computing
URL:http://www.wikicfp.com/cfp/servlet/event.showcfp?eventid=50526&copyow
 nerid=85207
UID:cfp580292-N@wikicfp.com
END:VEVENT
BEGIN:VEVENT
DTSTAMP:20260424T081427Z
DTSTART;VALUE=DATE:20160912
DTEND;VALUE=DATE:20160917
SUMMARY:ICCAC 2016
DESCRIPTION:2016 IEEE International Conference on Cloud and Autonomic Com
 puting (ICCAC)
URL:http://www.wikicfp.com/cfp/servlet/event.showcfp?eventid=51522&copyow
 nerid=85207
UID:cfp580210-E@wikicfp.com
END:VEVENT
BEGIN:VEVENT
DTSTAMP:20260424T081427Z
DTSTART;VALUE=DATE:20160429
SUMMARY:ICCAC 2016 Deadline
DESCRIPTION:2016 IEEE International Conference on Cloud and Autonomic Com
 puting (ICCAC)
URL:http://www.wikicfp.com/cfp/servlet/event.showcfp?eventid=51522&copyow
 nerid=85207
UID:cfp580210-D@wikicfp.com
END:VEVENT
BEGIN:VEVENT
DTSTAMP:20260424T081427Z
DTSTART;VALUE=DATE:20160616
SUMMARY:ICCAC 2016 Notification Due
DESCRIPTION:2016 IEEE International Conference on Cloud and Autonomic Com
 puting (ICCAC)
URL:http://www.wikicfp.com/cfp/servlet/event.showcfp?eventid=51522&copyow
 nerid=85207
UID:cfp580210-N@wikicfp.com
END:VEVENT
BEGIN:VEVENT
DTSTAMP:20260424T081427Z
DTSTART;VALUE=DATE:20160701
SUMMARY:ICCAC 2016 Final Version Due
DESCRIPTION:2016 IEEE International Conference on Cloud and Autonomic Com
 puting (ICCAC)
URL:http://www.wikicfp.com/cfp/servlet/event.showcfp?eventid=51522&copyow
 nerid=85207
UID:cfp580210-N@wikicfp.com
END:VEVENT
BEGIN:VEVENT
DTSTAMP:20260424T081427Z
DTSTART;VALUE=DATE:20160919
DTEND;VALUE=DATE:20160922
SUMMARY:MASCOTS 2016
DESCRIPTION:Modeling\, Analysis\, and Simulation On Computer and Telecomm
 unication Systems
URL:http://www.wikicfp.com/cfp/servlet/event.showcfp?eventid=50240&copyow
 nerid=85207
UID:cfp580297-E@wikicfp.com
END:VEVENT
BEGIN:VEVENT
DTSTAMP:20260424T081427Z
DTSTART;VALUE=DATE:20160515
SUMMARY:MASCOTS 2016 Deadline
DESCRIPTION:Modeling\, Analysis\, and Simulation On Computer and Telecomm
 unication Systems
URL:http://www.wikicfp.com/cfp/servlet/event.showcfp?eventid=50240&copyow
 nerid=85207
UID:cfp580297-D@wikicfp.com
END:VEVENT
BEGIN:VEVENT
DTSTAMP:20260424T081427Z
DTSTART;VALUE=DATE:20160615
SUMMARY:MASCOTS 2016 Notification Due
DESCRIPTION:Modeling\, Analysis\, and Simulation On Computer and Telecomm
 unication Systems
URL:http://www.wikicfp.com/cfp/servlet/event.showcfp?eventid=50240&copyow
 nerid=85207
UID:cfp580297-N@wikicfp.com
END:VEVENT
BEGIN:VEVENT
DTSTAMP:20260424T081427Z
DTSTART;VALUE=DATE:20160705
SUMMARY:MASCOTS 2016 Final Version Due
DESCRIPTION:Modeling\, Analysis\, and Simulation On Computer and Telecomm
 unication Systems
URL:http://www.wikicfp.com/cfp/servlet/event.showcfp?eventid=50240&copyow
 nerid=85207
UID:cfp580297-N@wikicfp.com
END:VEVENT
BEGIN:VEVENT
DTSTAMP:20260424T081427Z
DTSTART;VALUE=DATE:20161212
DTEND;VALUE=DATE:20161216
SUMMARY:ICDM 2016
DESCRIPTION:The IEEE International Conference on Data Mining
URL:http://www.wikicfp.com/cfp/servlet/event.showcfp?eventid=50434&copyow
 nerid=85207
UID:cfp580298-E@wikicfp.com
END:VEVENT
BEGIN:VEVENT
DTSTAMP:20260424T081427Z
DTSTART;VALUE=DATE:20160617
SUMMARY:ICDM 2016 Deadline
DESCRIPTION:The IEEE International Conference on Data Mining
URL:http://www.wikicfp.com/cfp/servlet/event.showcfp?eventid=50434&copyow
 nerid=85207
UID:cfp580298-D@wikicfp.com
END:VEVENT
BEGIN:VEVENT
DTSTAMP:20260424T081427Z
DTSTART;VALUE=DATE:20160909
SUMMARY:ICDM 2016 Notification Due
DESCRIPTION:The IEEE International Conference on Data Mining
URL:http://www.wikicfp.com/cfp/servlet/event.showcfp?eventid=50434&copyow
 nerid=85207
UID:cfp580298-N@wikicfp.com
END:VEVENT
END:VCALENDAR
