BEGIN:VCALENDAR
PRODID:-//WikiCFP//vassilee 1.0//EN
VERSION:2.0
CALSCALE:GREGORIAN
BEGIN:VEVENT
DTSTAMP:20260424T183200Z
DTSTART;VALUE=DATE:20160924
DTEND;VALUE=DATE:20160927
SUMMARY:VINCI 2016
DESCRIPTION:The 9th International Symposium on Visual Information Communi
 cation and Interaction
URL:http://www.wikicfp.com/cfp/servlet/event.showcfp?eventid=51330&copyow
 nerid=84857
UID:cfp577279-E@wikicfp.com
END:VEVENT
BEGIN:VEVENT
DTSTAMP:20260424T183200Z
DTSTART;VALUE=DATE:20160924
DTEND;VALUE=DATE:20160927
SUMMARY:VINCI 2016
DESCRIPTION:The 9th International Symposium on Visual Information Communi
 cation and Interaction 
URL:http://www.wikicfp.com/cfp/servlet/event.showcfp?eventid=52245&copyow
 nerid=84857
UID:cfp584041-E@wikicfp.com
END:VEVENT
BEGIN:VEVENT
DTSTAMP:20260424T183200Z
DTSTART;VALUE=DATE:20160924
DTEND;VALUE=DATE:20160927
SUMMARY:VINCI 2016
DESCRIPTION:The 9th International Symposium on Visual Information Communi
 cation and Interaction (VINCI 2016)
URL:http://www.wikicfp.com/cfp/servlet/event.showcfp?eventid=53434&copyow
 nerid=84857
UID:cfp591868-E@wikicfp.com
END:VEVENT
BEGIN:VEVENT
DTSTAMP:20260424T183200Z
DTSTART;VALUE=DATE:20160924
DTEND;VALUE=DATE:20160927
SUMMARY:VINCI 2016
DESCRIPTION:The 9th International Symposium on Visual Information Communi
 cation and Interaction (Call For Participation)
URL:http://www.wikicfp.com/cfp/servlet/event.showcfp?eventid=53538&copyow
 nerid=84857
UID:cfp592857-E@wikicfp.com
END:VEVENT
BEGIN:VEVENT
DTSTAMP:20260424T183200Z
DTSTART;VALUE=DATE:20160924
DTEND;VALUE=DATE:20160927
SUMMARY:VINCI 2016
DESCRIPTION:The 9th International Symposium on Visual Information Communi
 cation and Interaction (Call for Participation)
URL:http://www.wikicfp.com/cfp/servlet/event.showcfp?eventid=56511&copyow
 nerid=84857
UID:cfp612616-E@wikicfp.com
END:VEVENT
END:VCALENDAR
