BEGIN:VCALENDAR
PRODID:-//WikiCFP//parteek 1.0//EN
VERSION:2.0
CALSCALE:GREGORIAN
BEGIN:VEVENT
DTSTAMP:20260423T064104Z
DTSTART;VALUE=DATE:20160526
DTEND;VALUE=DATE:20160529
SUMMARY:MCMC 2016
DESCRIPTION:2016 International Conference on Multi-lingual Computer Media
 ted Communication (MCMC 2016)
URL:http://www.wikicfp.com/cfp/servlet/event.showcfp?eventid=50717&copyow
 nerid=84377
UID:cfp574241-E@wikicfp.com
END:VEVENT
BEGIN:VEVENT
DTSTAMP:20260423T064104Z
DTSTART;VALUE=DATE:20160320
SUMMARY:MCMC 2016 Deadline
DESCRIPTION:2016 International Conference on Multi-lingual Computer Media
 ted Communication (MCMC 2016)
URL:http://www.wikicfp.com/cfp/servlet/event.showcfp?eventid=50717&copyow
 nerid=84377
UID:cfp574241-D@wikicfp.com
END:VEVENT
END:VCALENDAR
