BEGIN:VCALENDAR
PRODID:-//WikiCFP//Gharib 1.0//EN
VERSION:2.0
CALSCALE:GREGORIAN
BEGIN:VEVENT
DTSTAMP:20260421T092953Z
DTSTART;VALUE=DATE:20150330
DTEND;VALUE=DATE:20150331
SUMMARY:ODQ 2015
DESCRIPTION:Open Data Quality: from Theory to Practice
URL:http://www.wikicfp.com/cfp/servlet/event.showcfp?eventid=43398&copyow
 nerid=84368
UID:cfp574181-E@wikicfp.com
END:VEVENT
BEGIN:VEVENT
DTSTAMP:20260421T092953Z
DTSTART;VALUE=DATE:20150215
SUMMARY:ODQ 2015 Deadline
DESCRIPTION:Open Data Quality: from Theory to Practice
URL:http://www.wikicfp.com/cfp/servlet/event.showcfp?eventid=43398&copyow
 nerid=84368
UID:cfp574181-D@wikicfp.com
END:VEVENT
BEGIN:VEVENT
DTSTAMP:20260421T092953Z
DTSTART;VALUE=DATE:20150227
SUMMARY:ODQ 2015 Notification Due
DESCRIPTION:Open Data Quality: from Theory to Practice
URL:http://www.wikicfp.com/cfp/servlet/event.showcfp?eventid=43398&copyow
 nerid=84368
UID:cfp574181-N@wikicfp.com
END:VEVENT
BEGIN:VEVENT
DTSTAMP:20260421T092953Z
DTSTART;VALUE=DATE:20150306
SUMMARY:ODQ 2015 Final Version Due
DESCRIPTION:Open Data Quality: from Theory to Practice
URL:http://www.wikicfp.com/cfp/servlet/event.showcfp?eventid=43398&copyow
 nerid=84368
UID:cfp574181-N@wikicfp.com
END:VEVENT
BEGIN:VEVENT
DTSTAMP:20260421T092953Z
DTSTART;VALUE=DATE:20150824
DTEND;VALUE=DATE:20150827
SUMMARY:OBD  2015
DESCRIPTION: The International Conference on Open and Big Data
URL:http://www.wikicfp.com/cfp/servlet/event.showcfp?eventid=41758&copyow
 nerid=84368
UID:cfp574180-E@wikicfp.com
END:VEVENT
BEGIN:VEVENT
DTSTAMP:20260421T092953Z
DTSTART;VALUE=DATE:20150416
SUMMARY:OBD  2015 Deadline
DESCRIPTION: The International Conference on Open and Big Data
URL:http://www.wikicfp.com/cfp/servlet/event.showcfp?eventid=41758&copyow
 nerid=84368
UID:cfp574180-D@wikicfp.com
END:VEVENT
BEGIN:VEVENT
DTSTAMP:20260421T092953Z
DTSTART;VALUE=DATE:20150530
SUMMARY:OBD  2015 Notification Due
DESCRIPTION: The International Conference on Open and Big Data
URL:http://www.wikicfp.com/cfp/servlet/event.showcfp?eventid=41758&copyow
 nerid=84368
UID:cfp574180-N@wikicfp.com
END:VEVENT
BEGIN:VEVENT
DTSTAMP:20260421T092953Z
DTSTART;VALUE=DATE:20150620
SUMMARY:OBD  2015 Final Version Due
DESCRIPTION: The International Conference on Open and Big Data
URL:http://www.wikicfp.com/cfp/servlet/event.showcfp?eventid=41758&copyow
 nerid=84368
UID:cfp574180-N@wikicfp.com
END:VEVENT
BEGIN:VEVENT
DTSTAMP:20260421T092953Z
DTSTART;VALUE=DATE:20160122
SUMMARY:Open Big Data 2016 Abstract Due
DESCRIPTION:Open Data Innovations in Business and Government
URL:http://www.wikicfp.com/cfp/servlet/event.showcfp?eventid=49719&copyow
 nerid=84368
UID:cfp574182-A@wikicfp.com
END:VEVENT
BEGIN:VEVENT
DTSTAMP:20260421T092953Z
DTSTART;VALUE=DATE:20160301
SUMMARY:Open Big Data 2016 Deadline
DESCRIPTION:Open Data Innovations in Business and Government
URL:http://www.wikicfp.com/cfp/servlet/event.showcfp?eventid=49719&copyow
 nerid=84368
UID:cfp574182-D@wikicfp.com
END:VEVENT
BEGIN:VEVENT
DTSTAMP:20260421T092953Z
DTSTART;VALUE=DATE:20160415
SUMMARY:Open Big Data 2016 Notification Due
DESCRIPTION:Open Data Innovations in Business and Government
URL:http://www.wikicfp.com/cfp/servlet/event.showcfp?eventid=49719&copyow
 nerid=84368
UID:cfp574182-N@wikicfp.com
END:VEVENT
BEGIN:VEVENT
DTSTAMP:20260421T092953Z
DTSTART;VALUE=DATE:20160630
SUMMARY:Open Big Data 2016 Final Version Due
DESCRIPTION:Open Data Innovations in Business and Government
URL:http://www.wikicfp.com/cfp/servlet/event.showcfp?eventid=49719&copyow
 nerid=84368
UID:cfp574182-N@wikicfp.com
END:VEVENT
END:VCALENDAR
