BEGIN:VCALENDAR
PRODID:-//WikiCFP//ismailbm 1.0//EN
VERSION:2.0
CALSCALE:GREGORIAN
BEGIN:VEVENT
DTSTAMP:20260421T141229Z
DTSTART;VALUE=DATE:20160326
DTEND;VALUE=DATE:20160328
SUMMARY:PEOCO 2016
DESCRIPTION:2016 10th International Power Engineering and Optimization Co
 nference (PEOCO2016) 
URL:http://www.wikicfp.com/cfp/servlet/event.showcfp?eventid=50375&copyow
 nerid=83862
UID:cfp568229-E@wikicfp.com
END:VEVENT
BEGIN:VEVENT
DTSTAMP:20260421T141229Z
DTSTART;VALUE=DATE:20160130
SUMMARY:PEOCO 2016 Deadline
DESCRIPTION:2016 10th International Power Engineering and Optimization Co
 nference (PEOCO2016) 
URL:http://www.wikicfp.com/cfp/servlet/event.showcfp?eventid=50375&copyow
 nerid=83862
UID:cfp568229-D@wikicfp.com
END:VEVENT
BEGIN:VEVENT
DTSTAMP:20260421T141229Z
DTSTART;VALUE=DATE:20160305
SUMMARY:PEOCO 2016 Final Version Due
DESCRIPTION:2016 10th International Power Engineering and Optimization Co
 nference (PEOCO2016) 
URL:http://www.wikicfp.com/cfp/servlet/event.showcfp?eventid=50375&copyow
 nerid=83862
UID:cfp568229-N@wikicfp.com
END:VEVENT
BEGIN:VEVENT
DTSTAMP:20260421T141229Z
DTSTART;VALUE=DATE:20180714
DTEND;VALUE=DATE:20180716
SUMMARY:PEOCO 2018
DESCRIPTION:2018 12th International Power Engineering\, Optimization and 
 Computing Conference (PEOCO2018). It was previously known as Internation
 al Power Engineering and Optimization Conference
URL:http://www.wikicfp.com/cfp/servlet/event.showcfp?eventid=75155&copyow
 nerid=83862
UID:cfp721220-E@wikicfp.com
END:VEVENT
BEGIN:VEVENT
DTSTAMP:20260421T141229Z
DTSTART;VALUE=DATE:20180510
SUMMARY:PEOCO 2018 Deadline
DESCRIPTION:2018 12th International Power Engineering\, Optimization and 
 Computing Conference (PEOCO2018). It was previously known as Internation
 al Power Engineering and Optimization Conference
URL:http://www.wikicfp.com/cfp/servlet/event.showcfp?eventid=75155&copyow
 nerid=83862
UID:cfp721220-D@wikicfp.com
END:VEVENT
BEGIN:VEVENT
DTSTAMP:20260421T141229Z
DTSTART;VALUE=DATE:20180520
SUMMARY:PEOCO 2018 Notification Due
DESCRIPTION:2018 12th International Power Engineering\, Optimization and 
 Computing Conference (PEOCO2018). It was previously known as Internation
 al Power Engineering and Optimization Conference
URL:http://www.wikicfp.com/cfp/servlet/event.showcfp?eventid=75155&copyow
 nerid=83862
UID:cfp721220-N@wikicfp.com
END:VEVENT
BEGIN:VEVENT
DTSTAMP:20260421T141229Z
DTSTART;VALUE=DATE:20180625
SUMMARY:PEOCO 2018 Final Version Due
DESCRIPTION:2018 12th International Power Engineering\, Optimization and 
 Computing Conference (PEOCO2018). It was previously known as Internation
 al Power Engineering and Optimization Conference
URL:http://www.wikicfp.com/cfp/servlet/event.showcfp?eventid=75155&copyow
 nerid=83862
UID:cfp721220-N@wikicfp.com
END:VEVENT
BEGIN:VEVENT
DTSTAMP:20260421T141229Z
DTSTART;VALUE=DATE:20191130
DTEND;VALUE=DATE:20191202
SUMMARY:ICRIE 2019
DESCRIPTION:2019 International Conference on Research and Innovation in E
 ducation (ICRIE2019)
URL:http://www.wikicfp.com/cfp/servlet/event.showcfp?eventid=92391&copyow
 nerid=83862
UID:cfp798168-E@wikicfp.com
END:VEVENT
BEGIN:VEVENT
DTSTAMP:20260421T141229Z
DTSTART;VALUE=DATE:20190910
SUMMARY:ICRIE 2019 Deadline
DESCRIPTION:2019 International Conference on Research and Innovation in E
 ducation (ICRIE2019)
URL:http://www.wikicfp.com/cfp/servlet/event.showcfp?eventid=92391&copyow
 nerid=83862
UID:cfp798168-D@wikicfp.com
END:VEVENT
BEGIN:VEVENT
DTSTAMP:20260421T141229Z
DTSTART;VALUE=DATE:20191005
SUMMARY:ICRIE 2019 Notification Due
DESCRIPTION:2019 International Conference on Research and Innovation in E
 ducation (ICRIE2019)
URL:http://www.wikicfp.com/cfp/servlet/event.showcfp?eventid=92391&copyow
 nerid=83862
UID:cfp798168-N@wikicfp.com
END:VEVENT
BEGIN:VEVENT
DTSTAMP:20260421T141229Z
DTSTART;VALUE=DATE:20191105
SUMMARY:ICRIE 2019 Final Version Due
DESCRIPTION:2019 International Conference on Research and Innovation in E
 ducation (ICRIE2019)
URL:http://www.wikicfp.com/cfp/servlet/event.showcfp?eventid=92391&copyow
 nerid=83862
UID:cfp798168-N@wikicfp.com
END:VEVENT
BEGIN:VEVENT
DTSTAMP:20260421T141229Z
DTSTART;VALUE=DATE:20200718
DTEND;VALUE=DATE:20200720
SUMMARY:PEOCO2020 2020
DESCRIPTION: 2020 14th International Power Engineering\, Optimization and
  Computing Conference (PEOCO2020)
URL:http://www.wikicfp.com/cfp/servlet/event.showcfp?eventid=101972&copyo
 wnerid=83862
UID:cfp832431-E@wikicfp.com
END:VEVENT
BEGIN:VEVENT
DTSTAMP:20260421T141229Z
DTSTART;VALUE=DATE:20200515
SUMMARY:PEOCO2020 2020 Deadline
DESCRIPTION: 2020 14th International Power Engineering\, Optimization and
  Computing Conference (PEOCO2020)
URL:http://www.wikicfp.com/cfp/servlet/event.showcfp?eventid=101972&copyo
 wnerid=83862
UID:cfp832431-D@wikicfp.com
END:VEVENT
BEGIN:VEVENT
DTSTAMP:20260421T141229Z
DTSTART;VALUE=DATE:20200605
SUMMARY:PEOCO2020 2020 Notification Due
DESCRIPTION: 2020 14th International Power Engineering\, Optimization and
  Computing Conference (PEOCO2020)
URL:http://www.wikicfp.com/cfp/servlet/event.showcfp?eventid=101972&copyo
 wnerid=83862
UID:cfp832431-N@wikicfp.com
END:VEVENT
BEGIN:VEVENT
DTSTAMP:20260421T141229Z
DTSTART;VALUE=DATE:20200630
SUMMARY:PEOCO2020 2020 Final Version Due
DESCRIPTION: 2020 14th International Power Engineering\, Optimization and
  Computing Conference (PEOCO2020)
URL:http://www.wikicfp.com/cfp/servlet/event.showcfp?eventid=101972&copyo
 wnerid=83862
UID:cfp832431-N@wikicfp.com
END:VEVENT
BEGIN:VEVENT
DTSTAMP:20260421T141229Z
DTSTART;VALUE=DATE:20201121
DTEND;VALUE=DATE:20201123
SUMMARY:RAECAS 2020
DESCRIPTION:2020 3rd International Conference on Recent Advances in Engin
 eering\, Computing and Applied Sciences (RAECAS2020)
URL:http://www.wikicfp.com/cfp/servlet/event.showcfp?eventid=113599&copyo
 wnerid=83862
UID:cfp854554-E@wikicfp.com
END:VEVENT
BEGIN:VEVENT
DTSTAMP:20260421T141229Z
DTSTART;VALUE=DATE:20200930
SUMMARY:RAECAS 2020 Deadline
DESCRIPTION:2020 3rd International Conference on Recent Advances in Engin
 eering\, Computing and Applied Sciences (RAECAS2020)
URL:http://www.wikicfp.com/cfp/servlet/event.showcfp?eventid=113599&copyo
 wnerid=83862
UID:cfp854554-D@wikicfp.com
END:VEVENT
BEGIN:VEVENT
DTSTAMP:20260421T141229Z
DTSTART;VALUE=DATE:20201010
SUMMARY:RAECAS 2020 Notification Due
DESCRIPTION:2020 3rd International Conference on Recent Advances in Engin
 eering\, Computing and Applied Sciences (RAECAS2020)
URL:http://www.wikicfp.com/cfp/servlet/event.showcfp?eventid=113599&copyo
 wnerid=83862
UID:cfp854554-N@wikicfp.com
END:VEVENT
BEGIN:VEVENT
DTSTAMP:20260421T141229Z
DTSTART;VALUE=DATE:20201105
SUMMARY:RAECAS 2020 Final Version Due
DESCRIPTION:2020 3rd International Conference on Recent Advances in Engin
 eering\, Computing and Applied Sciences (RAECAS2020)
URL:http://www.wikicfp.com/cfp/servlet/event.showcfp?eventid=113599&copyo
 wnerid=83862
UID:cfp854554-N@wikicfp.com
END:VEVENT
BEGIN:VEVENT
DTSTAMP:20260421T141229Z
DTSTART;VALUE=DATE:20210328
DTEND;VALUE=DATE:20210330
SUMMARY:ICEEComp 2021
DESCRIPTION:2021 4th International Conference on Engineering and Computin
 g (ICEEComp2021) - Scopus
URL:http://www.wikicfp.com/cfp/servlet/event.showcfp?eventid=122910&copyo
 wnerid=83862
UID:cfp869167-E@wikicfp.com
END:VEVENT
BEGIN:VEVENT
DTSTAMP:20260421T141229Z
DTSTART;VALUE=DATE:20210131
SUMMARY:ICEEComp 2021 Deadline
DESCRIPTION:2021 4th International Conference on Engineering and Computin
 g (ICEEComp2021) - Scopus
URL:http://www.wikicfp.com/cfp/servlet/event.showcfp?eventid=122910&copyo
 wnerid=83862
UID:cfp869167-D@wikicfp.com
END:VEVENT
BEGIN:VEVENT
DTSTAMP:20260421T141229Z
DTSTART;VALUE=DATE:20210220
SUMMARY:ICEEComp 2021 Notification Due
DESCRIPTION:2021 4th International Conference on Engineering and Computin
 g (ICEEComp2021) - Scopus
URL:http://www.wikicfp.com/cfp/servlet/event.showcfp?eventid=122910&copyo
 wnerid=83862
UID:cfp869167-N@wikicfp.com
END:VEVENT
BEGIN:VEVENT
DTSTAMP:20260421T141229Z
DTSTART;VALUE=DATE:20210315
SUMMARY:ICEEComp 2021 Final Version Due
DESCRIPTION:2021 4th International Conference on Engineering and Computin
 g (ICEEComp2021) - Scopus
URL:http://www.wikicfp.com/cfp/servlet/event.showcfp?eventid=122910&copyo
 wnerid=83862
UID:cfp869167-N@wikicfp.com
END:VEVENT
END:VCALENDAR
