BEGIN:VCALENDAR
PRODID:-//WikiCFP//Cfp16Na 1.0//EN
VERSION:2.0
CALSCALE:GREGORIAN
BEGIN:VEVENT
DTSTAMP:20260420T221820Z
DTSTART;VALUE=DATE:20160808
DTEND;VALUE=DATE:20160813
SUMMARY:CyberSciTech  2016
DESCRIPTION:2016 IEEE Cyber Science and Technology Congress (CyberSciTech
  2016)
URL:http://www.wikicfp.com/cfp/servlet/event.showcfp?eventid=50324&copyow
 nerid=83792
UID:cfp567608-E@wikicfp.com
END:VEVENT
BEGIN:VEVENT
DTSTAMP:20260420T221820Z
DTSTART;VALUE=DATE:20160430
SUMMARY:CyberSciTech  2016 Deadline
DESCRIPTION:2016 IEEE Cyber Science and Technology Congress (CyberSciTech
  2016)
URL:http://www.wikicfp.com/cfp/servlet/event.showcfp?eventid=50324&copyow
 nerid=83792
UID:cfp567608-D@wikicfp.com
END:VEVENT
BEGIN:VEVENT
DTSTAMP:20260420T221820Z
DTSTART;VALUE=DATE:20160523
SUMMARY:CyberSciTech  2016 Notification Due
DESCRIPTION:2016 IEEE Cyber Science and Technology Congress (CyberSciTech
  2016)
URL:http://www.wikicfp.com/cfp/servlet/event.showcfp?eventid=50324&copyow
 nerid=83792
UID:cfp567608-N@wikicfp.com
END:VEVENT
BEGIN:VEVENT
DTSTAMP:20260420T221820Z
DTSTART;VALUE=DATE:20160606
SUMMARY:CyberSciTech  2016 Final Version Due
DESCRIPTION:2016 IEEE Cyber Science and Technology Congress (CyberSciTech
  2016)
URL:http://www.wikicfp.com/cfp/servlet/event.showcfp?eventid=50324&copyow
 nerid=83792
UID:cfp567608-N@wikicfp.com
END:VEVENT
END:VCALENDAR
