BEGIN:VCALENDAR
PRODID:-//WikiCFP//Suzulab 1.0//EN
VERSION:2.0
CALSCALE:GREGORIAN
BEGIN:VEVENT
DTSTAMP:20260424T142504Z
DTSTART;VALUE=DATE:20091130
DTEND;VALUE=DATE:20091205
SUMMARY:Middleware 2009
DESCRIPTION:The ACM/IFIP/USENIX 10th International Middleware Conference
URL:http://www.wikicfp.com/cfp/servlet/event.showcfp?eventid=4786&copyown
 erid=8294
UID:cfp61718-E@wikicfp.com
END:VEVENT
BEGIN:VEVENT
DTSTAMP:20260424T142504Z
DTSTART;VALUE=DATE:20090427
SUMMARY:Middleware 2009 Deadline
DESCRIPTION:The ACM/IFIP/USENIX 10th International Middleware Conference
URL:http://www.wikicfp.com/cfp/servlet/event.showcfp?eventid=4786&copyown
 erid=8294
UID:cfp61718-D@wikicfp.com
END:VEVENT
BEGIN:VEVENT
DTSTAMP:20260424T142504Z
DTSTART;VALUE=DATE:20090715
SUMMARY:Middleware 2009 Notification Due
DESCRIPTION:The ACM/IFIP/USENIX 10th International Middleware Conference
URL:http://www.wikicfp.com/cfp/servlet/event.showcfp?eventid=4786&copyown
 erid=8294
UID:cfp61718-N@wikicfp.com
END:VEVENT
BEGIN:VEVENT
DTSTAMP:20260424T142504Z
DTSTART;VALUE=DATE:20090824
SUMMARY:Middleware 2009 Final Version Due
DESCRIPTION:The ACM/IFIP/USENIX 10th International Middleware Conference
URL:http://www.wikicfp.com/cfp/servlet/event.showcfp?eventid=4786&copyown
 erid=8294
UID:cfp61718-N@wikicfp.com
END:VEVENT
BEGIN:VEVENT
DTSTAMP:20260424T142504Z
DTSTART;VALUE=DATE:20100301
DTEND;VALUE=DATE:20100307
SUMMARY:ICDE 2010
DESCRIPTION:The 26th International Conference on Data Engineering
URL:http://www.wikicfp.com/cfp/servlet/event.showcfp?eventid=4869&copyown
 erid=8294
UID:cfp61716-E@wikicfp.com
END:VEVENT
BEGIN:VEVENT
DTSTAMP:20260424T142504Z
DTSTART;VALUE=DATE:20090610
SUMMARY:ICDE 2010 Abstract Due
DESCRIPTION:The 26th International Conference on Data Engineering
URL:http://www.wikicfp.com/cfp/servlet/event.showcfp?eventid=4869&copyown
 erid=8294
UID:cfp61716-A@wikicfp.com
END:VEVENT
BEGIN:VEVENT
DTSTAMP:20260424T142504Z
DTSTART;VALUE=DATE:20090617
SUMMARY:ICDE 2010 Deadline
DESCRIPTION:The 26th International Conference on Data Engineering
URL:http://www.wikicfp.com/cfp/servlet/event.showcfp?eventid=4869&copyown
 erid=8294
UID:cfp61716-D@wikicfp.com
END:VEVENT
BEGIN:VEVENT
DTSTAMP:20260424T142504Z
DTSTART;VALUE=DATE:20100419
DTEND;VALUE=DATE:20100424
SUMMARY:IPDPS 2010
DESCRIPTION:IEEE International Parallel & Distributed Processing Symposiu
 m
URL:http://www.wikicfp.com/cfp/servlet/event.showcfp?eventid=5985&copyown
 erid=8294
UID:cfp61723-E@wikicfp.com
END:VEVENT
BEGIN:VEVENT
DTSTAMP:20260424T142504Z
DTSTART;VALUE=DATE:20090921
SUMMARY:IPDPS 2010 Abstract Due
DESCRIPTION:IEEE International Parallel & Distributed Processing Symposiu
 m
URL:http://www.wikicfp.com/cfp/servlet/event.showcfp?eventid=5985&copyown
 erid=8294
UID:cfp61723-A@wikicfp.com
END:VEVENT
BEGIN:VEVENT
DTSTAMP:20260424T142504Z
DTSTART;VALUE=DATE:20090928
SUMMARY:IPDPS 2010 Deadline
DESCRIPTION:IEEE International Parallel & Distributed Processing Symposiu
 m
URL:http://www.wikicfp.com/cfp/servlet/event.showcfp?eventid=5985&copyown
 erid=8294
UID:cfp61723-D@wikicfp.com
END:VEVENT
BEGIN:VEVENT
DTSTAMP:20260424T142504Z
DTSTART;VALUE=DATE:20091207
SUMMARY:IPDPS 2010 Notification Due
DESCRIPTION:IEEE International Parallel & Distributed Processing Symposiu
 m
URL:http://www.wikicfp.com/cfp/servlet/event.showcfp?eventid=5985&copyown
 erid=8294
UID:cfp61723-N@wikicfp.com
END:VEVENT
BEGIN:VEVENT
DTSTAMP:20260424T142504Z
DTSTART;VALUE=DATE:20100201
SUMMARY:IPDPS 2010 Final Version Due
DESCRIPTION:IEEE International Parallel & Distributed Processing Symposiu
 m
URL:http://www.wikicfp.com/cfp/servlet/event.showcfp?eventid=5985&copyown
 erid=8294
UID:cfp61723-N@wikicfp.com
END:VEVENT
BEGIN:VEVENT
DTSTAMP:20260424T142504Z
DTSTART;VALUE=DATE:20100426
DTEND;VALUE=DATE:20100501
SUMMARY:WWW 2010
DESCRIPTION:World Wide Web Conference 2010
URL:http://www.wikicfp.com/cfp/servlet/event.showcfp?eventid=6181&copyown
 erid=8294
UID:cfp61719-E@wikicfp.com
END:VEVENT
BEGIN:VEVENT
DTSTAMP:20260424T142504Z
DTSTART;VALUE=DATE:20091026
SUMMARY:WWW 2010 Abstract Due
DESCRIPTION:World Wide Web Conference 2010
URL:http://www.wikicfp.com/cfp/servlet/event.showcfp?eventid=6181&copyown
 erid=8294
UID:cfp61719-A@wikicfp.com
END:VEVENT
BEGIN:VEVENT
DTSTAMP:20260424T142504Z
DTSTART;VALUE=DATE:20091102
SUMMARY:WWW 2010 Deadline
DESCRIPTION:World Wide Web Conference 2010
URL:http://www.wikicfp.com/cfp/servlet/event.showcfp?eventid=6181&copyown
 erid=8294
UID:cfp61719-D@wikicfp.com
END:VEVENT
BEGIN:VEVENT
DTSTAMP:20260424T142504Z
DTSTART;VALUE=DATE:20100122
SUMMARY:WWW 2010 Notification Due
DESCRIPTION:World Wide Web Conference 2010
URL:http://www.wikicfp.com/cfp/servlet/event.showcfp?eventid=6181&copyown
 erid=8294
UID:cfp61719-N@wikicfp.com
END:VEVENT
BEGIN:VEVENT
DTSTAMP:20260424T142504Z
DTSTART;VALUE=DATE:20100621
DTEND;VALUE=DATE:20100626
SUMMARY:HPDC 2010
DESCRIPTION:19th International Symposium on  High Performance Distributed
  Computing
URL:http://www.wikicfp.com/cfp/servlet/event.showcfp?eventid=6834&copyown
 erid=8294
UID:cfp61727-E@wikicfp.com
END:VEVENT
BEGIN:VEVENT
DTSTAMP:20260424T142504Z
DTSTART;VALUE=DATE:20100115
SUMMARY:HPDC 2010 Abstract Due
DESCRIPTION:19th International Symposium on  High Performance Distributed
  Computing
URL:http://www.wikicfp.com/cfp/servlet/event.showcfp?eventid=6834&copyown
 erid=8294
UID:cfp61727-A@wikicfp.com
END:VEVENT
BEGIN:VEVENT
DTSTAMP:20260424T142504Z
DTSTART;VALUE=DATE:20100122
SUMMARY:HPDC 2010 Deadline
DESCRIPTION:19th International Symposium on  High Performance Distributed
  Computing
URL:http://www.wikicfp.com/cfp/servlet/event.showcfp?eventid=6834&copyown
 erid=8294
UID:cfp61727-D@wikicfp.com
END:VEVENT
BEGIN:VEVENT
DTSTAMP:20260424T142504Z
DTSTART;VALUE=DATE:20100330
SUMMARY:HPDC 2010 Notification Due
DESCRIPTION:19th International Symposium on  High Performance Distributed
  Computing
URL:http://www.wikicfp.com/cfp/servlet/event.showcfp?eventid=6834&copyown
 erid=8294
UID:cfp61727-N@wikicfp.com
END:VEVENT
BEGIN:VEVENT
DTSTAMP:20260424T142504Z
DTSTART;VALUE=DATE:20100423
SUMMARY:HPDC 2010 Final Version Due
DESCRIPTION:19th International Symposium on  High Performance Distributed
  Computing
URL:http://www.wikicfp.com/cfp/servlet/event.showcfp?eventid=6834&copyown
 erid=8294
UID:cfp61727-N@wikicfp.com
END:VEVENT
BEGIN:VEVENT
DTSTAMP:20260424T142504Z
DTSTART;VALUE=DATE:20100705
DTEND;VALUE=DATE:20100711
SUMMARY:ICWS 2010
DESCRIPTION:The 8th IEEE International Conference on Web Services
URL:http://www.wikicfp.com/cfp/servlet/event.showcfp?eventid=7326&copyown
 erid=8294
UID:cfp61720-E@wikicfp.com
END:VEVENT
BEGIN:VEVENT
DTSTAMP:20260424T142504Z
DTSTART;VALUE=DATE:20100201
SUMMARY:ICWS 2010 Deadline
DESCRIPTION:The 8th IEEE International Conference on Web Services
URL:http://www.wikicfp.com/cfp/servlet/event.showcfp?eventid=7326&copyown
 erid=8294
UID:cfp61720-D@wikicfp.com
END:VEVENT
BEGIN:VEVENT
DTSTAMP:20260424T142504Z
DTSTART;VALUE=DATE:20100613
DTEND;VALUE=DATE:20100617
SUMMARY:Hypertext 2010
DESCRIPTION:21st ACM Conference on Hypertext and Hypermedia
URL:http://www.wikicfp.com/cfp/servlet/event.showcfp?eventid=6761&copyown
 erid=8294
UID:cfp61725-E@wikicfp.com
END:VEVENT
BEGIN:VEVENT
DTSTAMP:20260424T142504Z
DTSTART;VALUE=DATE:20100214
SUMMARY:Hypertext 2010 Deadline
DESCRIPTION:21st ACM Conference on Hypertext and Hypermedia
URL:http://www.wikicfp.com/cfp/servlet/event.showcfp?eventid=6761&copyown
 erid=8294
UID:cfp61725-D@wikicfp.com
END:VEVENT
BEGIN:VEVENT
DTSTAMP:20260424T142504Z
DTSTART;VALUE=DATE:20100322
SUMMARY:Hypertext 2010 Notification Due
DESCRIPTION:21st ACM Conference on Hypertext and Hypermedia
URL:http://www.wikicfp.com/cfp/servlet/event.showcfp?eventid=6761&copyown
 erid=8294
UID:cfp61725-N@wikicfp.com
END:VEVENT
BEGIN:VEVENT
DTSTAMP:20260424T142504Z
DTSTART;VALUE=DATE:20100501
SUMMARY:Hypertext 2010 Final Version Due
DESCRIPTION:21st ACM Conference on Hypertext and Hypermedia
URL:http://www.wikicfp.com/cfp/servlet/event.showcfp?eventid=6761&copyown
 erid=8294
UID:cfp61725-N@wikicfp.com
END:VEVENT
BEGIN:VEVENT
DTSTAMP:20260424T142504Z
DTSTART;VALUE=DATE:20100913
DTEND;VALUE=DATE:20100918
SUMMARY:VLDB 2010
DESCRIPTION:36th International Conference on Very Large Data Bases
URL:http://www.wikicfp.com/cfp/servlet/event.showcfp?eventid=6568&copyown
 erid=8294
UID:cfp61717-E@wikicfp.com
END:VEVENT
BEGIN:VEVENT
DTSTAMP:20260424T142504Z
DTSTART;VALUE=DATE:20100301
SUMMARY:VLDB 2010 Abstract Due
DESCRIPTION:36th International Conference on Very Large Data Bases
URL:http://www.wikicfp.com/cfp/servlet/event.showcfp?eventid=6568&copyown
 erid=8294
UID:cfp61717-A@wikicfp.com
END:VEVENT
BEGIN:VEVENT
DTSTAMP:20260424T142504Z
DTSTART;VALUE=DATE:20100309
SUMMARY:VLDB 2010 Deadline
DESCRIPTION:36th International Conference on Very Large Data Bases
URL:http://www.wikicfp.com/cfp/servlet/event.showcfp?eventid=6568&copyown
 erid=8294
UID:cfp61717-D@wikicfp.com
END:VEVENT
BEGIN:VEVENT
DTSTAMP:20260424T142504Z
DTSTART;VALUE=DATE:20100612
SUMMARY:VLDB 2010 Notification Due
DESCRIPTION:36th International Conference on Very Large Data Bases
URL:http://www.wikicfp.com/cfp/servlet/event.showcfp?eventid=6568&copyown
 erid=8294
UID:cfp61717-N@wikicfp.com
END:VEVENT
BEGIN:VEVENT
DTSTAMP:20260424T142504Z
DTSTART;VALUE=DATE:20100711
SUMMARY:VLDB 2010 Final Version Due
DESCRIPTION:36th International Conference on Very Large Data Bases
URL:http://www.wikicfp.com/cfp/servlet/event.showcfp?eventid=6568&copyown
 erid=8294
UID:cfp61717-N@wikicfp.com
END:VEVENT
BEGIN:VEVENT
DTSTAMP:20260424T142504Z
DTSTART;VALUE=DATE:20101004
DTEND;VALUE=DATE:20101007
SUMMARY:OSDI 2010
DESCRIPTION:9th USENIX Symposium on Operating Systems Design and Implemen
 tation 
URL:http://www.wikicfp.com/cfp/servlet/event.showcfp?eventid=6667&copyown
 erid=8294
UID:cfp61721-E@wikicfp.com
END:VEVENT
BEGIN:VEVENT
DTSTAMP:20260424T142504Z
DTSTART;VALUE=DATE:20100507
SUMMARY:OSDI 2010 Deadline
DESCRIPTION:9th USENIX Symposium on Operating Systems Design and Implemen
 tation 
URL:http://www.wikicfp.com/cfp/servlet/event.showcfp?eventid=6667&copyown
 erid=8294
UID:cfp61721-D@wikicfp.com
END:VEVENT
BEGIN:VEVENT
DTSTAMP:20260424T142504Z
DTSTART;VALUE=DATE:20100720
SUMMARY:OSDI 2010 Notification Due
DESCRIPTION:9th USENIX Symposium on Operating Systems Design and Implemen
 tation 
URL:http://www.wikicfp.com/cfp/servlet/event.showcfp?eventid=6667&copyown
 erid=8294
UID:cfp61721-N@wikicfp.com
END:VEVENT
BEGIN:VEVENT
DTSTAMP:20260424T142504Z
DTSTART;VALUE=DATE:20100831
SUMMARY:OSDI 2010 Final Version Due
DESCRIPTION:9th USENIX Symposium on Operating Systems Design and Implemen
 tation 
URL:http://www.wikicfp.com/cfp/servlet/event.showcfp?eventid=6667&copyown
 erid=8294
UID:cfp61721-N@wikicfp.com
END:VEVENT
BEGIN:VEVENT
DTSTAMP:20260424T142504Z
DTSTART;VALUE=DATE:20111023
DTEND;VALUE=DATE:20111027
SUMMARY:SOSP 2011
DESCRIPTION:23rd ACM Symposium on Operating Systems Principles (SOSP)
URL:http://www.wikicfp.com/cfp/servlet/event.showcfp?eventid=4029&copyown
 erid=8294
UID:cfp61722-E@wikicfp.com
END:VEVENT
BEGIN:VEVENT
DTSTAMP:20260424T142504Z
DTSTART;VALUE=DATE:20110311
SUMMARY:SOSP 2011 Abstract Due
DESCRIPTION:23rd ACM Symposium on Operating Systems Principles (SOSP)
URL:http://www.wikicfp.com/cfp/servlet/event.showcfp?eventid=4029&copyown
 erid=8294
UID:cfp61722-A@wikicfp.com
END:VEVENT
BEGIN:VEVENT
DTSTAMP:20260424T142504Z
DTSTART;VALUE=DATE:20110318
SUMMARY:SOSP 2011 Deadline
DESCRIPTION:23rd ACM Symposium on Operating Systems Principles (SOSP)
URL:http://www.wikicfp.com/cfp/servlet/event.showcfp?eventid=4029&copyown
 erid=8294
UID:cfp61722-D@wikicfp.com
END:VEVENT
BEGIN:VEVENT
DTSTAMP:20260424T142504Z
DTSTART;VALUE=DATE:20110630
SUMMARY:SOSP 2011 Notification Due
DESCRIPTION:23rd ACM Symposium on Operating Systems Principles (SOSP)
URL:http://www.wikicfp.com/cfp/servlet/event.showcfp?eventid=4029&copyown
 erid=8294
UID:cfp61722-N@wikicfp.com
END:VEVENT
BEGIN:VEVENT
DTSTAMP:20260424T142504Z
DTSTART;VALUE=DATE:20110815
SUMMARY:SOSP 2011 Final Version Due
DESCRIPTION:23rd ACM Symposium on Operating Systems Principles (SOSP)
URL:http://www.wikicfp.com/cfp/servlet/event.showcfp?eventid=4029&copyown
 erid=8294
UID:cfp61722-N@wikicfp.com
END:VEVENT
END:VCALENDAR
