BEGIN:VCALENDAR
PRODID:-//WikiCFP//Parulian17 1.0//EN
VERSION:2.0
CALSCALE:GREGORIAN
BEGIN:VEVENT
DTSTAMP:20260420T151526Z
DTSTART;VALUE=DATE:20160118
DTEND;VALUE=DATE:20160119
SUMMARY:ADAPT 2016
DESCRIPTION:The 6th International Workshop on Adaptive Self-tuning Comput
 ing Systems
URL:http://www.wikicfp.com/cfp/servlet/event.showcfp?eventid=48173&copyow
 nerid=82576
UID:cfp559508-E@wikicfp.com
END:VEVENT
BEGIN:VEVENT
DTSTAMP:20260420T151526Z
DTSTART;VALUE=DATE:20151030
SUMMARY:ADAPT 2016 Deadline
DESCRIPTION:The 6th International Workshop on Adaptive Self-tuning Comput
 ing Systems
URL:http://www.wikicfp.com/cfp/servlet/event.showcfp?eventid=48173&copyow
 nerid=82576
UID:cfp559508-D@wikicfp.com
END:VEVENT
BEGIN:VEVENT
DTSTAMP:20260420T151526Z
DTSTART;VALUE=DATE:20151127
SUMMARY:ADAPT 2016 Notification Due
DESCRIPTION:The 6th International Workshop on Adaptive Self-tuning Comput
 ing Systems
URL:http://www.wikicfp.com/cfp/servlet/event.showcfp?eventid=48173&copyow
 nerid=82576
UID:cfp559508-N@wikicfp.com
END:VEVENT
BEGIN:VEVENT
DTSTAMP:20260420T151526Z
DTSTART;VALUE=DATE:20160427
DTEND;VALUE=DATE:20160430
SUMMARY:Advances in Learning with Kernels@ESANN 2016
DESCRIPTION:Special session - Advances in Learning with Kernels: Theory a
 nd Practice in a World of growing Constraints
URL:http://www.wikicfp.com/cfp/servlet/event.showcfp?eventid=48331&copyow
 nerid=82576
UID:cfp559510-E@wikicfp.com
END:VEVENT
BEGIN:VEVENT
DTSTAMP:20260420T151526Z
DTSTART;VALUE=DATE:20151120
SUMMARY:Advances in Learning with Kernels@ESANN 2016 Deadline
DESCRIPTION:Special session - Advances in Learning with Kernels: Theory a
 nd Practice in a World of growing Constraints
URL:http://www.wikicfp.com/cfp/servlet/event.showcfp?eventid=48331&copyow
 nerid=82576
UID:cfp559510-D@wikicfp.com
END:VEVENT
BEGIN:VEVENT
DTSTAMP:20260420T151526Z
DTSTART;VALUE=DATE:20151130
SUMMARY:SI-SCSE 2015 Deadline
DESCRIPTION:A special issue dedicated to Soft Computing in Software Engin
 eering
URL:http://www.wikicfp.com/cfp/servlet/event.showcfp?eventid=47024&copyow
 nerid=82576
UID:cfp559511-D@wikicfp.com
END:VEVENT
BEGIN:VEVENT
DTSTAMP:20260420T151526Z
DTSTART;VALUE=DATE:20160311
DTEND;VALUE=DATE:20160312
SUMMARY:IWSPA 2016
DESCRIPTION:International Workshop on Security And Privacy Analytics - 20
 16
URL:http://www.wikicfp.com/cfp/servlet/event.showcfp?eventid=49057&copyow
 nerid=82576
UID:cfp559512-E@wikicfp.com
END:VEVENT
BEGIN:VEVENT
DTSTAMP:20260420T151526Z
DTSTART;VALUE=DATE:20151201
SUMMARY:IWSPA 2016 Deadline
DESCRIPTION:International Workshop on Security And Privacy Analytics - 20
 16
URL:http://www.wikicfp.com/cfp/servlet/event.showcfp?eventid=49057&copyow
 nerid=82576
UID:cfp559512-D@wikicfp.com
END:VEVENT
BEGIN:VEVENT
DTSTAMP:20260420T151526Z
DTSTART;VALUE=DATE:20151218
SUMMARY:IWSPA 2016 Notification Due
DESCRIPTION:International Workshop on Security And Privacy Analytics - 20
 16
URL:http://www.wikicfp.com/cfp/servlet/event.showcfp?eventid=49057&copyow
 nerid=82576
UID:cfp559512-N@wikicfp.com
END:VEVENT
BEGIN:VEVENT
DTSTAMP:20260420T151526Z
DTSTART;VALUE=DATE:20160108
SUMMARY:IWSPA 2016 Final Version Due
DESCRIPTION:International Workshop on Security And Privacy Analytics - 20
 16
URL:http://www.wikicfp.com/cfp/servlet/event.showcfp?eventid=49057&copyow
 nerid=82576
UID:cfp559512-N@wikicfp.com
END:VEVENT
BEGIN:VEVENT
DTSTAMP:20260420T151526Z
DTSTART;VALUE=DATE:20160222
DTEND;VALUE=DATE:20160224
SUMMARY:ICMLC 2016
DESCRIPTION:2016 8th International Conference on Machine Learning and Com
 puting
URL:http://www.wikicfp.com/cfp/servlet/event.showcfp?eventid=47253&copyow
 nerid=82576
UID:cfp559509-E@wikicfp.com
END:VEVENT
BEGIN:VEVENT
DTSTAMP:20260420T151526Z
DTSTART;VALUE=DATE:20151220
SUMMARY:ICMLC 2016 Deadline
DESCRIPTION:2016 8th International Conference on Machine Learning and Com
 puting
URL:http://www.wikicfp.com/cfp/servlet/event.showcfp?eventid=47253&copyow
 nerid=82576
UID:cfp559509-D@wikicfp.com
END:VEVENT
BEGIN:VEVENT
DTSTAMP:20260420T151526Z
DTSTART;VALUE=DATE:20160330
DTEND;VALUE=DATE:20160331
SUMMARY:SDMA 2016
DESCRIPTION:4rth Symposium on Data Mining Applications (SDMA 2016)
URL:http://www.wikicfp.com/cfp/servlet/event.showcfp?eventid=48990&copyow
 nerid=82576
UID:cfp559513-E@wikicfp.com
END:VEVENT
BEGIN:VEVENT
DTSTAMP:20260420T151526Z
DTSTART;VALUE=DATE:20160101
SUMMARY:SDMA 2016 Deadline
DESCRIPTION:4rth Symposium on Data Mining Applications (SDMA 2016)
URL:http://www.wikicfp.com/cfp/servlet/event.showcfp?eventid=48990&copyow
 nerid=82576
UID:cfp559513-D@wikicfp.com
END:VEVENT
BEGIN:VEVENT
DTSTAMP:20260420T151526Z
DTSTART;VALUE=DATE:20160215
SUMMARY:SDMA 2016 Notification Due
DESCRIPTION:4rth Symposium on Data Mining Applications (SDMA 2016)
URL:http://www.wikicfp.com/cfp/servlet/event.showcfp?eventid=48990&copyow
 nerid=82576
UID:cfp559513-N@wikicfp.com
END:VEVENT
BEGIN:VEVENT
DTSTAMP:20260420T151526Z
DTSTART;VALUE=DATE:20160301
SUMMARY:SDMA 2016 Final Version Due
DESCRIPTION:4rth Symposium on Data Mining Applications (SDMA 2016)
URL:http://www.wikicfp.com/cfp/servlet/event.showcfp?eventid=48990&copyow
 nerid=82576
UID:cfp559513-N@wikicfp.com
END:VEVENT
END:VCALENDAR
