BEGIN:VCALENDAR
PRODID:-//WikiCFP//fayzhong08 1.0//EN
VERSION:2.0
CALSCALE:GREGORIAN
BEGIN:VEVENT
DTSTAMP:20260426T015319Z
DTSTART;VALUE=DATE:20160416
DTEND;VALUE=DATE:20160420
SUMMARY:DASFAA 2016
DESCRIPTION:21st International Conference on Database Systems for Advance
 d Applications 
URL:http://www.wikicfp.com/cfp/servlet/event.showcfp?eventid=47238&copyow
 nerid=81880
UID:cfp554201-E@wikicfp.com
END:VEVENT
BEGIN:VEVENT
DTSTAMP:20260426T015319Z
DTSTART;VALUE=DATE:20151019
SUMMARY:DASFAA 2016 Deadline
DESCRIPTION:21st International Conference on Database Systems for Advance
 d Applications 
URL:http://www.wikicfp.com/cfp/servlet/event.showcfp?eventid=47238&copyow
 nerid=81880
UID:cfp554201-D@wikicfp.com
END:VEVENT
BEGIN:VEVENT
DTSTAMP:20260426T015319Z
DTSTART;VALUE=DATE:20160115
SUMMARY:DASFAA 2016 Notification Due
DESCRIPTION:21st International Conference on Database Systems for Advance
 d Applications 
URL:http://www.wikicfp.com/cfp/servlet/event.showcfp?eventid=47238&copyow
 nerid=81880
UID:cfp554201-N@wikicfp.com
END:VEVENT
BEGIN:VEVENT
DTSTAMP:20260426T015319Z
DTSTART;VALUE=DATE:20160131
SUMMARY:DASFAA 2016 Final Version Due
DESCRIPTION:21st International Conference on Database Systems for Advance
 d Applications 
URL:http://www.wikicfp.com/cfp/servlet/event.showcfp?eventid=47238&copyow
 nerid=81880
UID:cfp554201-N@wikicfp.com
END:VEVENT
END:VCALENDAR
