BEGIN:VCALENDAR
PRODID:-//WikiCFP//fox3c 1.0//EN
VERSION:2.0
CALSCALE:GREGORIAN
BEGIN:VEVENT
DTSTAMP:20260423T083313Z
DTSTART;VALUE=DATE:20160321
DTEND;VALUE=DATE:20160326
SUMMARY:CogSIMA 2016
DESCRIPTION:2016 IEEE International Multi-Disciplinary Conference on Cogn
 itive Methods in Situation Awareness and Decision Support
URL:http://www.wikicfp.com/cfp/servlet/event.showcfp?eventid=46727&copyow
 nerid=81780
UID:cfp553675-E@wikicfp.com
END:VEVENT
BEGIN:VEVENT
DTSTAMP:20260423T083313Z
DTSTART;VALUE=DATE:20151005
SUMMARY:CogSIMA 2016 Deadline
DESCRIPTION:2016 IEEE International Multi-Disciplinary Conference on Cogn
 itive Methods in Situation Awareness and Decision Support
URL:http://www.wikicfp.com/cfp/servlet/event.showcfp?eventid=46727&copyow
 nerid=81780
UID:cfp553675-D@wikicfp.com
END:VEVENT
BEGIN:VEVENT
DTSTAMP:20260423T083313Z
DTSTART;VALUE=DATE:20151130
SUMMARY:CogSIMA 2016 Notification Due
DESCRIPTION:2016 IEEE International Multi-Disciplinary Conference on Cogn
 itive Methods in Situation Awareness and Decision Support
URL:http://www.wikicfp.com/cfp/servlet/event.showcfp?eventid=46727&copyow
 nerid=81780
UID:cfp553675-N@wikicfp.com
END:VEVENT
BEGIN:VEVENT
DTSTAMP:20260423T083313Z
DTSTART;VALUE=DATE:20160122
SUMMARY:CogSIMA 2016 Final Version Due
DESCRIPTION:2016 IEEE International Multi-Disciplinary Conference on Cogn
 itive Methods in Situation Awareness and Decision Support
URL:http://www.wikicfp.com/cfp/servlet/event.showcfp?eventid=46727&copyow
 nerid=81780
UID:cfp553675-N@wikicfp.com
END:VEVENT
BEGIN:VEVENT
DTSTAMP:20260423T083313Z
DTSTART;VALUE=DATE:20160307
DTEND;VALUE=DATE:20160311
SUMMARY:IUI  2016
DESCRIPTION:ACM International Conference on Intelligent User Interfaces
URL:http://www.wikicfp.com/cfp/servlet/event.showcfp?eventid=45655&copyow
 nerid=81780
UID:cfp553676-E@wikicfp.com
END:VEVENT
BEGIN:VEVENT
DTSTAMP:20260423T083313Z
DTSTART;VALUE=DATE:20151014
SUMMARY:IUI  2016 Deadline
DESCRIPTION:ACM International Conference on Intelligent User Interfaces
URL:http://www.wikicfp.com/cfp/servlet/event.showcfp?eventid=45655&copyow
 nerid=81780
UID:cfp553676-D@wikicfp.com
END:VEVENT
BEGIN:VEVENT
DTSTAMP:20260423T083313Z
DTSTART;VALUE=DATE:20160516
DTEND;VALUE=DATE:20160519
SUMMARY:FLAIRS 2016
DESCRIPTION:The 29th International FLAIRS Conference 
URL:http://www.wikicfp.com/cfp/servlet/event.showcfp?eventid=48199&copyow
 nerid=81780
UID:cfp553677-E@wikicfp.com
END:VEVENT
BEGIN:VEVENT
DTSTAMP:20260423T083313Z
DTSTART;VALUE=DATE:20151116
SUMMARY:FLAIRS 2016 Deadline
DESCRIPTION:The 29th International FLAIRS Conference 
URL:http://www.wikicfp.com/cfp/servlet/event.showcfp?eventid=48199&copyow
 nerid=81780
UID:cfp553677-D@wikicfp.com
END:VEVENT
BEGIN:VEVENT
DTSTAMP:20260423T083313Z
DTSTART;VALUE=DATE:20160118
SUMMARY:FLAIRS 2016 Notification Due
DESCRIPTION:The 29th International FLAIRS Conference 
URL:http://www.wikicfp.com/cfp/servlet/event.showcfp?eventid=48199&copyow
 nerid=81780
UID:cfp553677-N@wikicfp.com
END:VEVENT
BEGIN:VEVENT
DTSTAMP:20260423T083313Z
DTSTART;VALUE=DATE:20160222
SUMMARY:FLAIRS 2016 Final Version Due
DESCRIPTION:The 29th International FLAIRS Conference 
URL:http://www.wikicfp.com/cfp/servlet/event.showcfp?eventid=48199&copyow
 nerid=81780
UID:cfp553677-N@wikicfp.com
END:VEVENT
BEGIN:VEVENT
DTSTAMP:20260423T083313Z
DTSTART;VALUE=DATE:20160709
DTEND;VALUE=DATE:20160722
SUMMARY:MLDM 2016
DESCRIPTION:Machine Learning and Data Mining in Pattern Recognition
URL:http://www.wikicfp.com/cfp/servlet/event.showcfp?eventid=46140&copyow
 nerid=81780
UID:cfp553674-E@wikicfp.com
END:VEVENT
BEGIN:VEVENT
DTSTAMP:20260423T083313Z
DTSTART;VALUE=DATE:20160116
SUMMARY:MLDM 2016 Deadline
DESCRIPTION:Machine Learning and Data Mining in Pattern Recognition
URL:http://www.wikicfp.com/cfp/servlet/event.showcfp?eventid=46140&copyow
 nerid=81780
UID:cfp553674-D@wikicfp.com
END:VEVENT
BEGIN:VEVENT
DTSTAMP:20260423T083313Z
DTSTART;VALUE=DATE:20160318
SUMMARY:MLDM 2016 Notification Due
DESCRIPTION:Machine Learning and Data Mining in Pattern Recognition
URL:http://www.wikicfp.com/cfp/servlet/event.showcfp?eventid=46140&copyow
 nerid=81780
UID:cfp553674-N@wikicfp.com
END:VEVENT
BEGIN:VEVENT
DTSTAMP:20260423T083313Z
DTSTART;VALUE=DATE:20160505
SUMMARY:MLDM 2016 Final Version Due
DESCRIPTION:Machine Learning and Data Mining in Pattern Recognition
URL:http://www.wikicfp.com/cfp/servlet/event.showcfp?eventid=46140&copyow
 nerid=81780
UID:cfp553674-N@wikicfp.com
END:VEVENT
BEGIN:VEVENT
DTSTAMP:20260423T083313Z
DTSTART;VALUE=DATE:20160813
DTEND;VALUE=DATE:20160818
SUMMARY:KDD 2016
DESCRIPTION:22nd ACM SIGKDD international conference on knowledge discove
 ry and data mining
URL:http://www.wikicfp.com/cfp/servlet/event.showcfp?eventid=48652&copyow
 nerid=81780
UID:cfp553678-E@wikicfp.com
END:VEVENT
BEGIN:VEVENT
DTSTAMP:20260423T083313Z
DTSTART;VALUE=DATE:20160212
SUMMARY:KDD 2016 Deadline
DESCRIPTION:22nd ACM SIGKDD international conference on knowledge discove
 ry and data mining
URL:http://www.wikicfp.com/cfp/servlet/event.showcfp?eventid=48652&copyow
 nerid=81780
UID:cfp553678-D@wikicfp.com
END:VEVENT
BEGIN:VEVENT
DTSTAMP:20260423T083313Z
DTSTART;VALUE=DATE:20190609
DTEND;VALUE=DATE:20190612
SUMMARY:ICIBM 2019
DESCRIPTION:2019 International Conference on Intelligent Biology and Medi
 cine (ICIBM 2019) Call for Papers
URL:http://www.wikicfp.com/cfp/servlet/event.showcfp?eventid=84147&copyow
 nerid=81780
UID:cfp767740-E@wikicfp.com
END:VEVENT
BEGIN:VEVENT
DTSTAMP:20260423T083313Z
DTSTART;VALUE=DATE:20190330
SUMMARY:ICIBM 2019 Abstract Due
DESCRIPTION:2019 International Conference on Intelligent Biology and Medi
 cine (ICIBM 2019) Call for Papers
URL:http://www.wikicfp.com/cfp/servlet/event.showcfp?eventid=84147&copyow
 nerid=81780
UID:cfp767740-A@wikicfp.com
END:VEVENT
BEGIN:VEVENT
DTSTAMP:20260423T083313Z
DTSTART;VALUE=DATE:20190216
SUMMARY:ICIBM 2019 Deadline
DESCRIPTION:2019 International Conference on Intelligent Biology and Medi
 cine (ICIBM 2019) Call for Papers
URL:http://www.wikicfp.com/cfp/servlet/event.showcfp?eventid=84147&copyow
 nerid=81780
UID:cfp767740-D@wikicfp.com
END:VEVENT
BEGIN:VEVENT
DTSTAMP:20260423T083313Z
DTSTART;VALUE=DATE:20190323
SUMMARY:ICIBM 2019 Notification Due
DESCRIPTION:2019 International Conference on Intelligent Biology and Medi
 cine (ICIBM 2019) Call for Papers
URL:http://www.wikicfp.com/cfp/servlet/event.showcfp?eventid=84147&copyow
 nerid=81780
UID:cfp767740-N@wikicfp.com
END:VEVENT
BEGIN:VEVENT
DTSTAMP:20260423T083313Z
DTSTART;VALUE=DATE:20190609
SUMMARY:ICIBM 2019 Final Version Due
DESCRIPTION:2019 International Conference on Intelligent Biology and Medi
 cine (ICIBM 2019) Call for Papers
URL:http://www.wikicfp.com/cfp/servlet/event.showcfp?eventid=84147&copyow
 nerid=81780
UID:cfp767740-N@wikicfp.com
END:VEVENT
BEGIN:VEVENT
DTSTAMP:20260423T083313Z
DTSTART;VALUE=DATE:20190616
DTEND;VALUE=DATE:20190620
SUMMARY:Bled: Big Data/Data Science Track  2019
DESCRIPTION:32nd Bled eConference : Humanizing Technology for a Sustainab
 le Society (Big Data/Data Science Track) 
URL:http://www.wikicfp.com/cfp/servlet/event.showcfp?eventid=82280&copyow
 nerid=81780
UID:cfp767743-E@wikicfp.com
END:VEVENT
BEGIN:VEVENT
DTSTAMP:20260423T083313Z
DTSTART;VALUE=DATE:20190304
SUMMARY:Bled: Big Data/Data Science Track  2019 Deadline
DESCRIPTION:32nd Bled eConference : Humanizing Technology for a Sustainab
 le Society (Big Data/Data Science Track) 
URL:http://www.wikicfp.com/cfp/servlet/event.showcfp?eventid=82280&copyow
 nerid=81780
UID:cfp767743-D@wikicfp.com
END:VEVENT
BEGIN:VEVENT
DTSTAMP:20260423T083313Z
DTSTART;VALUE=DATE:20190418
SUMMARY:Bled: Big Data/Data Science Track  2019 Notification Due
DESCRIPTION:32nd Bled eConference : Humanizing Technology for a Sustainab
 le Society (Big Data/Data Science Track) 
URL:http://www.wikicfp.com/cfp/servlet/event.showcfp?eventid=82280&copyow
 nerid=81780
UID:cfp767743-N@wikicfp.com
END:VEVENT
BEGIN:VEVENT
DTSTAMP:20260423T083313Z
DTSTART;VALUE=DATE:20181219
SUMMARY:Bled: Big Data/Data Science Track  2019 Final Version Due
DESCRIPTION:32nd Bled eConference : Humanizing Technology for a Sustainab
 le Society (Big Data/Data Science Track) 
URL:http://www.wikicfp.com/cfp/servlet/event.showcfp?eventid=82280&copyow
 nerid=81780
UID:cfp767743-N@wikicfp.com
END:VEVENT
END:VCALENDAR
