BEGIN:VCALENDAR
PRODID:-//WikiCFP//meda 1.0//EN
VERSION:2.0
CALSCALE:GREGORIAN
BEGIN:VEVENT
DTSTAMP:20260419T182507Z
DTSTART;VALUE=DATE:20151130
SUMMARY:AIP Special Issue 2015 Deadline
DESCRIPTION:Journal Acta Informatica Pragensia - Special Issue on Securit
 y
URL:http://www.wikicfp.com/cfp/servlet/event.showcfp?eventid=48850&copyow
 nerid=81703
UID:cfp557441-D@wikicfp.com
END:VEVENT
BEGIN:VEVENT
DTSTAMP:20260419T182507Z
DTSTART;VALUE=DATE:20151231
SUMMARY:AIP Special Issue 2015 Final Version Due
DESCRIPTION:Journal Acta Informatica Pragensia - Special Issue on Securit
 y
URL:http://www.wikicfp.com/cfp/servlet/event.showcfp?eventid=48850&copyow
 nerid=81703
UID:cfp557441-N@wikicfp.com
END:VEVENT
BEGIN:VEVENT
DTSTAMP:20260419T182507Z
DTSTART;VALUE=DATE:20151201
SUMMARY:ANSASA 2015 Deadline
DESCRIPTION: Advances in Networking Systems Architectures\, Security\, an
 d Applications 
URL:http://www.wikicfp.com/cfp/servlet/event.showcfp?eventid=48724&copyow
 nerid=81703
UID:cfp555005-D@wikicfp.com
END:VEVENT
BEGIN:VEVENT
DTSTAMP:20260419T182507Z
DTSTART;VALUE=DATE:20160202
SUMMARY:ANSASA 2015 Notification Due
DESCRIPTION: Advances in Networking Systems Architectures\, Security\, an
 d Applications 
URL:http://www.wikicfp.com/cfp/servlet/event.showcfp?eventid=48724&copyow
 nerid=81703
UID:cfp555005-N@wikicfp.com
END:VEVENT
BEGIN:VEVENT
DTSTAMP:20260419T182507Z
DTSTART;VALUE=DATE:20160215
SUMMARY:ANSASA 2015 Final Version Due
DESCRIPTION: Advances in Networking Systems Architectures\, Security\, an
 d Applications 
URL:http://www.wikicfp.com/cfp/servlet/event.showcfp?eventid=48724&copyow
 nerid=81703
UID:cfp555005-N@wikicfp.com
END:VEVENT
BEGIN:VEVENT
DTSTAMP:20260419T182507Z
DTSTART;VALUE=DATE:20151218
SUMMARY:IJASUC 2015 Deadline
DESCRIPTION:International Journal of Ad hoc\, sensor & Ubiquitous Computi
 ng
URL:http://www.wikicfp.com/cfp/servlet/event.showcfp?eventid=42696&copyow
 nerid=81703
UID:cfp557464-D@wikicfp.com
END:VEVENT
BEGIN:VEVENT
DTSTAMP:20260419T182507Z
DTSTART;VALUE=DATE:20160118
SUMMARY:IJASUC 2015 Notification Due
DESCRIPTION:International Journal of Ad hoc\, sensor & Ubiquitous Computi
 ng
URL:http://www.wikicfp.com/cfp/servlet/event.showcfp?eventid=42696&copyow
 nerid=81703
UID:cfp557464-N@wikicfp.com
END:VEVENT
BEGIN:VEVENT
DTSTAMP:20260419T182507Z
DTSTART;VALUE=DATE:20160126
SUMMARY:IJASUC 2015 Final Version Due
DESCRIPTION:International Journal of Ad hoc\, sensor & Ubiquitous Computi
 ng
URL:http://www.wikicfp.com/cfp/servlet/event.showcfp?eventid=42696&copyow
 nerid=81703
UID:cfp557464-N@wikicfp.com
END:VEVENT
BEGIN:VEVENT
DTSTAMP:20260419T182507Z
DTSTART;VALUE=DATE:20151225
SUMMARY:IJESA 2015 Deadline
DESCRIPTION:International Journal of Embedded Systems and Applications
URL:http://www.wikicfp.com/cfp/servlet/event.showcfp?eventid=42729&copyow
 nerid=81703
UID:cfp557440-D@wikicfp.com
END:VEVENT
BEGIN:VEVENT
DTSTAMP:20260419T182507Z
DTSTART;VALUE=DATE:20160125
SUMMARY:IJESA 2015 Notification Due
DESCRIPTION:International Journal of Embedded Systems and Applications
URL:http://www.wikicfp.com/cfp/servlet/event.showcfp?eventid=42729&copyow
 nerid=81703
UID:cfp557440-N@wikicfp.com
END:VEVENT
BEGIN:VEVENT
DTSTAMP:20260419T182507Z
DTSTART;VALUE=DATE:20160202
SUMMARY:IJESA 2015 Final Version Due
DESCRIPTION:International Journal of Embedded Systems and Applications
URL:http://www.wikicfp.com/cfp/servlet/event.showcfp?eventid=42729&copyow
 nerid=81703
UID:cfp557440-N@wikicfp.com
END:VEVENT
BEGIN:VEVENT
DTSTAMP:20260419T182507Z
DTSTART;VALUE=DATE:20160109
SUMMARY:IJCACS 2016 Deadline
DESCRIPTION:International Journal of Control\, Automation\, Communication
  and Systems
URL:http://www.wikicfp.com/cfp/servlet/event.showcfp?eventid=43501&copyow
 nerid=81703
UID:cfp557500-D@wikicfp.com
END:VEVENT
BEGIN:VEVENT
DTSTAMP:20260419T182507Z
DTSTART;VALUE=DATE:20160209
SUMMARY:IJCACS 2016 Notification Due
DESCRIPTION:International Journal of Control\, Automation\, Communication
  and Systems
URL:http://www.wikicfp.com/cfp/servlet/event.showcfp?eventid=43501&copyow
 nerid=81703
UID:cfp557500-N@wikicfp.com
END:VEVENT
BEGIN:VEVENT
DTSTAMP:20260419T182507Z
DTSTART;VALUE=DATE:20160217
SUMMARY:IJCACS 2016 Final Version Due
DESCRIPTION:International Journal of Control\, Automation\, Communication
  and Systems
URL:http://www.wikicfp.com/cfp/servlet/event.showcfp?eventid=43501&copyow
 nerid=81703
UID:cfp557500-N@wikicfp.com
END:VEVENT
BEGIN:VEVENT
DTSTAMP:20260419T182507Z
DTSTART;VALUE=DATE:20160115
SUMMARY:MTAP SI MSNSA 2015 Deadline
DESCRIPTION:Springer MTAP Special Issue on Multimedia Social Network Secu
 rity and Applications
URL:http://www.wikicfp.com/cfp/servlet/event.showcfp?eventid=47367&copyow
 nerid=81703
UID:cfp553033-D@wikicfp.com
END:VEVENT
BEGIN:VEVENT
DTSTAMP:20260419T182507Z
DTSTART;VALUE=DATE:20160315
SUMMARY:MTAP SI MSNSA 2015 Notification Due
DESCRIPTION:Springer MTAP Special Issue on Multimedia Social Network Secu
 rity and Applications
URL:http://www.wikicfp.com/cfp/servlet/event.showcfp?eventid=47367&copyow
 nerid=81703
UID:cfp553033-N@wikicfp.com
END:VEVENT
BEGIN:VEVENT
DTSTAMP:20260419T182507Z
DTSTART;VALUE=DATE:20160915
SUMMARY:MTAP SI MSNSA 2015 Final Version Due
DESCRIPTION:Springer MTAP Special Issue on Multimedia Social Network Secu
 rity and Applications
URL:http://www.wikicfp.com/cfp/servlet/event.showcfp?eventid=47367&copyow
 nerid=81703
UID:cfp553033-N@wikicfp.com
END:VEVENT
BEGIN:VEVENT
DTSTAMP:20260419T182507Z
DTSTART;VALUE=DATE:20160305
SUMMARY:AITIJ 2016 Deadline
DESCRIPTION:Advances in Interconnect Technologies: An International Journ
 al
URL:http://www.wikicfp.com/cfp/servlet/event.showcfp?eventid=44516&copyow
 nerid=81703
UID:cfp557488-D@wikicfp.com
END:VEVENT
BEGIN:VEVENT
DTSTAMP:20260419T182507Z
DTSTART;VALUE=DATE:20160405
SUMMARY:AITIJ 2016 Notification Due
DESCRIPTION:Advances in Interconnect Technologies: An International Journ
 al
URL:http://www.wikicfp.com/cfp/servlet/event.showcfp?eventid=44516&copyow
 nerid=81703
UID:cfp557488-N@wikicfp.com
END:VEVENT
BEGIN:VEVENT
DTSTAMP:20260419T182507Z
DTSTART;VALUE=DATE:20160425
SUMMARY:AITIJ 2016 Final Version Due
DESCRIPTION:Advances in Interconnect Technologies: An International Journ
 al
URL:http://www.wikicfp.com/cfp/servlet/event.showcfp?eventid=44516&copyow
 nerid=81703
UID:cfp557488-N@wikicfp.com
END:VEVENT
BEGIN:VEVENT
DTSTAMP:20260419T182507Z
DTSTART;VALUE=DATE:20160528
SUMMARY:IJNGN 2016 Deadline
DESCRIPTION:International Journal of Next - Generation Network
URL:http://www.wikicfp.com/cfp/servlet/event.showcfp?eventid=46347&copyow
 nerid=81703
UID:cfp557453-D@wikicfp.com
END:VEVENT
BEGIN:VEVENT
DTSTAMP:20260419T182507Z
DTSTART;VALUE=DATE:20160628
SUMMARY:IJNGN 2016 Notification Due
DESCRIPTION:International Journal of Next - Generation Network
URL:http://www.wikicfp.com/cfp/servlet/event.showcfp?eventid=46347&copyow
 nerid=81703
UID:cfp557453-N@wikicfp.com
END:VEVENT
BEGIN:VEVENT
DTSTAMP:20260419T182507Z
DTSTART;VALUE=DATE:20160708
SUMMARY:IJNGN 2016 Final Version Due
DESCRIPTION:International Journal of Next - Generation Network
URL:http://www.wikicfp.com/cfp/servlet/event.showcfp?eventid=46347&copyow
 nerid=81703
UID:cfp557453-N@wikicfp.com
END:VEVENT
BEGIN:VEVENT
DTSTAMP:20260419T182507Z
DTSTART;VALUE=DATE:20160625
SUMMARY:GRAPH-HOC 2016 Deadline
DESCRIPTION:International Journal on Applications of Graph Theory in Wire
 less Ad hoc Networks and Sensor Networks 
URL:http://www.wikicfp.com/cfp/servlet/event.showcfp?eventid=46729&copyow
 nerid=81703
UID:cfp557442-D@wikicfp.com
END:VEVENT
BEGIN:VEVENT
DTSTAMP:20260419T182507Z
DTSTART;VALUE=DATE:20160725
SUMMARY:GRAPH-HOC 2016 Notification Due
DESCRIPTION:International Journal on Applications of Graph Theory in Wire
 less Ad hoc Networks and Sensor Networks 
URL:http://www.wikicfp.com/cfp/servlet/event.showcfp?eventid=46729&copyow
 nerid=81703
UID:cfp557442-N@wikicfp.com
END:VEVENT
BEGIN:VEVENT
DTSTAMP:20260419T182507Z
DTSTART;VALUE=DATE:20160803
SUMMARY:GRAPH-HOC 2016 Final Version Due
DESCRIPTION:International Journal on Applications of Graph Theory in Wire
 less Ad hoc Networks and Sensor Networks 
URL:http://www.wikicfp.com/cfp/servlet/event.showcfp?eventid=46729&copyow
 nerid=81703
UID:cfp557442-N@wikicfp.com
END:VEVENT
BEGIN:VEVENT
DTSTAMP:20260419T182507Z
DTSTART;VALUE=DATE:20160709
SUMMARY:IJANS 2016 Deadline
DESCRIPTION:International Journal on AdHoc Networking Systems
URL:http://www.wikicfp.com/cfp/servlet/event.showcfp?eventid=47074&copyow
 nerid=81703
UID:cfp557451-D@wikicfp.com
END:VEVENT
BEGIN:VEVENT
DTSTAMP:20260419T182507Z
DTSTART;VALUE=DATE:20160809
SUMMARY:IJANS 2016 Notification Due
DESCRIPTION:International Journal on AdHoc Networking Systems
URL:http://www.wikicfp.com/cfp/servlet/event.showcfp?eventid=47074&copyow
 nerid=81703
UID:cfp557451-N@wikicfp.com
END:VEVENT
BEGIN:VEVENT
DTSTAMP:20260419T182507Z
DTSTART;VALUE=DATE:20160817
SUMMARY:IJANS 2016 Final Version Due
DESCRIPTION:International Journal on AdHoc Networking Systems
URL:http://www.wikicfp.com/cfp/servlet/event.showcfp?eventid=47074&copyow
 nerid=81703
UID:cfp557451-N@wikicfp.com
END:VEVENT
BEGIN:VEVENT
DTSTAMP:20260419T182507Z
DTSTART;VALUE=DATE:20161023
SUMMARY:IJCACS 2016 Deadline
DESCRIPTION:International Journal of Control\, Automation\, Communication
  and Systems
URL:http://www.wikicfp.com/cfp/servlet/event.showcfp?eventid=48989&copyow
 nerid=81703
UID:cfp557452-D@wikicfp.com
END:VEVENT
BEGIN:VEVENT
DTSTAMP:20260419T182507Z
DTSTART;VALUE=DATE:20161123
SUMMARY:IJCACS 2016 Notification Due
DESCRIPTION:International Journal of Control\, Automation\, Communication
  and Systems
URL:http://www.wikicfp.com/cfp/servlet/event.showcfp?eventid=48989&copyow
 nerid=81703
UID:cfp557452-N@wikicfp.com
END:VEVENT
BEGIN:VEVENT
DTSTAMP:20260419T182507Z
DTSTART;VALUE=DATE:20161130
SUMMARY:IJCACS 2016 Final Version Due
DESCRIPTION:International Journal of Control\, Automation\, Communication
  and Systems
URL:http://www.wikicfp.com/cfp/servlet/event.showcfp?eventid=48989&copyow
 nerid=81703
UID:cfp557452-N@wikicfp.com
END:VEVENT
BEGIN:VEVENT
DTSTAMP:20260419T182507Z
DTSTART;VALUE=DATE:20161112
SUMMARY:IJU 2016 Deadline
DESCRIPTION:International Journal of Ubiquitous Computing
URL:http://www.wikicfp.com/cfp/servlet/event.showcfp?eventid=48868&copyow
 nerid=81703
UID:cfp557487-D@wikicfp.com
END:VEVENT
BEGIN:VEVENT
DTSTAMP:20260419T182507Z
DTSTART;VALUE=DATE:20161212
SUMMARY:IJU 2016 Notification Due
DESCRIPTION:International Journal of Ubiquitous Computing
URL:http://www.wikicfp.com/cfp/servlet/event.showcfp?eventid=48868&copyow
 nerid=81703
UID:cfp557487-N@wikicfp.com
END:VEVENT
BEGIN:VEVENT
DTSTAMP:20260419T182507Z
DTSTART;VALUE=DATE:20161220
SUMMARY:IJU 2016 Final Version Due
DESCRIPTION:International Journal of Ubiquitous Computing
URL:http://www.wikicfp.com/cfp/servlet/event.showcfp?eventid=48868&copyow
 nerid=81703
UID:cfp557487-N@wikicfp.com
END:VEVENT
BEGIN:VEVENT
DTSTAMP:20260419T182507Z
DTSTART;VALUE=DATE:20161112
SUMMARY:IJAIT 2016 Deadline
DESCRIPTION:International Journal of Advanced Information Technology
URL:http://www.wikicfp.com/cfp/servlet/event.showcfp?eventid=48905&copyow
 nerid=81703
UID:cfp557479-D@wikicfp.com
END:VEVENT
BEGIN:VEVENT
DTSTAMP:20260419T182507Z
DTSTART;VALUE=DATE:20161212
SUMMARY:IJAIT 2016 Notification Due
DESCRIPTION:International Journal of Advanced Information Technology
URL:http://www.wikicfp.com/cfp/servlet/event.showcfp?eventid=48905&copyow
 nerid=81703
UID:cfp557479-N@wikicfp.com
END:VEVENT
BEGIN:VEVENT
DTSTAMP:20260419T182507Z
DTSTART;VALUE=DATE:20161220
SUMMARY:IJAIT 2016 Final Version Due
DESCRIPTION:International Journal of Advanced Information Technology
URL:http://www.wikicfp.com/cfp/servlet/event.showcfp?eventid=48905&copyow
 nerid=81703
UID:cfp557479-N@wikicfp.com
END:VEVENT
BEGIN:VEVENT
DTSTAMP:20260419T182507Z
DTSTART;VALUE=DATE:20181030
SUMMARY:IJCS 2018 Deadline
DESCRIPTION:International Journal of Computer Systems
URL:http://www.wikicfp.com/cfp/servlet/event.showcfp?eventid=41213&copyow
 nerid=81703
UID:cfp557133-D@wikicfp.com
END:VEVENT
END:VCALENDAR
