BEGIN:VCALENDAR
PRODID:-//WikiCFP//liweichang 1.0//EN
VERSION:2.0
CALSCALE:GREGORIAN
BEGIN:VEVENT
DTSTAMP:20260421T055733Z
DTSTART;VALUE=DATE:20100315
DTEND;VALUE=DATE:20100320
SUMMARY:ICASSP 2010
DESCRIPTION:IEEE International Conference on Acoustics\, Speech and Signa
 l Processing
URL:http://www.wikicfp.com/cfp/servlet/event.showcfp?eventid=3874&copyown
 erid=8159
UID:cfp61207-E@wikicfp.com
END:VEVENT
BEGIN:VEVENT
DTSTAMP:20260421T055733Z
DTSTART;VALUE=DATE:20090914
SUMMARY:ICASSP 2010 Deadline
DESCRIPTION:IEEE International Conference on Acoustics\, Speech and Signa
 l Processing
URL:http://www.wikicfp.com/cfp/servlet/event.showcfp?eventid=3874&copyown
 erid=8159
UID:cfp61207-D@wikicfp.com
END:VEVENT
BEGIN:VEVENT
DTSTAMP:20260421T055733Z
DTSTART;VALUE=DATE:20091211
SUMMARY:ICASSP 2010 Notification Due
DESCRIPTION:IEEE International Conference on Acoustics\, Speech and Signa
 l Processing
URL:http://www.wikicfp.com/cfp/servlet/event.showcfp?eventid=3874&copyown
 erid=8159
UID:cfp61207-N@wikicfp.com
END:VEVENT
BEGIN:VEVENT
DTSTAMP:20260421T055733Z
DTSTART;VALUE=DATE:20100108
SUMMARY:ICASSP 2010 Final Version Due
DESCRIPTION:IEEE International Conference on Acoustics\, Speech and Signa
 l Processing
URL:http://www.wikicfp.com/cfp/servlet/event.showcfp?eventid=3874&copyown
 erid=8159
UID:cfp61207-N@wikicfp.com
END:VEVENT
BEGIN:VEVENT
DTSTAMP:20260421T055733Z
DTSTART;VALUE=DATE:20100429
DTEND;VALUE=DATE:20100502
SUMMARY:SDM 2010
DESCRIPTION:Tenth SIAM International Conference on Data Mining
URL:http://www.wikicfp.com/cfp/servlet/event.showcfp?eventid=6377&copyown
 erid=8159
UID:cfp61208-E@wikicfp.com
END:VEVENT
BEGIN:VEVENT
DTSTAMP:20260421T055733Z
DTSTART;VALUE=DATE:20091009
SUMMARY:SDM 2010 Deadline
DESCRIPTION:Tenth SIAM International Conference on Data Mining
URL:http://www.wikicfp.com/cfp/servlet/event.showcfp?eventid=6377&copyown
 erid=8159
UID:cfp61208-D@wikicfp.com
END:VEVENT
BEGIN:VEVENT
DTSTAMP:20260421T055733Z
DTSTART;VALUE=DATE:20091215
SUMMARY:SDM 2010 Notification Due
DESCRIPTION:Tenth SIAM International Conference on Data Mining
URL:http://www.wikicfp.com/cfp/servlet/event.showcfp?eventid=6377&copyown
 erid=8159
UID:cfp61208-N@wikicfp.com
END:VEVENT
BEGIN:VEVENT
DTSTAMP:20260421T055733Z
DTSTART;VALUE=DATE:20100125
SUMMARY:SDM 2010 Final Version Due
DESCRIPTION:Tenth SIAM International Conference on Data Mining
URL:http://www.wikicfp.com/cfp/servlet/event.showcfp?eventid=6377&copyown
 erid=8159
UID:cfp61208-N@wikicfp.com
END:VEVENT
BEGIN:VEVENT
DTSTAMP:20260421T055733Z
DTSTART;VALUE=DATE:20100412
DTEND;VALUE=DATE:20100417
SUMMARY:IPSN 2010
DESCRIPTION:The 9th ACM/IEEE International Conference on Information Proc
 essing in Sensor Networks
URL:http://www.wikicfp.com/cfp/servlet/event.showcfp?eventid=6118&copyown
 erid=8159
UID:cfp61209-E@wikicfp.com
END:VEVENT
BEGIN:VEVENT
DTSTAMP:20260421T055733Z
DTSTART;VALUE=DATE:20091023
SUMMARY:IPSN 2010 Abstract Due
DESCRIPTION:The 9th ACM/IEEE International Conference on Information Proc
 essing in Sensor Networks
URL:http://www.wikicfp.com/cfp/servlet/event.showcfp?eventid=6118&copyown
 erid=8159
UID:cfp61209-A@wikicfp.com
END:VEVENT
BEGIN:VEVENT
DTSTAMP:20260421T055733Z
DTSTART;VALUE=DATE:20091030
SUMMARY:IPSN 2010 Deadline
DESCRIPTION:The 9th ACM/IEEE International Conference on Information Proc
 essing in Sensor Networks
URL:http://www.wikicfp.com/cfp/servlet/event.showcfp?eventid=6118&copyown
 erid=8159
UID:cfp61209-D@wikicfp.com
END:VEVENT
BEGIN:VEVENT
DTSTAMP:20260421T055733Z
DTSTART;VALUE=DATE:20100119
SUMMARY:IPSN 2010 Notification Due
DESCRIPTION:The 9th ACM/IEEE International Conference on Information Proc
 essing in Sensor Networks
URL:http://www.wikicfp.com/cfp/servlet/event.showcfp?eventid=6118&copyown
 erid=8159
UID:cfp61209-N@wikicfp.com
END:VEVENT
BEGIN:VEVENT
DTSTAMP:20260421T055733Z
DTSTART;VALUE=DATE:20100219
SUMMARY:IPSN 2010 Final Version Due
DESCRIPTION:The 9th ACM/IEEE International Conference on Information Proc
 essing in Sensor Networks
URL:http://www.wikicfp.com/cfp/servlet/event.showcfp?eventid=6118&copyown
 erid=8159
UID:cfp61209-N@wikicfp.com
END:VEVENT
BEGIN:VEVENT
DTSTAMP:20260421T055733Z
DTSTART;VALUE=DATE:20100614
DTEND;VALUE=DATE:20100617
SUMMARY:CIP 2010
DESCRIPTION:2nd International Workshop on Cognitive Information Processin
 g
URL:http://www.wikicfp.com/cfp/servlet/event.showcfp?eventid=6064&copyown
 erid=8159
UID:cfp61206-E@wikicfp.com
END:VEVENT
BEGIN:VEVENT
DTSTAMP:20260421T055733Z
DTSTART;VALUE=DATE:20100110
SUMMARY:CIP 2010 Deadline
DESCRIPTION:2nd International Workshop on Cognitive Information Processin
 g
URL:http://www.wikicfp.com/cfp/servlet/event.showcfp?eventid=6064&copyown
 erid=8159
UID:cfp61206-D@wikicfp.com
END:VEVENT
BEGIN:VEVENT
DTSTAMP:20260421T055733Z
DTSTART;VALUE=DATE:20100310
SUMMARY:CIP 2010 Notification Due
DESCRIPTION:2nd International Workshop on Cognitive Information Processin
 g
URL:http://www.wikicfp.com/cfp/servlet/event.showcfp?eventid=6064&copyown
 erid=8159
UID:cfp61206-N@wikicfp.com
END:VEVENT
BEGIN:VEVENT
DTSTAMP:20260421T055733Z
DTSTART;VALUE=DATE:20100410
SUMMARY:CIP 2010 Final Version Due
DESCRIPTION:2nd International Workshop on Cognitive Information Processin
 g
URL:http://www.wikicfp.com/cfp/servlet/event.showcfp?eventid=6064&copyown
 erid=8159
UID:cfp61206-N@wikicfp.com
END:VEVENT
BEGIN:VEVENT
DTSTAMP:20260421T055733Z
DTSTART;VALUE=DATE:20100912
DTEND;VALUE=DATE:20100916
SUMMARY:ICIP 2010
DESCRIPTION:17th IEEE International Conference on Image Processing
URL:http://www.wikicfp.com/cfp/servlet/event.showcfp?eventid=3243&copyown
 erid=8159
UID:cfp61203-E@wikicfp.com
END:VEVENT
BEGIN:VEVENT
DTSTAMP:20260421T055733Z
DTSTART;VALUE=DATE:20100125
SUMMARY:ICIP 2010 Deadline
DESCRIPTION:17th IEEE International Conference on Image Processing
URL:http://www.wikicfp.com/cfp/servlet/event.showcfp?eventid=3243&copyown
 erid=8159
UID:cfp61203-D@wikicfp.com
END:VEVENT
BEGIN:VEVENT
DTSTAMP:20260421T055733Z
DTSTART;VALUE=DATE:20100829
DTEND;VALUE=DATE:20100902
SUMMARY:MLSP 2010
DESCRIPTION:Machine learning for Signal Processing Workshop
URL:http://www.wikicfp.com/cfp/servlet/event.showcfp?eventid=6527&copyown
 erid=8159
UID:cfp61204-E@wikicfp.com
END:VEVENT
BEGIN:VEVENT
DTSTAMP:20260421T055733Z
DTSTART;VALUE=DATE:20100411
SUMMARY:MLSP 2010 Deadline
DESCRIPTION:Machine learning for Signal Processing Workshop
URL:http://www.wikicfp.com/cfp/servlet/event.showcfp?eventid=6527&copyown
 erid=8159
UID:cfp61204-D@wikicfp.com
END:VEVENT
BEGIN:VEVENT
DTSTAMP:20260421T055733Z
DTSTART;VALUE=DATE:20100528
SUMMARY:MLSP 2010 Notification Due
DESCRIPTION:Machine learning for Signal Processing Workshop
URL:http://www.wikicfp.com/cfp/servlet/event.showcfp?eventid=6527&copyown
 erid=8159
UID:cfp61204-N@wikicfp.com
END:VEVENT
BEGIN:VEVENT
DTSTAMP:20260421T055733Z
DTSTART;VALUE=DATE:20100618
SUMMARY:MLSP 2010 Final Version Due
DESCRIPTION:Machine learning for Signal Processing Workshop
URL:http://www.wikicfp.com/cfp/servlet/event.showcfp?eventid=6527&copyown
 erid=8159
UID:cfp61204-N@wikicfp.com
END:VEVENT
BEGIN:VEVENT
DTSTAMP:20260421T055733Z
DTSTART;VALUE=DATE:20100927
DTEND;VALUE=DATE:20101001
SUMMARY:LVA/ICA 2010
DESCRIPTION:International Conference on Latent Variable Analysis and Sign
 al Separation
URL:http://www.wikicfp.com/cfp/servlet/event.showcfp?eventid=7487&copyown
 erid=8159
UID:cfp61205-E@wikicfp.com
END:VEVENT
BEGIN:VEVENT
DTSTAMP:20260421T055733Z
DTSTART;VALUE=DATE:20100416
SUMMARY:LVA/ICA 2010 Deadline
DESCRIPTION:International Conference on Latent Variable Analysis and Sign
 al Separation
URL:http://www.wikicfp.com/cfp/servlet/event.showcfp?eventid=7487&copyown
 erid=8159
UID:cfp61205-D@wikicfp.com
END:VEVENT
BEGIN:VEVENT
DTSTAMP:20260421T055733Z
DTSTART;VALUE=DATE:20100615
SUMMARY:LVA/ICA 2010 Notification Due
DESCRIPTION:International Conference on Latent Variable Analysis and Sign
 al Separation
URL:http://www.wikicfp.com/cfp/servlet/event.showcfp?eventid=7487&copyown
 erid=8159
UID:cfp61205-N@wikicfp.com
END:VEVENT
BEGIN:VEVENT
DTSTAMP:20260421T055733Z
DTSTART;VALUE=DATE:20100630
SUMMARY:LVA/ICA 2010 Final Version Due
DESCRIPTION:International Conference on Latent Variable Analysis and Sign
 al Separation
URL:http://www.wikicfp.com/cfp/servlet/event.showcfp?eventid=7487&copyown
 erid=8159
UID:cfp61205-N@wikicfp.com
END:VEVENT
END:VCALENDAR
